BEGIN:VCALENDAR
VERSION:2.0
PRODID:-//EZFacility.com, Inc.//EZL 2.5.5.28621
BEGIN:VEVENT
UID:11119342@ezleagues.ezfacility.com
DTSTAMP:20260426T033749Z
CREATED:20260426T033749Z
DTSTART:20180121T225400Z
DTEND:20180121T234600Z
LOCATION:Field   ID 3
CONTACT:
SUMMARY:Vampire Penguins VS. #Savethecrew
DESCRIPTION:League Name: Winter Indoor 2018  Coed 0pen Coral\nGame Type: Re
 gular\nGame Status: Complete\nHome Team: Vampire Penguins\nAway Team: #Sav
 ethecrew\nHome Score: 3\nAway Score: 9
END:VEVENT
BEGIN:VEVENT
UID:11149229@ezleagues.ezfacility.com
DTSTAMP:20260426T033749Z
CREATED:20260426T033749Z
DTSTART:20180128T211000Z
DTEND:20180128T220200Z
LOCATION:Field   ID 2
CONTACT:
SUMMARY:Vampire Penguins VS. Prestiage Worldwide
DESCRIPTION:League Name: Winter Indoor 2018  Coed 0pen Coral\nGame Type: Re
 gular\nGame Status: Complete\nHome Team: Vampire Penguins\nAway Team: Pres
 tiage Worldwide\nHome Score: 4\nAway Score: 7
END:VEVENT
BEGIN:VEVENT
UID:11149342@ezleagues.ezfacility.com
DTSTAMP:20260426T033749Z
CREATED:20260426T033749Z
DTSTART:20180204T211000Z
DTEND:20180204T220200Z
LOCATION:Field   ID 2
CONTACT:
SUMMARY:Wii Not Fit VS. Vampire Penguins
DESCRIPTION:League Name: Winter Indoor 2018  Coed 0pen Coral\nGame Type: Re
 gular\nGame Status: Complete\nHome Team: Wii Not Fit\nAway Team: Vampire P
 enguins\nHome Score: 9\nAway Score: 1
END:VEVENT
BEGIN:VEVENT
UID:11159076@ezleagues.ezfacility.com
DTSTAMP:20260426T033749Z
CREATED:20260426T033749Z
DTSTART:20180219T003800Z
DTEND:20180219T013000Z
LOCATION:_
CONTACT:
SUMMARY:The Boneless Sloths VS. Vampire Penguins
DESCRIPTION:League Name: Winter Indoor 2018  Coed 0pen Coral\nGame Type: Re
 gular\nGame Status: Complete\nHome Team: The Boneless Sloths\nAway Team: V
 ampire Penguins\nHome Score: 2\nAway Score: 6
END:VEVENT
BEGIN:VEVENT
UID:11161516@ezleagues.ezfacility.com
DTSTAMP:20260426T033749Z
CREATED:20260426T033749Z
DTSTART:20180226T003800Z
DTEND:20180226T013000Z
LOCATION:Field   ID 3
CONTACT:
SUMMARY:Vampire Penguins VS. eInformatics
DESCRIPTION:League Name: Winter Indoor 2018  Coed 0pen Coral\nGame Type: Re
 gular\nGame Status: Complete\nHome Team: Vampire Penguins\nAway Team: eInf
 ormatics\nHome Score: 0\nAway Score: 5
END:VEVENT
BEGIN:VEVENT
UID:11161815@ezleagues.ezfacility.com
DTSTAMP:20260426T033749Z
CREATED:20260426T033749Z
DTSTART:20180305T003800Z
DTEND:20180305T013000Z
LOCATION:Field   ID 2
CONTACT:
SUMMARY:Paris St. Germain VS. Vampire Penguins
DESCRIPTION:League Name: Winter Indoor 2018  Coed 0pen Coral\nGame Type: Re
 gular\nGame Status: Complete\nHome Team: Paris St. Germain\nAway Team: Vam
 pire Penguins\nHome Score: 2\nAway Score: 1
END:VEVENT
BEGIN:VEVENT
UID:11161820@ezleagues.ezfacility.com
DTSTAMP:20260426T033749Z
CREATED:20260426T033749Z
DTSTART:20180311T215400Z
DTEND:20180311T224600Z
LOCATION:Field   ID 3
CONTACT:
SUMMARY:Vampire Penguins VS. Me and the Revolution
DESCRIPTION:League Name: Winter Indoor 2018  Coed 0pen Coral\nGame Type: Re
 gular\nGame Status: Complete\nHome Team: Vampire Penguins\nAway Team: Me a
 nd the Revolution\nHome Score: 1\nAway Score: 12
END:VEVENT
BEGIN:VEVENT
UID:11167555@ezleagues.ezfacility.com
DTSTAMP:20260426T033749Z
CREATED:20260426T033749Z
DTSTART:20180316T005600Z
DTEND:20180316T014800Z
LOCATION:Field   ID 1
CONTACT:
SUMMARY:Tide PS VS. Vampire Penguins
DESCRIPTION:League Name: Winter Indoor 2018  Coed 0pen Coral\nGame Type: Re
 gular\nGame Status: Complete\nHome Team: Tide PS\nAway Team: Vampire Pengu
 ins\nHome Score: 8\nAway Score: 5
END:VEVENT
BEGIN:VEVENT
UID:11161835@ezleagues.ezfacility.com
DTSTAMP:20260426T033749Z
CREATED:20260426T033749Z
DTSTART:20180325T224600Z
DTEND:20180325T233800Z
LOCATION:Field   ID 2
CONTACT:
SUMMARY:Vampire Penguins VS. FC Morpheus
DESCRIPTION:League Name: Winter Indoor 2018  Coed 0pen Coral\nGame Type: Re
 gular\nGame Status: Complete\nHome Team: Vampire Penguins\nAway Team: FC M
 orpheus\nHome Score: 1\nAway Score: 6
END:VEVENT
END:VCALENDAR
