BEGIN:VCALENDAR
VERSION:2.0
PRODID:-//EZFacility.com, Inc.//EZL 2.5.5.28621
BEGIN:VEVENT
UID:11149235@ezleagues.ezfacility.com
DTSTAMP:20260426T034847Z
CREATED:20260426T034847Z
DTSTART:20180129T022200Z
DTEND:20180129T031400Z
LOCATION:Field   ID 2
CONTACT:
SUMMARY:Rounders Knish VS. Soccer\, I Hardly Know Her
DESCRIPTION:League Name: Winter Indoor 2018  Coed 0pen Denim\nGame Type: Re
 gular\nGame Status: Complete\nHome Team: Rounders Knish\nAway Team: Soccer
 , I Hardly Know Her\nHome Score: 5\nAway Score: 1
END:VEVENT
BEGIN:VEVENT
UID:11149312@ezleagues.ezfacility.com
DTSTAMP:20260426T034847Z
CREATED:20260426T034847Z
DTSTART:20180204T225400Z
DTEND:20180204T234600Z
LOCATION:Field   ID 1
CONTACT:
SUMMARY:CoverMyMeds FC 2  VS. Soccer\, I Hardly Know Her
DESCRIPTION:League Name: Winter Indoor 2018  Coed 0pen Denim\nGame Type: Re
 gular\nGame Status: Complete\nHome Team: CoverMyMeds FC 2 \nAway Team: Soc
 cer, I Hardly Know Her\nHome Score: 7\nAway Score: 2
END:VEVENT
BEGIN:VEVENT
UID:11155595@ezleagues.ezfacility.com
DTSTAMP:20260426T034847Z
CREATED:20260426T034847Z
DTSTART:20180211T234600Z
DTEND:20180212T003800Z
LOCATION:_
CONTACT:
SUMMARY:Soccer\, I Hardly Know Her VS. Rounders KGB
DESCRIPTION:League Name: Winter Indoor 2018  Coed 0pen Denim\nGame Type: Re
 gular\nGame Status: Complete\nHome Team: Soccer, I Hardly Know Her\nAway T
 eam: Rounders KGB\nHome Score: 2\nAway Score: 6
END:VEVENT
BEGIN:VEVENT
UID:11167562@ezleagues.ezfacility.com
DTSTAMP:20260426T034847Z
CREATED:20260426T034847Z
DTSTART:20180218T003800Z
DTEND:20180218T013000Z
LOCATION:_
CONTACT:
SUMMARY:Soccer\, I Hardly Know Her VS. OMS-IV FC
DESCRIPTION:League Name: Winter Indoor 2018  Coed 0pen Denim\nGame Type: Re
 gular\nGame Status: Complete\nHome Team: Soccer, I Hardly Know Her\nAway T
 eam: OMS-IV FC\nHome Score: 8\nAway Score: 3
END:VEVENT
BEGIN:VEVENT
UID:11159002@ezleagues.ezfacility.com
DTSTAMP:20260426T034847Z
CREATED:20260426T034847Z
DTSTART:20180218T174200Z
DTEND:20180218T183400Z
LOCATION:_
CONTACT:
SUMMARY:CoverMyMeds FC VS. Soccer\, I Hardly Know Her
DESCRIPTION:League Name: Winter Indoor 2018  Coed 0pen Denim\nGame Type: Re
 gular\nGame Status: Complete\nHome Team: CoverMyMeds FC\nAway Team: Soccer
 , I Hardly Know Her\nHome Score: 5\nAway Score: 2
END:VEVENT
BEGIN:VEVENT
UID:11161718@ezleagues.ezfacility.com
DTSTAMP:20260426T034847Z
CREATED:20260426T034847Z
DTSTART:20180304T165000Z
DTEND:20180304T174200Z
LOCATION:Field   ID 1
CONTACT:
SUMMARY:Soccer\, I Hardly Know Her VS. Bulldogs
DESCRIPTION:League Name: Winter Indoor 2018  Coed 0pen Denim\nGame Type: Re
 gular\nGame Status: Complete\nHome Team: Soccer, I Hardly Know Her\nAway T
 eam: Bulldogs\nHome Score: 5\nAway Score: 6
END:VEVENT
BEGIN:VEVENT
UID:11161871@ezleagues.ezfacility.com
DTSTAMP:20260426T034847Z
CREATED:20260426T034847Z
DTSTART:20180311T201000Z
DTEND:20180311T210200Z
LOCATION:Field   ID 3
CONTACT:
SUMMARY:Soccer\, I Hardly Know Her VS. Gunners
DESCRIPTION:League Name: Winter Indoor 2018  Coed 0pen Denim\nGame Type: Re
 gular\nGame Status: Complete\nHome Team: Soccer, I Hardly Know Her\nAway T
 eam: Gunners\nHome Score: 4\nAway Score: 7
END:VEVENT
BEGIN:VEVENT
UID:11161794@ezleagues.ezfacility.com
DTSTAMP:20260426T034847Z
CREATED:20260426T034847Z
DTSTART:20180318T173400Z
DTEND:20180318T182600Z
LOCATION:Field   ID 2
CONTACT:
SUMMARY:Olimpia USA VS. Soccer\, I Hardly Know Her
DESCRIPTION:League Name: Winter Indoor 2018  Coed 0pen Denim\nGame Type: Re
 gular\nGame Status: Complete\nHome Team: Olimpia USA\nAway Team: Soccer, I
  Hardly Know Her\nHome Score: 10\nAway Score: 5
END:VEVENT
BEGIN:VEVENT
UID:11161878@ezleagues.ezfacility.com
DTSTAMP:20260426T034847Z
CREATED:20260426T034847Z
DTSTART:20180326T003000Z
DTEND:20180326T012200Z
LOCATION:Field   ID 3
CONTACT:
SUMMARY:Hangover SC VS. Soccer\, I Hardly Know Her
DESCRIPTION:League Name: Winter Indoor 2018  Coed 0pen Denim\nGame Type: Re
 gular\nGame Status: Complete\nHome Team: Hangover SC\nAway Team: Soccer, I
  Hardly Know Her\nHome Score: 8\nAway Score: 8
END:VEVENT
END:VCALENDAR
