BEGIN:VCALENDAR
VERSION:2.0
PRODID:-//EZFacility.com, Inc.//EZL 2.5.5.28621
BEGIN:VEVENT
UID:11119337@ezleagues.ezfacility.com
DTSTAMP:20260425T022907Z
CREATED:20260425T022907Z
DTSTART:20180121T225400Z
DTEND:20180121T234600Z
LOCATION:Field   ID 2
CONTACT:
SUMMARY:CoverMyMeds FC 2  VS. Rounders KGB
DESCRIPTION:League Name: Winter Indoor 2018  Coed 0pen Denim\nGame Type: Re
 gular\nGame Status: Complete\nHome Team: CoverMyMeds FC 2 \nAway Team: Rou
 nders KGB\nHome Score: 5\nAway Score: 2
END:VEVENT
BEGIN:VEVENT
UID:11149312@ezleagues.ezfacility.com
DTSTAMP:20260425T022907Z
CREATED:20260425T022907Z
DTSTART:20180204T225400Z
DTEND:20180204T234600Z
LOCATION:Field   ID 1
CONTACT:
SUMMARY:CoverMyMeds FC 2  VS. Soccer\, I Hardly Know Her
DESCRIPTION:League Name: Winter Indoor 2018  Coed 0pen Denim\nGame Type: Re
 gular\nGame Status: Complete\nHome Team: CoverMyMeds FC 2 \nAway Team: Soc
 cer, I Hardly Know Her\nHome Score: 7\nAway Score: 2
END:VEVENT
BEGIN:VEVENT
UID:11155596@ezleagues.ezfacility.com
DTSTAMP:20260425T022907Z
CREATED:20260425T022907Z
DTSTART:20180212T022200Z
DTEND:20180212T031400Z
LOCATION:_
CONTACT:
SUMMARY:CoverMyMeds FC 2  VS. Olimpia USA
DESCRIPTION:League Name: Winter Indoor 2018  Coed 0pen Denim\nGame Type: Re
 gular\nGame Status: Complete\nHome Team: CoverMyMeds FC 2 \nAway Team: Oli
 mpia USA\nHome Score: 5\nAway Score: 1
END:VEVENT
BEGIN:VEVENT
UID:11159001@ezleagues.ezfacility.com
DTSTAMP:20260425T022907Z
CREATED:20260425T022907Z
DTSTART:20180218T165000Z
DTEND:20180218T174200Z
LOCATION:_
CONTACT:
SUMMARY:Bulldogs VS. CoverMyMeds FC 2 
DESCRIPTION:League Name: Winter Indoor 2018  Coed 0pen Denim\nGame Type: Re
 gular\nGame Status: Complete\nHome Team: Bulldogs\nAway Team: CoverMyMeds 
 FC 2 \nHome Score: 0\nAway Score: 9
END:VEVENT
BEGIN:VEVENT
UID:11161389@ezleagues.ezfacility.com
DTSTAMP:20260425T022907Z
CREATED:20260425T022907Z
DTSTART:20180225T183400Z
DTEND:20180225T192600Z
LOCATION:Field   ID 1
CONTACT:
SUMMARY:CoverMyMeds FC 2  VS. OMS-IV FC
DESCRIPTION:League Name: Winter Indoor 2018  Coed 0pen Denim\nGame Type: Re
 gular\nGame Status: Complete\nHome Team: CoverMyMeds FC 2 \nAway Team: OMS
 -IV FC\nHome Score: 1\nAway Score: 7
END:VEVENT
BEGIN:VEVENT
UID:11161870@ezleagues.ezfacility.com
DTSTAMP:20260425T022907Z
CREATED:20260425T022907Z
DTSTART:20180312T021400Z
DTEND:20180312T030600Z
LOCATION:Field   ID 3
CONTACT:
SUMMARY:CoverMyMeds FC 2  VS. Rounders Knish
DESCRIPTION:League Name: Winter Indoor 2018  Coed 0pen Denim\nGame Type: Re
 gular\nGame Status: Complete\nHome Team: CoverMyMeds FC 2 \nAway Team: Rou
 nders Knish\nHome Score: 10\nAway Score: 1
END:VEVENT
BEGIN:VEVENT
UID:11161797@ezleagues.ezfacility.com
DTSTAMP:20260425T022907Z
CREATED:20260425T022907Z
DTSTART:20180318T215400Z
DTEND:20180318T224600Z
LOCATION:Field   ID 2
CONTACT:
SUMMARY:CoverMyMeds FC VS. CoverMyMeds FC 2 
DESCRIPTION:League Name: Winter Indoor 2018  Coed 0pen Denim\nGame Type: Re
 gular\nGame Status: Complete\nHome Team: CoverMyMeds FC\nAway Team: CoverM
 yMeds FC 2 \nHome Score: 6\nAway Score: 1
END:VEVENT
BEGIN:VEVENT
UID:11167564@ezleagues.ezfacility.com
DTSTAMP:20260425T022907Z
CREATED:20260425T022907Z
DTSTART:20180323T000400Z
DTEND:20180323T005600Z
LOCATION:Field   ID 3
CONTACT:
SUMMARY:CoverMyMeds FC 2  VS. Hangover SC
DESCRIPTION:League Name: Winter Indoor 2018  Coed 0pen Denim\nGame Type: Re
 gular\nGame Status: Complete\nHome Team: CoverMyMeds FC 2 \nAway Team: Han
 gover SC\nHome Score: 7\nAway Score: 6
END:VEVENT
BEGIN:VEVENT
UID:11161875@ezleagues.ezfacility.com
DTSTAMP:20260425T022907Z
CREATED:20260425T022907Z
DTSTART:20180325T173400Z
DTEND:20180325T182600Z
LOCATION:Field   ID 3
CONTACT:
SUMMARY:Gunners VS. CoverMyMeds FC 2 
DESCRIPTION:League Name: Winter Indoor 2018  Coed 0pen Denim\nGame Type: Re
 gular\nGame Status: Complete\nHome Team: Gunners\nAway Team: CoverMyMeds F
 C 2 \nHome Score: 2\nAway Score: 7
END:VEVENT
END:VCALENDAR
