BEGIN:VCALENDAR
VERSION:2.0
PRODID:-//EZFacility.com, Inc.//EZL 2.5.5.28621
BEGIN:VEVENT
UID:11119308@ezleagues.ezfacility.com
DTSTAMP:20260424T100302Z
CREATED:20260424T100302Z
DTSTART:20180121T220200Z
DTEND:20180121T225400Z
LOCATION:Field   ID 1
CONTACT:
SUMMARY:Barely Legal VS. Spilled Beans
DESCRIPTION:League Name: Winter Indoor 2018  Coed 0pen Lime\nGame Type: Reg
 ular\nGame Status: Complete\nHome Team: Barely Legal\nAway Team: Spilled B
 eans\nHome Score: 7\nAway Score: 2
END:VEVENT
BEGIN:VEVENT
UID:11149251@ezleagues.ezfacility.com
DTSTAMP:20260424T100302Z
CREATED:20260424T100302Z
DTSTART:20180128T234600Z
DTEND:20180129T003800Z
LOCATION:Field   ID 2
CONTACT:
SUMMARY:Barely Legal VS. Funfetti
DESCRIPTION:League Name: Winter Indoor 2018  Coed 0pen Lime\nGame Type: Reg
 ular\nGame Status: Complete\nHome Team: Barely Legal\nAway Team: Funfetti\
 nHome Score: 5\nAway Score: 3
END:VEVENT
BEGIN:VEVENT
UID:11149409@ezleagues.ezfacility.com
DTSTAMP:20260424T100302Z
CREATED:20260424T100302Z
DTSTART:20180205T013000Z
DTEND:20180205T022200Z
LOCATION:_
CONTACT:
SUMMARY:Barely Legal VS. The Ball Handlers
DESCRIPTION:League Name: Winter Indoor 2018  Coed 0pen Lime\nGame Type: Reg
 ular\nGame Status: Rescheduled\nHome Team: Barely Legal\nAway Team: The Ba
 ll Handlers\n
END:VEVENT
BEGIN:VEVENT
UID:11159073@ezleagues.ezfacility.com
DTSTAMP:20260424T100302Z
CREATED:20260424T100302Z
DTSTART:20180218T234600Z
DTEND:20180219T003800Z
LOCATION:_
CONTACT:
SUMMARY:Barely Legal VS. Crimson Crew
DESCRIPTION:League Name: Winter Indoor 2018  Coed 0pen Lime\nGame Type: Reg
 ular\nGame Status: Complete\nHome Team: Barely Legal\nAway Team: Crimson C
 rew\nHome Score: 7\nAway Score: 3
END:VEVENT
BEGIN:VEVENT
UID:11198915@ezleagues.ezfacility.com
DTSTAMP:20260424T100302Z
CREATED:20260424T100302Z
DTSTART:20180220T015600Z
DTEND:20180220T024800Z
LOCATION:Field   ID 3
CONTACT:
SUMMARY:Barely Legal VS. The Ball Handlers
DESCRIPTION:League Name: Winter Indoor 2018  Coed 0pen Lime\nGame Type: Reg
 ular\nGame Status: Complete\nHome Team: Barely Legal\nAway Team: The Ball 
 Handlers\nHome Score: 8\nAway Score: 2
END:VEVENT
BEGIN:VEVENT
UID:11161431@ezleagues.ezfacility.com
DTSTAMP:20260424T100302Z
CREATED:20260424T100302Z
DTSTART:20180226T013000Z
DTEND:20180226T022200Z
LOCATION:Field   ID 3
CONTACT:
SUMMARY:Barely Legal VS. Orange Slice
DESCRIPTION:League Name: Winter Indoor 2018  Coed 0pen Lime\nGame Type: Reg
 ular\nGame Status: Complete\nHome Team: Barely Legal\nAway Team: Orange Sl
 ice\nHome Score: 6\nAway Score: 3
END:VEVENT
BEGIN:VEVENT
UID:11161938@ezleagues.ezfacility.com
DTSTAMP:20260424T100302Z
CREATED:20260424T100302Z
DTSTART:20180305T013000Z
DTEND:20180305T022200Z
LOCATION:Field   ID 1
CONTACT:
SUMMARY:Goal Challenged VS. Barely Legal
DESCRIPTION:League Name: Winter Indoor 2018  Coed 0pen Lime\nGame Type: Reg
 ular\nGame Status: Complete\nHome Team: Goal Challenged\nAway Team: Barely
  Legal\nHome Score: 3\nAway Score: 10
END:VEVENT
BEGIN:VEVENT
UID:11161944@ezleagues.ezfacility.com
DTSTAMP:20260424T100302Z
CREATED:20260424T100302Z
DTSTART:20180312T003000Z
DTEND:20180312T012200Z
LOCATION:Field   ID 3
CONTACT:
SUMMARY:Los Cuervos VS. Barely Legal
DESCRIPTION:League Name: Winter Indoor 2018  Coed 0pen Lime\nGame Type: Reg
 ular\nGame Status: Complete\nHome Team: Los Cuervos\nAway Team: Barely Leg
 al\nHome Score: 11\nAway Score: 3
END:VEVENT
BEGIN:VEVENT
UID:11167573@ezleagues.ezfacility.com
DTSTAMP:20260424T100302Z
CREATED:20260424T100302Z
DTSTART:20180324T215400Z
DTEND:20180324T224600Z
LOCATION:Field   ID 1
CONTACT:
SUMMARY:Berkshire United VS. Barely Legal
DESCRIPTION:League Name: Winter Indoor 2018  Coed 0pen Lime\nGame Type: Reg
 ular\nGame Status: Complete\nHome Team: Berkshire United\nAway Team: Barel
 y Legal\nHome Score: 2\nAway Score: 7
END:VEVENT
BEGIN:VEVENT
UID:11161957@ezleagues.ezfacility.com
DTSTAMP:20260424T100302Z
CREATED:20260424T100302Z
DTSTART:20180325T191800Z
DTEND:20180325T201000Z
LOCATION:Field   ID 3
CONTACT:
SUMMARY:Barely Legal VS. Neuhart's Newboys
DESCRIPTION:League Name: Winter Indoor 2018  Coed 0pen Lime\nGame Type: Reg
 ular\nGame Status: Complete\nHome Team: Barely Legal\nAway Team: Neuhart's
  Newboys\nHome Score: 2\nAway Score: 11
END:VEVENT
END:VCALENDAR
