BEGIN:VCALENDAR
VERSION:2.0
PRODID:-//EZFacility.com, Inc.//EZL 2.5.5.28621
BEGIN:VEVENT
UID:11160112@ezleagues.ezfacility.com
DTSTAMP:20260426T033716Z
CREATED:20260426T033716Z
DTSTART:20180120T034000Z
DTEND:20180120T043500Z
LOCATION:PFFC Field House - C
CONTACT:
SUMMARY:  FormerlyFormerlyFit VS.   Titan
DESCRIPTION:League Name: MSL Soccer - Friday Men's Division #4 South\nGame 
 Type: Regular\nGame Status: Complete\nHome Team:   FormerlyFormerlyFit\nAw
 ay Team:   Titan\nHome Score: 3\nAway Score: 6
END:VEVENT
BEGIN:VEVENT
UID:11160132@ezleagues.ezfacility.com
DTSTAMP:20260426T033716Z
CREATED:20260426T033716Z
DTSTART:20180127T043500Z
DTEND:20180127T053000Z
LOCATION:PFFC Field House - A
CONTACT:
SUMMARY:  Chepo Jr VS.   FormerlyFormerlyFit
DESCRIPTION:League Name: MSL Soccer - Friday Men's Division #4 South\nGame 
 Type: Regular\nGame Status: Complete\nHome Team:   Chepo Jr\nAway Team:   
 FormerlyFormerlyFit\nHome Score: 3\nAway Score: 2
END:VEVENT
BEGIN:VEVENT
UID:11160154@ezleagues.ezfacility.com
DTSTAMP:20260426T033716Z
CREATED:20260426T033716Z
DTSTART:20180203T005500Z
DTEND:20180203T015000Z
LOCATION:PFFC Field House - B
CONTACT:
SUMMARY:Oldschoolboyz VS.   FormerlyFormerlyFit
DESCRIPTION:League Name: MSL Soccer - Friday Men's Division #4 South\nGame 
 Type: Regular\nGame Status: Complete\nHome Team: Oldschoolboyz\nAway Team:
    FormerlyFormerlyFit\nHome Score: 5\nAway Score: 2
END:VEVENT
BEGIN:VEVENT
UID:11160176@ezleagues.ezfacility.com
DTSTAMP:20260426T033716Z
CREATED:20260426T033716Z
DTSTART:20180210T000000Z
DTEND:20180210T005500Z
LOCATION:PFFC Field House - A
CONTACT:
SUMMARY:Shaolin FC VS.   FormerlyFormerlyFit
DESCRIPTION:League Name: MSL Soccer - Friday Men's Division #4 South\nGame 
 Type: Regular\nGame Status: Complete\nHome Team: Shaolin FC\nAway Team:   
 FormerlyFormerlyFit\nHome Score: 2\nAway Score: 3
END:VEVENT
BEGIN:VEVENT
UID:11160197@ezleagues.ezfacility.com
DTSTAMP:20260426T033716Z
CREATED:20260426T033716Z
DTSTART:20180217T043500Z
DTEND:20180217T053000Z
LOCATION:PFFC Field House - C
CONTACT:
SUMMARY:  FormerlyFormerlyFit VS.   Renaissance FC
DESCRIPTION:League Name: MSL Soccer - Friday Men's Division #4 South\nGame 
 Type: Regular\nGame Status: Complete\nHome Team:   FormerlyFormerlyFit\nAw
 ay Team:   Renaissance FC\nHome Score: 0\nAway Score: 3
END:VEVENT
BEGIN:VEVENT
UID:11160217@ezleagues.ezfacility.com
DTSTAMP:20260426T033716Z
CREATED:20260426T033716Z
DTSTART:20180223T024500Z
DTEND:20180223T034000Z
LOCATION:PFFC Field House - C
CONTACT:
SUMMARY:  Titan VS.   FormerlyFormerlyFit
DESCRIPTION:League Name: MSL Soccer - Friday Men's Division #4 South\nGame 
 Type: Regular\nGame Status: Complete\nHome Team:   Titan\nAway Team:   For
 merlyFormerlyFit\nHome Score: 5\nAway Score: 3
END:VEVENT
BEGIN:VEVENT
UID:11160237@ezleagues.ezfacility.com
DTSTAMP:20260426T033716Z
CREATED:20260426T033716Z
DTSTART:20180302T230500Z
DTEND:20180303T000000Z
LOCATION:PFFC Field House - B
CONTACT:
SUMMARY:  Chepo Jr VS.   FormerlyFormerlyFit
DESCRIPTION:League Name: MSL Soccer - Friday Men's Division #4 South\nGame 
 Type: Regular\nGame Status: Complete\nHome Team:   Chepo Jr\nAway Team:   
 FormerlyFormerlyFit\nHome Score: 6\nAway Score: 2
END:VEVENT
BEGIN:VEVENT
UID:11160281@ezleagues.ezfacility.com
DTSTAMP:20260426T033716Z
CREATED:20260426T033716Z
DTSTART:20180317T024000Z
DTEND:20180317T033500Z
LOCATION:PFFC Field House - A
CONTACT:
SUMMARY:  FormerlyFormerlyFit VS. Shaolin FC
DESCRIPTION:League Name: MSL Soccer - Friday Men's Division #4 South\nGame 
 Type: Regular\nGame Status: Complete\nHome Team:   FormerlyFormerlyFit\nAw
 ay Team: Shaolin FC\nHome Score: 4\nAway Score: 1
END:VEVENT
BEGIN:VEVENT
UID:11160302@ezleagues.ezfacility.com
DTSTAMP:20260426T033716Z
CREATED:20260426T033716Z
DTSTART:20180324T005000Z
DTEND:20180324T014500Z
LOCATION:PFFC Field House - C
CONTACT:
SUMMARY:  Renaissance FC VS.   FormerlyFormerlyFit
DESCRIPTION:League Name: MSL Soccer - Friday Men's Division #4 South\nGame 
 Type: Regular\nGame Status: Complete\nHome Team:   Renaissance FC\nAway Te
 am:   FormerlyFormerlyFit\nHome Score: 9\nAway Score: 3
END:VEVENT
BEGIN:VEVENT
UID:11160342@ezleagues.ezfacility.com
DTSTAMP:20260426T033716Z
CREATED:20260426T033716Z
DTSTART:20180406T014500Z
DTEND:20180406T024000Z
LOCATION:PFFC Field House - B
CONTACT:
SUMMARY:  FormerlyFormerlyFit VS.   Chepo Jr
DESCRIPTION:League Name: MSL Soccer - Friday Men's Division #4 South\nGame 
 Type: Regular\nGame Status: Complete\nHome Team:   FormerlyFormerlyFit\nAw
 ay Team:   Chepo Jr\nHome Score: 6\nAway Score: 1
END:VEVENT
BEGIN:VEVENT
UID:11303646@ezleagues.ezfacility.com
DTSTAMP:20260426T033716Z
CREATED:20260426T033716Z
DTSTART:20180413T005000Z
DTEND:20180413T014500Z
LOCATION:PFFC Field House - A
CONTACT:
SUMMARY:  FormerlyFormerlyFit VS. Oldschoolboyz
DESCRIPTION:League Name: MSL Soccer - Friday Men's Division #4 South\nGame 
 Type: Regular\nGame Status: Complete\nHome Team:   FormerlyFormerlyFit\nAw
 ay Team: Oldschoolboyz\nHome Score: 5\nAway Score: 3
END:VEVENT
BEGIN:VEVENT
UID:11160364@ezleagues.ezfacility.com
DTSTAMP:20260426T033716Z
CREATED:20260426T033716Z
DTSTART:20180414T010000Z
DTEND:20180414T015500Z
LOCATION:PFFC Dome - 2
CONTACT:
SUMMARY:  FormerlyFormerlyFit VS. Oldschoolboyz
DESCRIPTION:League Name: MSL Soccer - Friday Men's Division #4 South\nGame 
 Type: Regular\nGame Status: Complete\nHome Team:   FormerlyFormerlyFit\nAw
 ay Team: Oldschoolboyz\nHome Score: 1\nAway Score: 3
END:VEVENT
BEGIN:VEVENT
UID:11160386@ezleagues.ezfacility.com
DTSTAMP:20260426T033716Z
CREATED:20260426T033716Z
DTSTART:20180420T235500Z
DTEND:20180421T005000Z
LOCATION:PFFC Dome - 1
CONTACT:
SUMMARY:  FormerlyFormerlyFit VS. Shaolin FC
DESCRIPTION:League Name: MSL Soccer - Friday Men's Division #4 South\nGame 
 Type: Regular\nGame Status: Rescheduled\nHome Team:   FormerlyFormerlyFit\
 nAway Team: Shaolin FC\n
END:VEVENT
BEGIN:VEVENT
UID:11351877@ezleagues.ezfacility.com
DTSTAMP:20260426T033716Z
CREATED:20260426T033716Z
DTSTART:20180421T014500Z
DTEND:20180421T024000Z
LOCATION:PFFC Dome - 2
CONTACT:
SUMMARY:  FormerlyFormerlyFit VS. Shaolin FC
DESCRIPTION:League Name: MSL Soccer - Friday Men's Division #4 South\nGame 
 Type: Regular\nGame Status: Complete\nHome Team:   FormerlyFormerlyFit\nAw
 ay Team: Shaolin FC\nHome Score: 6\nAway Score: 1
END:VEVENT
BEGIN:VEVENT
UID:11160322@ezleagues.ezfacility.com
DTSTAMP:20260426T033716Z
CREATED:20260426T033716Z
DTSTART:20180428T005000Z
DTEND:20180428T014500Z
LOCATION:PFFC Field House - A
CONTACT:
SUMMARY:  Titan VS.   FormerlyFormerlyFit
DESCRIPTION:League Name: MSL Soccer - Friday Men's Division #4 South\nGame 
 Type: Regular\nGame Status: Complete\nHome Team:   Titan\nAway Team:   For
 merlyFormerlyFit\nHome Score: 2\nAway Score: 2
END:VEVENT
BEGIN:VEVENT
UID:11365597@ezleagues.ezfacility.com
DTSTAMP:20260426T033716Z
CREATED:20260426T033716Z
DTSTART:20180504T235500Z
DTEND:20180505T004500Z
LOCATION:PFFC Dome - 2
CONTACT:
SUMMARY:  Chepo Jr VS.   FormerlyFormerlyFit
DESCRIPTION:League Name: MSL Soccer - Friday Men's Division #4 South\nGame 
 Type: Postseason\nGame Status: Rescheduled\nHome Team:   Chepo Jr\nAway Te
 am:   FormerlyFormerlyFit\n
END:VEVENT
BEGIN:VEVENT
UID:11409095@ezleagues.ezfacility.com
DTSTAMP:20260426T033716Z
CREATED:20260426T033716Z
DTSTART:20180512T022500Z
DTEND:20180512T031500Z
LOCATION:PFFC Field House - D
CONTACT:
SUMMARY:  Chepo Jr VS.   FormerlyFormerlyFit
DESCRIPTION:League Name: MSL Soccer - Friday Men's Division #4 South\nGame 
 Type: Postseason\nGame Status: Complete\nHome Team:   Chepo Jr\nAway Team:
    FormerlyFormerlyFit\nHome Score: 0\nAway Score: 7
END:VEVENT
BEGIN:VEVENT
UID:11365598@ezleagues.ezfacility.com
DTSTAMP:20260426T033716Z
CREATED:20260426T033716Z
DTSTART:20180517T221500Z
DTEND:20180517T230500Z
LOCATION:PFFC Field House - B
CONTACT:
SUMMARY:  Titan VS.   FormerlyFormerlyFit
DESCRIPTION:League Name: MSL Soccer - Friday Men's Division #4 South\nGame 
 Type: Postseason\nGame Status: Complete\nHome Team:   Titan\nAway Team:   
 FormerlyFormerlyFit\nHome Score: 0\nAway Score: 2
END:VEVENT
END:VCALENDAR
