BEGIN:VCALENDAR
VERSION:2.0
PRODID:-//EZFacility.com, Inc.//EZL 2.5.5.28621
BEGIN:VEVENT
UID:11159663@ezleagues.ezfacility.com
DTSTAMP:20260422T195344Z
CREATED:20260422T195344Z
DTSTART:20180127T015000Z
DTEND:20180127T024500Z
LOCATION:PFFC Field House - B
CONTACT:
SUMMARY:Toronto West United VS.   PC Click
DESCRIPTION:League Name: MSL Soccer - Over 35's Beckenbauer Division\nGame 
 Type: Regular\nGame Status: Complete\nHome Team: Toronto West United\nAway
  Team:   PC Click\nHome Score: 2\nAway Score: 3
END:VEVENT
BEGIN:VEVENT
UID:11159678@ezleagues.ezfacility.com
DTSTAMP:20260422T195344Z
CREATED:20260422T195344Z
DTSTART:20180203T005500Z
DTEND:20180203T015000Z
LOCATION:PFFC Field House - A
CONTACT:
SUMMARY:Toronto West United VS.   Hala-Bal Khamis 
DESCRIPTION:League Name: MSL Soccer - Over 35's Beckenbauer Division\nGame 
 Type: Regular\nGame Status: Complete\nHome Team: Toronto West United\nAway
  Team:   Hala-Bal Khamis \nHome Score: 2\nAway Score: 3
END:VEVENT
BEGIN:VEVENT
UID:11159693@ezleagues.ezfacility.com
DTSTAMP:20260422T195344Z
CREATED:20260422T195344Z
DTSTART:20180209T024500Z
DTEND:20180209T034000Z
LOCATION:PFFC Field House - D
CONTACT:
SUMMARY:  Real FC VS. Toronto West United
DESCRIPTION:League Name: MSL Soccer - Over 35's Beckenbauer Division\nGame 
 Type: Regular\nGame Status: Complete\nHome Team:   Real FC\nAway Team: Tor
 onto West United\nHome Score: 0\nAway Score: 2
END:VEVENT
BEGIN:VEVENT
UID:11159710@ezleagues.ezfacility.com
DTSTAMP:20260422T195344Z
CREATED:20260422T195344Z
DTSTART:20180217T000000Z
DTEND:20180217T005500Z
LOCATION:PFFC Field House - D
CONTACT:
SUMMARY:  Stella Maris VS. Toronto West United
DESCRIPTION:League Name: MSL Soccer - Over 35's Beckenbauer Division\nGame 
 Type: Regular\nGame Status: Complete\nHome Team:   Stella Maris\nAway Team
 : Toronto West United\nHome Score: 1\nAway Score: 3
END:VEVENT
BEGIN:VEVENT
UID:11159727@ezleagues.ezfacility.com
DTSTAMP:20260422T195344Z
CREATED:20260422T195344Z
DTSTART:20180224T015000Z
DTEND:20180224T024500Z
LOCATION:PFFC Field House - D
CONTACT:
SUMMARY:Toronto West United VS.   Devils
DESCRIPTION:League Name: MSL Soccer - Over 35's Beckenbauer Division\nGame 
 Type: Regular\nGame Status: Complete\nHome Team: Toronto West United\nAway
  Team:   Devils\nHome Score: 3\nAway Score: 2
END:VEVENT
BEGIN:VEVENT
UID:11159743@ezleagues.ezfacility.com
DTSTAMP:20260422T195344Z
CREATED:20260422T195344Z
DTSTART:20180303T005500Z
DTEND:20180303T015000Z
LOCATION:PFFC Field House - C
CONTACT:
SUMMARY:  PC Click VS. Toronto West United
DESCRIPTION:League Name: MSL Soccer - Over 35's Beckenbauer Division\nGame 
 Type: Regular\nGame Status: Complete\nHome Team:   PC Click\nAway Team: To
 ronto West United\nHome Score: 1\nAway Score: 9
END:VEVENT
BEGIN:VEVENT
UID:11159758@ezleagues.ezfacility.com
DTSTAMP:20260422T195344Z
CREATED:20260422T195344Z
DTSTART:20180310T024500Z
DTEND:20180310T034000Z
LOCATION:PFFC Field House - A
CONTACT:
SUMMARY:  Hala-Bal Khamis  VS. Toronto West United
DESCRIPTION:League Name: MSL Soccer - Over 35's Beckenbauer Division\nGame 
 Type: Regular\nGame Status: Complete\nHome Team:   Hala-Bal Khamis \nAway 
 Team: Toronto West United\nHome Score: 7\nAway Score: 2
END:VEVENT
BEGIN:VEVENT
UID:11159773@ezleagues.ezfacility.com
DTSTAMP:20260422T195344Z
CREATED:20260422T195344Z
DTSTART:20180316T020500Z
DTEND:20180316T030000Z
LOCATION:PFFC Dome - 3
CONTACT:
SUMMARY:Toronto West United VS.   Real FC
DESCRIPTION:League Name: MSL Soccer - Over 35's Beckenbauer Division\nGame 
 Type: Regular\nGame Status: Complete\nHome Team: Toronto West United\nAway
  Team:   Real FC\nHome Score: 5\nAway Score: 1
END:VEVENT
BEGIN:VEVENT
UID:11159790@ezleagues.ezfacility.com
DTSTAMP:20260422T195344Z
CREATED:20260422T195344Z
DTSTART:20180322T235500Z
DTEND:20180323T005000Z
LOCATION:PFFC Field House - D
CONTACT:
SUMMARY:Toronto West United VS.   Stella Maris
DESCRIPTION:League Name: MSL Soccer - Over 35's Beckenbauer Division\nGame 
 Type: Regular\nGame Status: Complete\nHome Team: Toronto West United\nAway
  Team:   Stella Maris\nHome Score: 1\nAway Score: 1
END:VEVENT
BEGIN:VEVENT
UID:11159823@ezleagues.ezfacility.com
DTSTAMP:20260422T195344Z
CREATED:20260422T195344Z
DTSTART:20180406T230000Z
DTEND:20180406T235500Z
LOCATION:PFFC Field House - D
CONTACT:
SUMMARY:  PC Click VS. Toronto West United
DESCRIPTION:League Name: MSL Soccer - Over 35's Beckenbauer Division\nGame 
 Type: Regular\nGame Status: Rescheduled\nHome Team:   PC Click\nAway Team:
  Toronto West United\n
END:VEVENT
BEGIN:VEVENT
UID:11159838@ezleagues.ezfacility.com
DTSTAMP:20260422T195344Z
CREATED:20260422T195344Z
DTSTART:20180413T014500Z
DTEND:20180413T024000Z
LOCATION:PFFC Field House - D
CONTACT:
SUMMARY:  Hala-Bal Khamis  VS. Toronto West United
DESCRIPTION:League Name: MSL Soccer - Over 35's Beckenbauer Division\nGame 
 Type: Regular\nGame Status: Complete\nHome Team:   Hala-Bal Khamis \nAway 
 Team: Toronto West United\nHome Score: 0\nAway Score: 6
END:VEVENT
BEGIN:VEVENT
UID:11319812@ezleagues.ezfacility.com
DTSTAMP:20260422T195344Z
CREATED:20260422T195344Z
DTSTART:20180420T005000Z
DTEND:20180420T014500Z
LOCATION:PFFC Field House - A
CONTACT:
SUMMARY:  PC Click VS. Toronto West United
DESCRIPTION:League Name: MSL Soccer - Over 35's Beckenbauer Division\nGame 
 Type: Regular\nGame Status: Complete\nHome Team:   PC Click\nAway Team: To
 ronto West United\nHome Score: 2\nAway Score: 2
END:VEVENT
BEGIN:VEVENT
UID:11159853@ezleagues.ezfacility.com
DTSTAMP:20260422T195344Z
CREATED:20260422T195344Z
DTSTART:20180421T024000Z
DTEND:20180421T033500Z
LOCATION:PFFC Field House - A
CONTACT:
SUMMARY:Toronto West United VS.   Real FC
DESCRIPTION:League Name: MSL Soccer - Over 35's Beckenbauer Division\nGame 
 Type: Regular\nGame Status: Complete\nHome Team: Toronto West United\nAway
  Team:   Real FC\nHome Score: 1\nAway Score: 1
END:VEVENT
BEGIN:VEVENT
UID:11159807@ezleagues.ezfacility.com
DTSTAMP:20260422T195344Z
CREATED:20260422T195344Z
DTSTART:20180428T005000Z
DTEND:20180428T014500Z
LOCATION:PFFC Field House - D
CONTACT:
SUMMARY:Toronto West United VS.   Devils
DESCRIPTION:League Name: MSL Soccer - Over 35's Beckenbauer Division\nGame 
 Type: Regular\nGame Status: Complete\nHome Team: Toronto West United\nAway
  Team:   Devils\nHome Score: 4\nAway Score: 4
END:VEVENT
BEGIN:VEVENT
UID:11365640@ezleagues.ezfacility.com
DTSTAMP:20260422T195344Z
CREATED:20260422T195344Z
DTSTART:20180505T004500Z
DTEND:20180505T013500Z
LOCATION:PFFC Dome - 3
CONTACT:
SUMMARY:Toronto West United VS.   Real FC
DESCRIPTION:League Name: MSL Soccer - Over 35's Beckenbauer Division\nGame 
 Type: Postseason\nGame Status: Rescheduled\nHome Team: Toronto West United
 \nAway Team:   Real FC\n
END:VEVENT
BEGIN:VEVENT
UID:11409023@ezleagues.ezfacility.com
DTSTAMP:20260422T195344Z
CREATED:20260422T195344Z
DTSTART:20180511T004500Z
DTEND:20180511T013500Z
LOCATION:PFFC Field House - C
CONTACT:
SUMMARY:Toronto West United VS.   Real FC
DESCRIPTION:League Name: MSL Soccer - Over 35's Beckenbauer Division\nGame 
 Type: Postseason\nGame Status: Complete\nHome Team: Toronto West United\nA
 way Team:   Real FC\nHome Score: 1\nAway Score: 0
END:VEVENT
END:VCALENDAR
