BEGIN:VCALENDAR
VERSION:2.0
PRODID:-//EZFacility.com, Inc.//EZL 2.5.5.28621
BEGIN:VEVENT
UID:11150587@ezleagues.ezfacility.com
DTSTAMP:20260424T101029Z
CREATED:20260424T101029Z
DTSTART:20180126T034000Z
DTEND:20180126T043500Z
LOCATION:Field 1
CONTACT:Martinez
SUMMARY:Red n Black Eagles VS. Dulles Diablos
DESCRIPTION:League Name: January 18, 2018 Thursday Division 3\nGame Type: R
 egular\nGame Status: Complete\nHome Team: Red n Black Eagles\nAway Team: D
 ulles Diablos\nHome Score: 10\nAway Score: 6
END:VEVENT
BEGIN:VEVENT
UID:11150607@ezleagues.ezfacility.com
DTSTAMP:20260424T101029Z
CREATED:20260424T101029Z
DTSTART:20180202T043500Z
DTEND:20180202T053000Z
LOCATION: Field 3
CONTACT:Martin
SUMMARY:Red n Black Eagles VS. Sporting Cristal
DESCRIPTION:League Name: January 18, 2018 Thursday Division 3\nGame Type: R
 egular\nGame Status: Complete\nHome Team: Red n Black Eagles\nAway Team: S
 porting Cristal\nHome Score: 7\nAway Score: 7
END:VEVENT
BEGIN:VEVENT
UID:11150627@ezleagues.ezfacility.com
DTSTAMP:20260424T101029Z
CREATED:20260424T101029Z
DTSTART:20180209T000000Z
DTEND:20180209T005500Z
LOCATION:VA Army National Guard Field 2
CONTACT:Martin
SUMMARY:Red n Black Eagles VS. Jucapense Jrs.
DESCRIPTION:League Name: January 18, 2018 Thursday Division 3\nGame Type: R
 egular\nGame Status: Complete\nHome Team: Red n Black Eagles\nAway Team: J
 ucapense Jrs.\nHome Score: 10\nAway Score: 6
END:VEVENT
BEGIN:VEVENT
UID:11150647@ezleagues.ezfacility.com
DTSTAMP:20260424T101029Z
CREATED:20260424T101029Z
DTSTART:20180216T005500Z
DTEND:20180216T015000Z
LOCATION:VA Army National Guard Field 2
CONTACT:Martin
SUMMARY:Ex Cons VS. Red n Black Eagles
DESCRIPTION:League Name: January 18, 2018 Thursday Division 3\nGame Type: R
 egular\nGame Status: Complete\nHome Team: Ex Cons\nAway Team: Red n Black 
 Eagles\nHome Score: 9\nAway Score: 9
END:VEVENT
BEGIN:VEVENT
UID:11150669@ezleagues.ezfacility.com
DTSTAMP:20260424T101029Z
CREATED:20260424T101029Z
DTSTART:20180223T005500Z
DTEND:20180223T015000Z
LOCATION: Field 3
CONTACT:
SUMMARY:Red n Black Eagles VS. Bangkok United
DESCRIPTION:League Name: January 18, 2018 Thursday Division 3\nGame Type: R
 egular\nGame Status: Complete\nHome Team: Red n Black Eagles\nAway Team: B
 angkok United\nHome Score: 9\nAway Score: 10
END:VEVENT
BEGIN:VEVENT
UID:11150688@ezleagues.ezfacility.com
DTSTAMP:20260424T101029Z
CREATED:20260424T101029Z
DTSTART:20180302T015000Z
DTEND:20180302T024500Z
LOCATION:Field 1
CONTACT:Martinez
SUMMARY:Red n Black Eagles VS. Ex Cons
DESCRIPTION:League Name: January 18, 2018 Thursday Division 3\nGame Type: P
 ostseason\nGame Status: Complete\nHome Team: Red n Black Eagles\nAway Team
 : Ex Cons\nHome Score: 10\nAway Score: 9
END:VEVENT
BEGIN:VEVENT
UID:11150709@ezleagues.ezfacility.com
DTSTAMP:20260424T101029Z
CREATED:20260424T101029Z
DTSTART:20180309T024500Z
DTEND:20180309T034000Z
LOCATION: Field 3
CONTACT:
SUMMARY:FC Gutterman VS. Red n Black Eagles
DESCRIPTION:League Name: January 18, 2018 Thursday Division 3\nGame Type: P
 ostseason\nGame Status: Complete\nHome Team: FC Gutterman\nAway Team: Red 
 n Black Eagles\nHome Score: 7\nAway Score: 6
END:VEVENT
END:VCALENDAR
