BEGIN:VCALENDAR
VERSION:2.0
PRODID:-//EZFacility.com, Inc.//EZL 2.5.5.28621
BEGIN:VEVENT
UID:11155054@ezleagues.ezfacility.com
DTSTAMP:20260426T035001Z
CREATED:20260426T035001Z
DTSTART:20180128T000000Z
DTEND:20180128T005000Z
LOCATION:Harmans Premier Field #4
CONTACT:
SUMMARY:Bayer FC VS. Peru County
DESCRIPTION:League Name: Sat Men Open 1st Div  \nGame Type: Regular\nGame S
 tatus: Complete\nHome Team: Bayer FC\nAway Team: Peru County\nHome Score: 
 7\nAway Score: 0
END:VEVENT
BEGIN:VEVENT
UID:11155067@ezleagues.ezfacility.com
DTSTAMP:20260426T035001Z
CREATED:20260426T035001Z
DTSTART:20180204T032000Z
DTEND:20180204T041000Z
LOCATION:Harmans Premier Field #5
CONTACT:
SUMMARY:Peru County VS. Jaguares DE Peten 
DESCRIPTION:League Name: Sat Men Open 1st Div  \nGame Type: Regular\nGame S
 tatus: Complete\nHome Team: Peru County\nAway Team: Jaguares DE Peten \nHo
 me Score: 0\nAway Score: 3
END:VEVENT
BEGIN:VEVENT
UID:11155080@ezleagues.ezfacility.com
DTSTAMP:20260426T035001Z
CREATED:20260426T035001Z
DTSTART:20180211T000000Z
DTEND:20180211T005000Z
LOCATION:Harmans Premier Field #4
CONTACT:
SUMMARY:Peru County VS. FC La Nueva 
DESCRIPTION:League Name: Sat Men Open 1st Div  \nGame Type: Regular\nGame S
 tatus: Complete\nHome Team: Peru County\nAway Team: FC La Nueva \nHome Sco
 re: 2\nAway Score: 4
END:VEVENT
BEGIN:VEVENT
UID:11155093@ezleagues.ezfacility.com
DTSTAMP:20260426T035001Z
CREATED:20260426T035001Z
DTSTART:20180218T023000Z
DTEND:20180218T032000Z
LOCATION:Harmans Premier Field #5
CONTACT:
SUMMARY:Peru County VS. CD Halcones
DESCRIPTION:League Name: Sat Men Open 1st Div  \nGame Type: Regular\nGame S
 tatus: Complete\nHome Team: Peru County\nAway Team: CD Halcones\nHome Scor
 e: 4\nAway Score: 8
END:VEVENT
BEGIN:VEVENT
UID:11155105@ezleagues.ezfacility.com
DTSTAMP:20260426T035001Z
CREATED:20260426T035001Z
DTSTART:20180225T023000Z
DTEND:20180225T032000Z
LOCATION:Harmans Premier Field #4
CONTACT:
SUMMARY:Lena Verde VS. Peru County
DESCRIPTION:League Name: Sat Men Open 1st Div  \nGame Type: Regular\nGame S
 tatus: Complete\nHome Team: Lena Verde\nAway Team: Peru County\nHome Score
 : 4\nAway Score: 4
END:VEVENT
BEGIN:VEVENT
UID:11155116@ezleagues.ezfacility.com
DTSTAMP:20260426T035001Z
CREATED:20260426T035001Z
DTSTART:20180304T041000Z
DTEND:20180304T050000Z
LOCATION:Harmans Premier Field #5
CONTACT:
SUMMARY:Puebla VS. Peru County
DESCRIPTION:League Name: Sat Men Open 1st Div  \nGame Type: Regular\nGame S
 tatus: Complete\nHome Team: Puebla\nAway Team: Peru County\nHome Score: 0\
 nAway Score: 3
END:VEVENT
BEGIN:VEVENT
UID:11155127@ezleagues.ezfacility.com
DTSTAMP:20260426T035001Z
CREATED:20260426T035001Z
DTSTART:20180311T005000Z
DTEND:20180311T014000Z
LOCATION:Harmans Premier Field #4
CONTACT:
SUMMARY:Zacapa VS. Peru County
DESCRIPTION:League Name: Sat Men Open 1st Div  \nGame Type: Regular\nGame S
 tatus: Complete\nHome Team: Zacapa\nAway Team: Peru County\nHome Score: 0\
 nAway Score: 3
END:VEVENT
BEGIN:VEVENT
UID:11289571@ezleagues.ezfacility.com
DTSTAMP:20260426T035001Z
CREATED:20260426T035001Z
DTSTART:20180318T005000Z
DTEND:20180318T014000Z
LOCATION:Harmans Premier Field #5
CONTACT:
SUMMARY:Peru County VS. Arcenal
DESCRIPTION:League Name: Sat Men Open 1st Div  \nGame Type: Regular\nGame S
 tatus: Complete\nHome Team: Peru County\nAway Team: Arcenal\nHome Score: 3
 \nAway Score: 0
END:VEVENT
BEGIN:VEVENT
UID:11301637@ezleagues.ezfacility.com
DTSTAMP:20260426T035001Z
CREATED:20260426T035001Z
DTSTART:20180324T230000Z
DTEND:20180324T235000Z
LOCATION:Harmans Premier Field #4
CONTACT:
SUMMARY:Lena Verde VS. Peru County
DESCRIPTION:League Name: Sat Men Open 1st Div  \nGame Type: Regular\nGame S
 tatus: Complete\nHome Team: Lena Verde\nAway Team: Peru County\nHome Score
 : 3\nAway Score: 3
END:VEVENT
END:VCALENDAR
