BEGIN:VCALENDAR
VERSION:2.0
PRODID:-//EZFacility.com, Inc.//EZL 2.5.5.28621
BEGIN:VEVENT
UID:11161592@ezleagues.ezfacility.com
DTSTAMP:20260420T011202Z
CREATED:20260420T011202Z
DTSTART:20180126T030000Z
DTEND:20180126T035000Z
LOCATION:Field 2
CONTACT:
SUMMARY:PAAA VS. Sportz guyz
DESCRIPTION:League Name: Adult Soccer Session 3-Thursday Recreational\nGame
  Type: Regular\nGame Status: Complete\nHome Team: PAAA\nAway Team: Sportz 
 guyz\nHome Score: 10\nAway Score: 4
END:VEVENT
BEGIN:VEVENT
UID:11161596@ezleagues.ezfacility.com
DTSTAMP:20260420T011202Z
CREATED:20260420T011202Z
DTSTART:20180202T030000Z
DTEND:20180202T035000Z
LOCATION:Field 1
CONTACT:
SUMMARY:PAAA VS. Wasbeh
DESCRIPTION:League Name: Adult Soccer Session 3-Thursday Recreational\nGame
  Type: Regular\nGame Status: Complete\nHome Team: PAAA\nAway Team: Wasbeh\
 nHome Score: 16\nAway Score: 2
END:VEVENT
BEGIN:VEVENT
UID:11161601@ezleagues.ezfacility.com
DTSTAMP:20260420T011202Z
CREATED:20260420T011202Z
DTSTART:20180209T030000Z
DTEND:20180209T035000Z
LOCATION:Field 1
CONTACT:
SUMMARY:PAAA VS. Real FC
DESCRIPTION:League Name: Adult Soccer Session 3-Thursday Recreational\nGame
  Type: Regular\nGame Status: Complete\nHome Team: PAAA\nAway Team: Real FC
 \nHome Score: 7\nAway Score: 3
END:VEVENT
BEGIN:VEVENT
UID:11161605@ezleagues.ezfacility.com
DTSTAMP:20260420T011202Z
CREATED:20260420T011202Z
DTSTART:20180216T030000Z
DTEND:20180216T035000Z
LOCATION:Field 1
CONTACT:
SUMMARY:Purple Cobra's VS. PAAA
DESCRIPTION:League Name: Adult Soccer Session 3-Thursday Recreational\nGame
  Type: Regular\nGame Status: Complete\nHome Team: Purple Cobra's\nAway Tea
 m: PAAA\nHome Score: 10\nAway Score: 18
END:VEVENT
BEGIN:VEVENT
UID:11161606@ezleagues.ezfacility.com
DTSTAMP:20260420T011202Z
CREATED:20260420T011202Z
DTSTART:20180223T035000Z
DTEND:20180223T044000Z
LOCATION:Field 1
CONTACT:
SUMMARY:Warriors FC VS. PAAA
DESCRIPTION:League Name: Adult Soccer Session 3-Thursday Recreational\nGame
  Type: Regular\nGame Status: Complete\nHome Team: Warriors FC\nAway Team: 
 PAAA\nHome Score: 10\nAway Score: 7
END:VEVENT
BEGIN:VEVENT
UID:11161612@ezleagues.ezfacility.com
DTSTAMP:20260420T011202Z
CREATED:20260420T011202Z
DTSTART:20180302T035000Z
DTEND:20180302T044000Z
LOCATION:Field 2
CONTACT:
SUMMARY:Strikers VS. PAAA
DESCRIPTION:League Name: Adult Soccer Session 3-Thursday Recreational\nGame
  Type: Regular\nGame Status: Complete\nHome Team: Strikers\nAway Team: PAA
 A\nHome Score: 5\nAway Score: 23
END:VEVENT
BEGIN:VEVENT
UID:11161615@ezleagues.ezfacility.com
DTSTAMP:20260420T011202Z
CREATED:20260420T011202Z
DTSTART:20180309T035000Z
DTEND:20180309T044000Z
LOCATION:Field 1
CONTACT:
SUMMARY:Future FC VS. PAAA
DESCRIPTION:League Name: Adult Soccer Session 3-Thursday Recreational\nGame
  Type: Regular\nGame Status: Complete\nHome Team: Future FC\nAway Team: PA
 AA\nHome Score: 6\nAway Score: 6
END:VEVENT
BEGIN:VEVENT
UID:11260147@ezleagues.ezfacility.com
DTSTAMP:20260420T011202Z
CREATED:20260420T011202Z
DTSTART:20180316T020000Z
DTEND:20180316T025000Z
LOCATION:Field 1
CONTACT:
SUMMARY:PAAA VS. Strikers
DESCRIPTION:League Name: Adult Soccer Session 3-Thursday Recreational\nGame
  Type: Postseason\nGame Status: Complete\nHome Team: PAAA\nAway Team: Stri
 kers\nHome Score: 12\nAway Score: 10
END:VEVENT
BEGIN:VEVENT
UID:11260153@ezleagues.ezfacility.com
DTSTAMP:20260420T011202Z
CREATED:20260420T011202Z
DTSTART:20180323T020000Z
DTEND:20180323T025000Z
LOCATION:Field 1
CONTACT:
SUMMARY:PAAA VS. Sportz guyz
DESCRIPTION:League Name: Adult Soccer Session 3-Thursday Recreational\nGame
  Type: Postseason\nGame Status: Complete\nHome Team: PAAA\nAway Team: Spor
 tz guyz\nHome Score: 5\nAway Score: 2
END:VEVENT
BEGIN:VEVENT
UID:11260157@ezleagues.ezfacility.com
DTSTAMP:20260420T011202Z
CREATED:20260420T011202Z
DTSTART:20180323T025000Z
DTEND:20180323T034000Z
LOCATION:Field 1
CONTACT:
SUMMARY:PAAA VS. Future FC
DESCRIPTION:League Name: Adult Soccer Session 3-Thursday Recreational\nGame
  Type: Postseason\nGame Status: Complete\nHome Team: PAAA\nAway Team: Futu
 re FC\nHome Score: 7\nAway Score: 4
END:VEVENT
END:VCALENDAR
