BEGIN:VCALENDAR
VERSION:2.0
PRODID:-//EZFacility.com, Inc.//EZL 2.5.5.28621
BEGIN:VEVENT
UID:11184333@ezleagues.ezfacility.com
DTSTAMP:20260423T174710Z
CREATED:20260423T174710Z
DTSTART:20180211T125500Z
DTEND:20180211T135000Z
LOCATION:Harmans Premier Field #5
CONTACT:
SUMMARY:Pipeline 08 VS. TSC Rangers
DESCRIPTION:League Name: Youth (WINTER 2) SD2 Sat/Sun 2008 Boys GOLD\nGame 
 Type: Regular\nGame Status: Complete\nHome Team: Pipeline 08\nAway Team: T
 SC Rangers\nHome Score: 10\nAway Score: 5
END:VEVENT
BEGIN:VEVENT
UID:11184376@ezleagues.ezfacility.com
DTSTAMP:20260423T174710Z
CREATED:20260423T174710Z
DTSTART:20180218T135000Z
DTEND:20180218T144500Z
LOCATION:Harmans Premier Field #4
CONTACT:
SUMMARY:FSC Force VS. TSC Rangers
DESCRIPTION:League Name: Youth (WINTER 2) SD2 Sat/Sun 2008 Boys GOLD\nGame 
 Type: Regular\nGame Status: Complete\nHome Team: FSC Force\nAway Team: TSC
  Rangers\nHome Score: 5\nAway Score: 2
END:VEVENT
BEGIN:VEVENT
UID:11184419@ezleagues.ezfacility.com
DTSTAMP:20260423T174710Z
CREATED:20260423T174710Z
DTSTART:20180224T144500Z
DTEND:20180224T154000Z
LOCATION:Harmans Premier Field #4
CONTACT:
SUMMARY:BRAUSA VS. TSC Rangers
DESCRIPTION:League Name: Youth (WINTER 2) SD2 Sat/Sun 2008 Boys GOLD\nGame 
 Type: Regular\nGame Status: Complete\nHome Team: BRAUSA\nAway Team: TSC Ra
 ngers\nHome Score: 4\nAway Score: 6
END:VEVENT
BEGIN:VEVENT
UID:11184507@ezleagues.ezfacility.com
DTSTAMP:20260423T174710Z
CREATED:20260423T174710Z
DTSTART:20180311T144000Z
DTEND:20180311T153500Z
LOCATION:Harmans Premier Field #4
CONTACT:
SUMMARY:TSC Rangers VS. Baltimore Celtic 2008
DESCRIPTION:League Name: Youth (WINTER 2) SD2 Sat/Sun 2008 Boys GOLD\nGame 
 Type: Regular\nGame Status: Complete\nHome Team: TSC Rangers\nAway Team: B
 altimore Celtic 2008\nHome Score: 4\nAway Score: 7
END:VEVENT
BEGIN:VEVENT
UID:11184552@ezleagues.ezfacility.com
DTSTAMP:20260423T174710Z
CREATED:20260423T174710Z
DTSTART:20180324T201000Z
DTEND:20180324T210500Z
LOCATION:Harmans Premier Field #5
CONTACT:
SUMMARY:TSC Rangers VS. Pasadena SC
DESCRIPTION:League Name: Youth (WINTER 2) SD2 Sat/Sun 2008 Boys GOLD\nGame 
 Type: Regular\nGame Status: Complete\nHome Team: TSC Rangers\nAway Team: P
 asadena SC\nHome Score: 8\nAway Score: 3
END:VEVENT
BEGIN:VEVENT
UID:11184597@ezleagues.ezfacility.com
DTSTAMP:20260423T174710Z
CREATED:20260423T174710Z
DTSTART:20180325T163000Z
DTEND:20180325T172500Z
LOCATION:Harmans Premier Field #5
CONTACT:
SUMMARY:TSC Rangers VS. Pog-boom United
DESCRIPTION:League Name: Youth (WINTER 2) SD2 Sat/Sun 2008 Boys GOLD\nGame 
 Type: Regular\nGame Status: Complete\nHome Team: TSC Rangers\nAway Team: P
 og-boom United\nHome Score: 11\nAway Score: 3
END:VEVENT
BEGIN:VEVENT
UID:11253403@ezleagues.ezfacility.com
DTSTAMP:20260423T174710Z
CREATED:20260423T174710Z
DTSTART:20180409T220000Z
DTEND:20180409T225500Z
LOCATION:Harmans Premier Field #4
CONTACT:
SUMMARY:TSC Rangers VS. BSC Bandits Premier
DESCRIPTION:League Name: Youth (WINTER 2) SD2 Sat/Sun 2008 Boys GOLD\nGame 
 Type: Regular\nGame Status: Complete\nHome Team: TSC Rangers\nAway Team: B
 SC Bandits Premier\nHome Score: 8\nAway Score: 0
END:VEVENT
END:VCALENDAR
