BEGIN:VCALENDAR
VERSION:2.0
PRODID:-//EZFacility.com, Inc.//EZL 2.5.5.28621
BEGIN:VEVENT
UID:11188190@ezleagues.ezfacility.com
DTSTAMP:20260422T220456Z
CREATED:20260422T220456Z
DTSTART:20180210T135000Z
DTEND:20180210T144500Z
LOCATION:Jessup Premier Field #2
CONTACT:
SUMMARY:Real Barca VS. SEVP Premier
DESCRIPTION:League Name: Youth (WINTER 2) SD1 Sat/Sun 2005 Boys GOLD\nGame 
 Type: Regular\nGame Status: Complete\nHome Team: Real Barca\nAway Team: SE
 VP Premier\nHome Score: 7\nAway Score: 4
END:VEVENT
BEGIN:VEVENT
UID:11188227@ezleagues.ezfacility.com
DTSTAMP:20260422T220456Z
CREATED:20260422T220456Z
DTSTART:20180217T125500Z
DTEND:20180217T135000Z
LOCATION:Jessup Premier Field #2
CONTACT:
SUMMARY:CSA Venom Select VS. SEVP Premier
DESCRIPTION:League Name: Youth (WINTER 2) SD1 Sat/Sun 2005 Boys GOLD\nGame 
 Type: Regular\nGame Status: Complete\nHome Team: CSA Venom Select\nAway Te
 am: SEVP Premier\nHome Score: 0\nAway Score: 8
END:VEVENT
BEGIN:VEVENT
UID:11188263@ezleagues.ezfacility.com
DTSTAMP:20260422T220456Z
CREATED:20260422T220456Z
DTSTART:20180225T140000Z
DTEND:20180225T145500Z
LOCATION:Jessup Premier Field #1
CONTACT:
SUMMARY:MD Rush VS. SEVP Premier
DESCRIPTION:League Name: Youth (WINTER 2) SD1 Sat/Sun 2005 Boys GOLD\nGame 
 Type: Regular\nGame Status: Complete\nHome Team: MD Rush\nAway Team: SEVP 
 Premier\nHome Score: 3\nAway Score: 0
END:VEVENT
BEGIN:VEVENT
UID:11188333@ezleagues.ezfacility.com
DTSTAMP:20260422T220456Z
CREATED:20260422T220456Z
DTSTART:20180303T211000Z
DTEND:20180303T220500Z
LOCATION:Jessup Premier Field #2
CONTACT:
SUMMARY:SEVP Premier VS. SAC Premier Blue '05
DESCRIPTION:League Name: Youth (WINTER 2) SD1 Sat/Sun 2005 Boys GOLD\nGame 
 Type: Regular\nGame Status: Complete\nHome Team: SEVP Premier\nAway Team: 
 SAC Premier Blue '05\nHome Score: 0\nAway Score: 8
END:VEVENT
BEGIN:VEVENT
UID:11188298@ezleagues.ezfacility.com
DTSTAMP:20260422T220456Z
CREATED:20260422T220456Z
DTSTART:20180304T180000Z
DTEND:20180304T185500Z
LOCATION:Jessup Premier Field #2
CONTACT:
SUMMARY:Brasil FC VS. SEVP Premier
DESCRIPTION:League Name: Youth (WINTER 2) SD1 Sat/Sun 2005 Boys GOLD\nGame 
 Type: Regular\nGame Status: Complete\nHome Team: Brasil FC\nAway Team: SEV
 P Premier\nHome Score: 8\nAway Score: 0
END:VEVENT
BEGIN:VEVENT
UID:11188370@ezleagues.ezfacility.com
DTSTAMP:20260422T220456Z
CREATED:20260422T220456Z
DTSTART:20180318T140000Z
DTEND:20180318T145500Z
LOCATION:Jessup Premier Field #2
CONTACT:
SUMMARY:SEVP Premier VS. Real Barca
DESCRIPTION:League Name: Youth (WINTER 2) SD1 Sat/Sun 2005 Boys GOLD\nGame 
 Type: Regular\nGame Status: Complete\nHome Team: SEVP Premier\nAway Team: 
 Real Barca\nHome Score: 3\nAway Score: 0
END:VEVENT
BEGIN:VEVENT
UID:11188407@ezleagues.ezfacility.com
DTSTAMP:20260422T220456Z
CREATED:20260422T220456Z
DTSTART:20180324T182000Z
DTEND:20180324T191500Z
LOCATION:Jessup Premier Field #2
CONTACT:
SUMMARY:SEVP Premier VS. CSA Venom Select
DESCRIPTION:League Name: Youth (WINTER 2) SD1 Sat/Sun 2005 Boys GOLD\nGame 
 Type: Regular\nGame Status: Complete\nHome Team: SEVP Premier\nAway Team: 
 CSA Venom Select\nHome Score: 3\nAway Score: 1
END:VEVENT
END:VCALENDAR
