BEGIN:VCALENDAR
VERSION:2.0
PRODID:-//EZFacility.com, Inc.//EZL 2.5.5.28621
BEGIN:VEVENT
UID:11188189@ezleagues.ezfacility.com
DTSTAMP:20260421T223855Z
CREATED:20260421T223855Z
DTSTART:20180210T125500Z
DTEND:20180210T135000Z
LOCATION:Jessup Premier Field #2
CONTACT:
SUMMARY:SAC Premier Blue '05 VS. MD Rush
DESCRIPTION:League Name: Youth (WINTER 2) SD1 Sat/Sun 2005 Boys GOLD\nGame 
 Type: Regular\nGame Status: Complete\nHome Team: SAC Premier Blue '05\nAwa
 y Team: MD Rush\nHome Score: 8\nAway Score: 1
END:VEVENT
BEGIN:VEVENT
UID:11188226@ezleagues.ezfacility.com
DTSTAMP:20260421T223855Z
CREATED:20260421T223855Z
DTSTART:20180217T220500Z
DTEND:20180217T230000Z
LOCATION:Jessup Premier Field #2
CONTACT:
SUMMARY:Brasil FC VS. MD Rush
DESCRIPTION:League Name: Youth (WINTER 2) SD1 Sat/Sun 2005 Boys GOLD\nGame 
 Type: Regular\nGame Status: Complete\nHome Team: Brasil FC\nAway Team: MD 
 Rush\nHome Score: 6\nAway Score: 3
END:VEVENT
BEGIN:VEVENT
UID:11188334@ezleagues.ezfacility.com
DTSTAMP:20260421T223855Z
CREATED:20260421T223855Z
DTSTART:20180219T163500Z
DTEND:20180219T173000Z
LOCATION:Jessup Premier Field #2
CONTACT:
SUMMARY:CSA Venom Select VS. MD Rush
DESCRIPTION:League Name: Youth (WINTER 2) SD1 Sat/Sun 2005 Boys GOLD\nGame 
 Type: Regular\nGame Status: Complete\nHome Team: CSA Venom Select\nAway Te
 am: MD Rush\nHome Score: 2\nAway Score: 6
END:VEVENT
BEGIN:VEVENT
UID:11188263@ezleagues.ezfacility.com
DTSTAMP:20260421T223855Z
CREATED:20260421T223855Z
DTSTART:20180225T140000Z
DTEND:20180225T145500Z
LOCATION:Jessup Premier Field #1
CONTACT:
SUMMARY:MD Rush VS. SEVP Premier
DESCRIPTION:League Name: Youth (WINTER 2) SD1 Sat/Sun 2005 Boys GOLD\nGame 
 Type: Regular\nGame Status: Complete\nHome Team: MD Rush\nAway Team: SEVP 
 Premier\nHome Score: 3\nAway Score: 0
END:VEVENT
BEGIN:VEVENT
UID:11188299@ezleagues.ezfacility.com
DTSTAMP:20260421T223855Z
CREATED:20260421T223855Z
DTSTART:20180303T154000Z
DTEND:20180303T163500Z
LOCATION:Jessup Premier Field #1
CONTACT:
SUMMARY:Real Barca VS. MD Rush
DESCRIPTION:League Name: Youth (WINTER 2) SD1 Sat/Sun 2005 Boys GOLD\nGame 
 Type: Regular\nGame Status: Complete\nHome Team: Real Barca\nAway Team: MD
  Rush\nHome Score: 6\nAway Score: 5
END:VEVENT
BEGIN:VEVENT
UID:11188406@ezleagues.ezfacility.com
DTSTAMP:20260421T223855Z
CREATED:20260421T223855Z
DTSTART:20180324T172500Z
DTEND:20180324T182000Z
LOCATION:Jessup Premier Field #2
CONTACT:
SUMMARY:MD Rush VS. Brasil FC
DESCRIPTION:League Name: Youth (WINTER 2) SD1 Sat/Sun 2005 Boys GOLD\nGame 
 Type: Regular\nGame Status: Complete\nHome Team: MD Rush\nAway Team: Brasi
 l FC\nHome Score: 4\nAway Score: 3
END:VEVENT
BEGIN:VEVENT
UID:11188369@ezleagues.ezfacility.com
DTSTAMP:20260421T223855Z
CREATED:20260421T223855Z
DTSTART:20180325T120000Z
DTEND:20180325T125500Z
LOCATION:Jessup Premier Field #1
CONTACT:
SUMMARY:MD Rush VS. SAC Premier Blue '05
DESCRIPTION:League Name: Youth (WINTER 2) SD1 Sat/Sun 2005 Boys GOLD\nGame 
 Type: Regular\nGame Status: Complete\nHome Team: MD Rush\nAway Team: SAC P
 remier Blue '05\nHome Score: 0\nAway Score: 6
END:VEVENT
END:VCALENDAR
