BEGIN:VCALENDAR
VERSION:2.0
PRODID:-//EZFacility.com, Inc.//EZL 2.5.5.28621
BEGIN:VEVENT
UID:11188179@ezleagues.ezfacility.com
DTSTAMP:20260426T033744Z
CREATED:20260426T033744Z
DTSTART:20180211T140000Z
DTEND:20180211T145500Z
LOCATION:Jessup Premier Field #2
CONTACT:
SUMMARY:CC Strikers VS. DAA Gators Green
DESCRIPTION:League Name: Youth (WINTER 2) SD1 Sat/Sun 2007 Boys GOLD\nGame 
 Type: Regular\nGame Status: Complete\nHome Team: CC Strikers\nAway Team: D
 AA Gators Green\nHome Score: 5\nAway Score: 2
END:VEVENT
BEGIN:VEVENT
UID:11188216@ezleagues.ezfacility.com
DTSTAMP:20260426T033744Z
CREATED:20260426T033744Z
DTSTART:20180217T173000Z
DTEND:20180217T182500Z
LOCATION:Jessup Premier Field #2
CONTACT:
SUMMARY:DAA Gators Green VS. A3 United
DESCRIPTION:League Name: Youth (WINTER 2) SD1 Sat/Sun 2007 Boys GOLD\nGame 
 Type: Regular\nGame Status: Complete\nHome Team: DAA Gators Green\nAway Te
 am: A3 United\nHome Score: 4\nAway Score: 6
END:VEVENT
BEGIN:VEVENT
UID:11188326@ezleagues.ezfacility.com
DTSTAMP:20260426T033744Z
CREATED:20260426T033744Z
DTSTART:20180219T192000Z
DTEND:20180219T201500Z
LOCATION:Jessup Premier Field #1
CONTACT:
SUMMARY:SAC 2008 Premier Blue VS. DAA Gators Green
DESCRIPTION:League Name: Youth (WINTER 2) SD1 Sat/Sun 2007 Boys GOLD\nGame 
 Type: Regular\nGame Status: Complete\nHome Team: SAC 2008 Premier Blue\nAw
 ay Team: DAA Gators Green\nHome Score: 6\nAway Score: 1
END:VEVENT
BEGIN:VEVENT
UID:11188290@ezleagues.ezfacility.com
DTSTAMP:20260426T033744Z
CREATED:20260426T033744Z
DTSTART:20180219T211000Z
DTEND:20180219T220500Z
LOCATION:Jessup Premier Field #1
CONTACT:
SUMMARY:DAA Gators Green VS. SAC United Gold
DESCRIPTION:League Name: Youth (WINTER 2) SD1 Sat/Sun 2007 Boys GOLD\nGame 
 Type: Regular\nGame Status: Complete\nHome Team: DAA Gators Green\nAway Te
 am: SAC United Gold\nHome Score: 3\nAway Score: 1
END:VEVENT
BEGIN:VEVENT
UID:11188253@ezleagues.ezfacility.com
DTSTAMP:20260426T033744Z
CREATED:20260426T033744Z
DTSTART:20180225T180000Z
DTEND:20180225T185500Z
LOCATION:Jessup Premier Field #1
CONTACT:
SUMMARY:DAA Gators Green VS. BRAUSA 07
DESCRIPTION:League Name: Youth (WINTER 2) SD1 Sat/Sun 2007 Boys GOLD\nGame 
 Type: Regular\nGame Status: Complete\nHome Team: DAA Gators Green\nAway Te
 am: BRAUSA 07\nHome Score: 2\nAway Score: 8
END:VEVENT
BEGIN:VEVENT
UID:11188361@ezleagues.ezfacility.com
DTSTAMP:20260426T033744Z
CREATED:20260426T033744Z
DTSTART:20180301T140000Z
DTEND:20180301T145500Z
LOCATION:Jessup Premier Field #2
CONTACT:
SUMMARY:Waldorf SC '07 Boys - Orange VS. DAA Gators Green
DESCRIPTION:League Name: Youth (WINTER 2) SD1 Sat/Sun 2007 Boys GOLD\nGame 
 Type: Regular\nGame Status: Postponed\nHome Team: Waldorf SC '07 Boys - Or
 ange\nAway Team: DAA Gators Green\n
END:VEVENT
BEGIN:VEVENT
UID:11188396@ezleagues.ezfacility.com
DTSTAMP:20260426T033744Z
CREATED:20260426T033744Z
DTSTART:20180324T125000Z
DTEND:20180324T134500Z
LOCATION:Jessup Premier Field #2
CONTACT:
SUMMARY:MD International 2007 VS. DAA Gators Green
DESCRIPTION:League Name: Youth (WINTER 2) SD1 Sat/Sun 2007 Boys GOLD\nGame 
 Type: Regular\nGame Status: Complete\nHome Team: MD International 2007\nAw
 ay Team: DAA Gators Green\nHome Score: 3\nAway Score: 0
END:VEVENT
END:VCALENDAR
