BEGIN:VCALENDAR
VERSION:2.0
PRODID:-//EZFacility.com, Inc.//EZL 2.5.5.28621
BEGIN:VEVENT
UID:11265026@ezleagues.ezfacility.com
DTSTAMP:20260426T033853Z
CREATED:20260426T033853Z
DTSTART:20180309T013000Z
DTEND:20180309T023000Z
LOCATION:Vball Court 6
CONTACT:
SUMMARY:Beta Blockers VS. Smooth Operators
DESCRIPTION:League Name: Thursday COED 6's (C Division)-Spring (2018)-Blue\
 nGame Type: Regular\nGame Status: Complete\nHome Team: Beta Blockers\nAway
  Team: Smooth Operators\nHome Score: 0\nAway Score: 3
END:VEVENT
BEGIN:VEVENT
UID:11265030@ezleagues.ezfacility.com
DTSTAMP:20260426T033853Z
CREATED:20260426T033853Z
DTSTART:20180316T013000Z
DTEND:20180316T023000Z
LOCATION:Vball Court 6
CONTACT:
SUMMARY:Won-Hand Whackers VS. Smooth Operators
DESCRIPTION:League Name: Thursday COED 6's (C Division)-Spring (2018)-Blue\
 nGame Type: Regular\nGame Status: Complete\nHome Team: Won-Hand Whackers\n
 Away Team: Smooth Operators\nHome Score: 0\nAway Score: 3
END:VEVENT
BEGIN:VEVENT
UID:11265034@ezleagues.ezfacility.com
DTSTAMP:20260426T033853Z
CREATED:20260426T033853Z
DTSTART:20180322T233000Z
DTEND:20180323T003000Z
LOCATION:Vball Court 3
CONTACT:
SUMMARY:CrackerJacks VS. Smooth Operators
DESCRIPTION:League Name: Thursday COED 6's (C Division)-Spring (2018)-Blue\
 nGame Type: Regular\nGame Status: Complete\nHome Team: CrackerJacks\nAway 
 Team: Smooth Operators\nHome Score: 3\nAway Score: 0
END:VEVENT
BEGIN:VEVENT
UID:11265037@ezleagues.ezfacility.com
DTSTAMP:20260426T033853Z
CREATED:20260426T033853Z
DTSTART:20180329T223000Z
DTEND:20180329T233000Z
LOCATION:Vball Court 4
CONTACT:
SUMMARY:Smooth Operators VS. The Stonecutters
DESCRIPTION:League Name: Thursday COED 6's (C Division)-Spring (2018)-Blue\
 nGame Type: Regular\nGame Status: Complete\nHome Team: Smooth Operators\nA
 way Team: The Stonecutters\nHome Score: 3\nAway Score: 0
END:VEVENT
BEGIN:VEVENT
UID:11265039@ezleagues.ezfacility.com
DTSTAMP:20260426T033853Z
CREATED:20260426T033853Z
DTSTART:20180406T003000Z
DTEND:20180406T013000Z
LOCATION:Vball Court 6
CONTACT:
SUMMARY:Team Zoltan VS. Smooth Operators
DESCRIPTION:League Name: Thursday COED 6's (C Division)-Spring (2018)-Blue\
 nGame Type: Regular\nGame Status: Complete\nHome Team: Team Zoltan\nAway T
 eam: Smooth Operators\nHome Score: 1\nAway Score: 2
END:VEVENT
BEGIN:VEVENT
UID:11265041@ezleagues.ezfacility.com
DTSTAMP:20260426T033853Z
CREATED:20260426T033853Z
DTSTART:20180413T013000Z
DTEND:20180413T023000Z
LOCATION:Vball Court 6
CONTACT:
SUMMARY:Smooth Operators VS. Beta Blockers
DESCRIPTION:League Name: Thursday COED 6's (C Division)-Spring (2018)-Blue\
 nGame Type: Regular\nGame Status: Complete\nHome Team: Smooth Operators\nA
 way Team: Beta Blockers\nHome Score: 3\nAway Score: 0
END:VEVENT
BEGIN:VEVENT
UID:11265045@ezleagues.ezfacility.com
DTSTAMP:20260426T033853Z
CREATED:20260426T033853Z
DTSTART:20180420T013000Z
DTEND:20180420T023000Z
LOCATION:Vball Court 6
CONTACT:
SUMMARY:Smooth Operators VS. Won-Hand Whackers
DESCRIPTION:League Name: Thursday COED 6's (C Division)-Spring (2018)-Blue\
 nGame Type: Regular\nGame Status: Complete\nHome Team: Smooth Operators\nA
 way Team: Won-Hand Whackers\nHome Score: 3\nAway Score: 0
END:VEVENT
BEGIN:VEVENT
UID:11265049@ezleagues.ezfacility.com
DTSTAMP:20260426T033853Z
CREATED:20260426T033853Z
DTSTART:20180427T013000Z
DTEND:20180427T023000Z
LOCATION:Vball Court 6
CONTACT:
SUMMARY:Smooth Operators VS. CrackerJacks
DESCRIPTION:League Name: Thursday COED 6's (C Division)-Spring (2018)-Blue\
 nGame Type: Regular\nGame Status: Complete\nHome Team: Smooth Operators\nA
 way Team: CrackerJacks\nHome Score: 3\nAway Score: 0
END:VEVENT
BEGIN:VEVENT
UID:11265052@ezleagues.ezfacility.com
DTSTAMP:20260426T033853Z
CREATED:20260426T033853Z
DTSTART:20180504T013000Z
DTEND:20180504T023000Z
LOCATION:Vball Court 3
CONTACT:
SUMMARY:The Stonecutters VS. Smooth Operators
DESCRIPTION:League Name: Thursday COED 6's (C Division)-Spring (2018)-Blue\
 nGame Type: Regular\nGame Status: Complete\nHome Team: The Stonecutters\nA
 way Team: Smooth Operators\nHome Score: 1\nAway Score: 2
END:VEVENT
BEGIN:VEVENT
UID:11407791@ezleagues.ezfacility.com
DTSTAMP:20260426T033853Z
CREATED:20260426T033853Z
DTSTART:20180517T233000Z
DTEND:20180518T003000Z
LOCATION:Vball Court 6
CONTACT:
SUMMARY:Smooth Operators VS. CrackerJacks
DESCRIPTION:League Name: Thursday COED 6's (C Division)-Spring (2018)-Blue\
 nGame Type: Postseason\nGame Status: Complete\nHome Team: Smooth Operators
 \nAway Team: CrackerJacks\nHome Score: 2\nAway Score: 0
END:VEVENT
BEGIN:VEVENT
UID:11407793@ezleagues.ezfacility.com
DTSTAMP:20260426T033853Z
CREATED:20260426T033853Z
DTSTART:20180518T003000Z
DTEND:20180518T013000Z
LOCATION:Vball Court 6
CONTACT:
SUMMARY:Smooth Operators VS. Team Zoltan
DESCRIPTION:League Name: Thursday COED 6's (C Division)-Spring (2018)-Blue\
 nGame Type: Postseason\nGame Status: Complete\nHome Team: Smooth Operators
 \nAway Team: Team Zoltan\nHome Score: 2\nAway Score: 0
END:VEVENT
END:VCALENDAR
