BEGIN:VCALENDAR
VERSION:2.0
PRODID:-//EZFacility.com, Inc.//EZL 2.5.5.28621
BEGIN:VEVENT
UID:11270936@ezleagues.ezfacility.com
DTSTAMP:20260426T033844Z
CREATED:20260426T033844Z
DTSTART:20180301T224500Z
DTEND:20180301T233000Z
LOCATION:Field 2A (Rec)
CONTACT:
SUMMARY:Pre-K VS. Kindergarten
DESCRIPTION:League Name: Winter Soccer-Winter III-5v5 League-05/06\nGame Ty
 pe: Regular\nGame Status: Pending\nHome Team: Pre-K\nAway Team: Kindergart
 en\n
END:VEVENT
BEGIN:VEVENT
UID:11270944@ezleagues.ezfacility.com
DTSTAMP:20260426T033844Z
CREATED:20260426T033844Z
DTSTART:20180308T224500Z
DTEND:20180308T233000Z
LOCATION:Field 2B (Rec)
CONTACT:
SUMMARY:Pre-K VS. Kindergarten
DESCRIPTION:League Name: Winter Soccer-Winter III-5v5 League-05/06\nGame Ty
 pe: Regular\nGame Status: Pending\nHome Team: Pre-K\nAway Team: Kindergart
 en\n
END:VEVENT
BEGIN:VEVENT
UID:11270952@ezleagues.ezfacility.com
DTSTAMP:20260426T033844Z
CREATED:20260426T033844Z
DTSTART:20180315T214500Z
DTEND:20180315T223000Z
LOCATION:Field 2C (Rec)
CONTACT:
SUMMARY:Pre-K VS. Kindergarten
DESCRIPTION:League Name: Winter Soccer-Winter III-5v5 League-05/06\nGame Ty
 pe: Regular\nGame Status: Pending\nHome Team: Pre-K\nAway Team: Kindergart
 en\n
END:VEVENT
BEGIN:VEVENT
UID:11270960@ezleagues.ezfacility.com
DTSTAMP:20260426T033844Z
CREATED:20260426T033844Z
DTSTART:20180322T214500Z
DTEND:20180322T223000Z
LOCATION:Field 2A (Rec)
CONTACT:
SUMMARY:Kindergarten VS. Pre-K
DESCRIPTION:League Name: Winter Soccer-Winter III-5v5 League-05/06\nGame Ty
 pe: Regular\nGame Status: Pending\nHome Team: Kindergarten\nAway Team: Pre
 -K\n
END:VEVENT
BEGIN:VEVENT
UID:11270976@ezleagues.ezfacility.com
DTSTAMP:20260426T033844Z
CREATED:20260426T033844Z
DTSTART:20180405T214500Z
DTEND:20180405T223000Z
LOCATION:Field 2B (Rec)
CONTACT:
SUMMARY:Kindergarten VS. Pre-K
DESCRIPTION:League Name: Winter Soccer-Winter III-5v5 League-05/06\nGame Ty
 pe: Regular\nGame Status: Pending\nHome Team: Kindergarten\nAway Team: Pre
 -K\n
END:VEVENT
BEGIN:VEVENT
UID:11270984@ezleagues.ezfacility.com
DTSTAMP:20260426T033844Z
CREATED:20260426T033844Z
DTSTART:20180412T214500Z
DTEND:20180412T223000Z
LOCATION:Field 2C (Rec)
CONTACT:
SUMMARY:Kindergarten VS. Pre-K
DESCRIPTION:League Name: Winter Soccer-Winter III-5v5 League-05/06\nGame Ty
 pe: Regular\nGame Status: Pending\nHome Team: Kindergarten\nAway Team: Pre
 -K\n
END:VEVENT
BEGIN:VEVENT
UID:11270968@ezleagues.ezfacility.com
DTSTAMP:20260426T033844Z
CREATED:20260426T033844Z
DTSTART:20180419T214500Z
DTEND:20180419T223000Z
LOCATION:Field 2B (Rec)
CONTACT:
SUMMARY:Kindergarten VS. Pre-K
DESCRIPTION:League Name: Winter Soccer-Winter III-5v5 League-05/06\nGame Ty
 pe: Postseason\nGame Status: Pending\nHome Team: Kindergarten\nAway Team: 
 Pre-K\n
END:VEVENT
END:VCALENDAR
