BEGIN:VCALENDAR
VERSION:2.0
PRODID:-//EZFacility.com, Inc.//EZL 2.5.5.28621
BEGIN:VEVENT
UID:11462315@ezleagues.ezfacility.com
DTSTAMP:20260426T033554Z
CREATED:20260426T033554Z
DTSTART:20180615T001500Z
DTEND:20180615T014500Z
LOCATION:FSA Park - Field 6 (Turf)
CONTACT:
SUMMARY:City FC VS. Blue Jays
DESCRIPTION:League Name: Summer-Adult-Men's U23 (Outdoor)\nGame Type: Regul
 ar\nGame Status: Complete\nHome Team: City FC\nAway Team: Blue Jays\nHome 
 Score: 5\nAway Score: 1
END:VEVENT
BEGIN:VEVENT
UID:11462322@ezleagues.ezfacility.com
DTSTAMP:20260426T033554Z
CREATED:20260426T033554Z
DTSTART:20180620T001500Z
DTEND:20180620T014500Z
LOCATION:FSA Park - Field 7 (Turf)
CONTACT:
SUMMARY:City FC VS. Wallingford
DESCRIPTION:League Name: Summer-Adult-Men's U23 (Outdoor)\nGame Type: Regul
 ar\nGame Status: Complete\nHome Team: City FC\nAway Team: Wallingford\nHom
 e Score: 4\nAway Score: 3
END:VEVENT
BEGIN:VEVENT
UID:11462329@ezleagues.ezfacility.com
DTSTAMP:20260426T033554Z
CREATED:20260426T033554Z
DTSTART:20180629T001500Z
DTEND:20180629T014500Z
LOCATION:FSA Park - Field 8 (Turf)
CONTACT:
SUMMARY:City FC VS. SSC U23 Red
DESCRIPTION:League Name: Summer-Adult-Men's U23 (Outdoor)\nGame Type: Regul
 ar\nGame Status: Complete\nHome Team: City FC\nAway Team: SSC U23 Red\nHom
 e Score: 1\nAway Score: 4
END:VEVENT
BEGIN:VEVENT
UID:11462335@ezleagues.ezfacility.com
DTSTAMP:20260426T033554Z
CREATED:20260426T033554Z
DTSTART:20180706T001500Z
DTEND:20180706T014500Z
LOCATION:FSA Park - Field 8 (Turf)
CONTACT:
SUMMARY:Southbury FC VS. City FC
DESCRIPTION:League Name: Summer-Adult-Men's U23 (Outdoor)\nGame Type: Regul
 ar\nGame Status: Complete\nHome Team: Southbury FC\nAway Team: City FC\nHo
 me Score: 1\nAway Score: 4
END:VEVENT
BEGIN:VEVENT
UID:11462340@ezleagues.ezfacility.com
DTSTAMP:20260426T033554Z
CREATED:20260426T033554Z
DTSTART:20180713T001500Z
DTEND:20180713T014500Z
LOCATION:FSA Park - Field 7 (Turf)
CONTACT:
SUMMARY:City FC VS. SSC U23 Navy
DESCRIPTION:League Name: Summer-Adult-Men's U23 (Outdoor)\nGame Type: Regul
 ar\nGame Status: Complete\nHome Team: City FC\nAway Team: SSC U23 Navy\nHo
 me Score: 1\nAway Score: 1
END:VEVENT
BEGIN:VEVENT
UID:11462350@ezleagues.ezfacility.com
DTSTAMP:20260426T033554Z
CREATED:20260426T033554Z
DTSTART:20180725T001500Z
DTEND:20180725T014500Z
LOCATION:FSA Park - Field 6 (Turf)
CONTACT:
SUMMARY:FSA FC Elite VS. City FC
DESCRIPTION:League Name: Summer-Adult-Men's U23 (Outdoor)\nGame Type: Regul
 ar\nGame Status: Complete\nHome Team: FSA FC Elite\nAway Team: City FC\nHo
 me Score: 1\nAway Score: 5
END:VEVENT
BEGIN:VEVENT
UID:11462355@ezleagues.ezfacility.com
DTSTAMP:20260426T033554Z
CREATED:20260426T033554Z
DTSTART:20180801T001500Z
DTEND:20180801T014500Z
LOCATION:FSA Park - Field 6 (Turf)
CONTACT:
SUMMARY:Connecticut United VS. City FC
DESCRIPTION:League Name: Summer-Adult-Men's U23 (Outdoor)\nGame Type: Regul
 ar\nGame Status: Complete\nHome Team: Connecticut United\nAway Team: City 
 FC\nHome Score: 0\nAway Score: 1
END:VEVENT
BEGIN:VEVENT
UID:11462345@ezleagues.ezfacility.com
DTSTAMP:20260426T033554Z
CREATED:20260426T033554Z
DTSTART:20180808T001500Z
DTEND:20180808T014500Z
LOCATION:FSA Park - Field 7 (Turf)
CONTACT:
SUMMARY:The Ports VS. City FC
DESCRIPTION:League Name: Summer-Adult-Men's U23 (Outdoor)\nGame Type: Regul
 ar\nGame Status: Complete\nHome Team: The Ports\nAway Team: City FC\nHome 
 Score: 0\nAway Score: 3
END:VEVENT
END:VCALENDAR
