BEGIN:VCALENDAR
VERSION:2.0
PRODID:-//EZFacility.com, Inc.//EZL 2.5.5.28621
BEGIN:VEVENT
UID:11462316@ezleagues.ezfacility.com
DTSTAMP:20260423T161452Z
CREATED:20260423T161452Z
DTSTART:20180615T001500Z
DTEND:20180615T014500Z
LOCATION:FSA Park - Field 7 (Turf)
CONTACT:
SUMMARY:SSC U23 Red VS. FSA FC Elite
DESCRIPTION:League Name: Summer-Adult-Men's U23 (Outdoor)\nGame Type: Regul
 ar\nGame Status: Complete\nHome Team: SSC U23 Red\nAway Team: FSA FC Elite
 \nHome Score: 5\nAway Score: 0
END:VEVENT
BEGIN:VEVENT
UID:11462323@ezleagues.ezfacility.com
DTSTAMP:20260423T161452Z
CREATED:20260423T161452Z
DTSTART:20180622T001500Z
DTEND:20180622T014500Z
LOCATION:FSA Park - Field 6 (Turf)
CONTACT:
SUMMARY:SSC U23 Red VS. Connecticut United
DESCRIPTION:League Name: Summer-Adult-Men's U23 (Outdoor)\nGame Type: Regul
 ar\nGame Status: Complete\nHome Team: SSC U23 Red\nAway Team: Connecticut 
 United\nHome Score: 4\nAway Score: 0
END:VEVENT
BEGIN:VEVENT
UID:11462329@ezleagues.ezfacility.com
DTSTAMP:20260423T161452Z
CREATED:20260423T161452Z
DTSTART:20180629T001500Z
DTEND:20180629T014500Z
LOCATION:FSA Park - Field 8 (Turf)
CONTACT:
SUMMARY:City FC VS. SSC U23 Red
DESCRIPTION:League Name: Summer-Adult-Men's U23 (Outdoor)\nGame Type: Regul
 ar\nGame Status: Complete\nHome Team: City FC\nAway Team: SSC U23 Red\nHom
 e Score: 1\nAway Score: 4
END:VEVENT
BEGIN:VEVENT
UID:11462334@ezleagues.ezfacility.com
DTSTAMP:20260423T161452Z
CREATED:20260423T161452Z
DTSTART:20180704T001500Z
DTEND:20180704T014500Z
LOCATION:FSA Park - Field 8 (Turf)
CONTACT:
SUMMARY:SSC U23 Red VS. Inter FC
DESCRIPTION:League Name: Summer-Adult-Men's U23 (Outdoor)\nGame Type: Regul
 ar\nGame Status: Complete\nHome Team: SSC U23 Red\nAway Team: Inter FC\nHo
 me Score: 1\nAway Score: 1
END:VEVENT
BEGIN:VEVENT
UID:11462339@ezleagues.ezfacility.com
DTSTAMP:20260423T161452Z
CREATED:20260423T161452Z
DTSTART:20180713T001500Z
DTEND:20180713T014500Z
LOCATION:FSA Park - Field 6 (Turf)
CONTACT:
SUMMARY:The Blues VS. SSC U23 Red
DESCRIPTION:League Name: Summer-Adult-Men's U23 (Outdoor)\nGame Type: Regul
 ar\nGame Status: Complete\nHome Team: The Blues\nAway Team: SSC U23 Red\nH
 ome Score: 2\nAway Score: 2
END:VEVENT
BEGIN:VEVENT
UID:11462344@ezleagues.ezfacility.com
DTSTAMP:20260423T161452Z
CREATED:20260423T161452Z
DTSTART:20180720T001500Z
DTEND:20180720T014500Z
LOCATION:FSA Park - Field 7 (Turf)
CONTACT:
SUMMARY:Blue Jays VS. SSC U23 Red
DESCRIPTION:League Name: Summer-Adult-Men's U23 (Outdoor)\nGame Type: Regul
 ar\nGame Status: Complete\nHome Team: Blue Jays\nAway Team: SSC U23 Red\nH
 ome Score: 1\nAway Score: 8
END:VEVENT
BEGIN:VEVENT
UID:11462349@ezleagues.ezfacility.com
DTSTAMP:20260423T161452Z
CREATED:20260423T161452Z
DTSTART:20180727T001500Z
DTEND:20180727T014500Z
LOCATION:FSA Park - Field 7 (Turf)
CONTACT:
SUMMARY:Wallingford VS. SSC U23 Red
DESCRIPTION:League Name: Summer-Adult-Men's U23 (Outdoor)\nGame Type: Regul
 ar\nGame Status: Complete\nHome Team: Wallingford\nAway Team: SSC U23 Red\
 nHome Score: 0\nAway Score: 3
END:VEVENT
BEGIN:VEVENT
UID:11462354@ezleagues.ezfacility.com
DTSTAMP:20260423T161452Z
CREATED:20260423T161452Z
DTSTART:20180803T001500Z
DTEND:20180803T014500Z
LOCATION:FSA Park - Field 8 (Turf)
CONTACT:
SUMMARY:SSC U23 Red VS. FSA FC Navy
DESCRIPTION:League Name: Summer-Adult-Men's U23 (Outdoor)\nGame Type: Regul
 ar\nGame Status: Complete\nHome Team: SSC U23 Red\nAway Team: FSA FC Navy\
 nHome Score: 3\nAway Score: 1
END:VEVENT
END:VCALENDAR
