BEGIN:VCALENDAR
VERSION:2.0
PRODID:-//EZFacility.com, Inc.//EZL 2.5.5.28621
BEGIN:VEVENT
UID:11285749@ezleagues.ezfacility.com
DTSTAMP:20260426T033734Z
CREATED:20260426T033734Z
DTSTART:20180325T180000Z
DTEND:20180325T190000Z
LOCATION:Field 1- South
CONTACT:
SUMMARY:Hawks VS. Decepticons
DESCRIPTION:League Name: Flag Football Spring 2018\nGame Type: Regular\nGam
 e Status: Complete\nHome Team: Hawks\nAway Team: Decepticons\nHome Score: 
 0\nAway Score: 48
END:VEVENT
BEGIN:VEVENT
UID:11286266@ezleagues.ezfacility.com
DTSTAMP:20260426T033734Z
CREATED:20260426T033734Z
DTSTART:20180415T140000Z
DTEND:20180415T150000Z
LOCATION:Field 1- South
CONTACT:
SUMMARY:Direshock VS. Decepticons
DESCRIPTION:League Name: Flag Football Spring 2018\nGame Type: Regular\nGam
 e Status: Complete\nHome Team: Direshock\nAway Team: Decepticons\nHome Sco
 re: 12\nAway Score: 32
END:VEVENT
BEGIN:VEVENT
UID:11285781@ezleagues.ezfacility.com
DTSTAMP:20260426T033734Z
CREATED:20260426T033734Z
DTSTART:20180422T140000Z
DTEND:20180422T150000Z
LOCATION:Field 1- South
CONTACT:
SUMMARY:GBA VS. Decepticons
DESCRIPTION:League Name: Flag Football Spring 2018\nGame Type: Regular\nGam
 e Status: Complete\nHome Team: GBA\nAway Team: Decepticons\nHome Score: 0\
 nAway Score: 54
END:VEVENT
BEGIN:VEVENT
UID:11285789@ezleagues.ezfacility.com
DTSTAMP:20260426T033734Z
CREATED:20260426T033734Z
DTSTART:20180429T140000Z
DTEND:20180429T150000Z
LOCATION:Field 1- South
CONTACT:
SUMMARY:Decepticons VS. Clarks Building  Construction
DESCRIPTION:League Name: Flag Football Spring 2018\nGame Type: Regular\nGam
 e Status: Complete\nHome Team: Decepticons\nAway Team: Clarks Building  Co
 nstruction\nHome Score: 24\nAway Score: 18
END:VEVENT
BEGIN:VEVENT
UID:11285773@ezleagues.ezfacility.com
DTSTAMP:20260426T033734Z
CREATED:20260426T033734Z
DTSTART:20180506T180000Z
DTEND:20180506T190000Z
LOCATION:Field 1- South
CONTACT:
SUMMARY:Decepticons VS. Rampage
DESCRIPTION:League Name: Flag Football Spring 2018\nGame Type: Regular\nGam
 e Status: Complete\nHome Team: Decepticons\nAway Team: Rampage\nHome Score
 : 60\nAway Score: 0
END:VEVENT
BEGIN:VEVENT
UID:11285796@ezleagues.ezfacility.com
DTSTAMP:20260426T033734Z
CREATED:20260426T033734Z
DTSTART:20180506T190000Z
DTEND:20180506T200000Z
LOCATION:Field 1- South
CONTACT:
SUMMARY:Dream Killaz VS. Decepticons
DESCRIPTION:League Name: Flag Football Spring 2018\nGame Type: Regular\nGam
 e Status: Complete\nHome Team: Dream Killaz\nAway Team: Decepticons\nHome 
 Score: 2\nAway Score: 43
END:VEVENT
BEGIN:VEVENT
UID:11285741@ezleagues.ezfacility.com
DTSTAMP:20260426T033734Z
CREATED:20260426T033734Z
DTSTART:20180513T130000Z
DTEND:20180513T140000Z
LOCATION:Field 2 - South
CONTACT:
SUMMARY:Decepticons VS. 410 Saints
DESCRIPTION:League Name: Flag Football Spring 2018\nGame Type: Regular\nGam
 e Status: Complete\nHome Team: Decepticons\nAway Team: 410 Saints\nHome Sc
 ore: 49\nAway Score: 0
END:VEVENT
BEGIN:VEVENT
UID:11285757@ezleagues.ezfacility.com
DTSTAMP:20260426T033734Z
CREATED:20260426T033734Z
DTSTART:20180513T140000Z
DTEND:20180513T150000Z
LOCATION:Field 2 - South
CONTACT:
SUMMARY:Decepticons VS. Roughnecks
DESCRIPTION:League Name: Flag Football Spring 2018\nGame Type: Regular\nGam
 e Status: Complete\nHome Team: Decepticons\nAway Team: Roughnecks\nHome Sc
 ore: 46\nAway Score: 6
END:VEVENT
BEGIN:VEVENT
UID:11424309@ezleagues.ezfacility.com
DTSTAMP:20260426T033734Z
CREATED:20260426T033734Z
DTSTART:20180520T150000Z
DTEND:20180520T160000Z
LOCATION:Field 1- South
CONTACT:
SUMMARY:Decepticons VS. Roughnecks
DESCRIPTION:League Name: Flag Football Spring 2018\nGame Type: Postseason\n
 Game Status: Complete\nHome Team: Decepticons\nAway Team: Roughnecks\nHome
  Score: 45\nAway Score: 12
END:VEVENT
BEGIN:VEVENT
UID:11438547@ezleagues.ezfacility.com
DTSTAMP:20260426T033734Z
CREATED:20260426T033734Z
DTSTART:20180603T130000Z
DTEND:20180603T140000Z
LOCATION:Field 1- South
CONTACT:
SUMMARY:Decepticons VS. Direshock
DESCRIPTION:League Name: Flag Football Spring 2018\nGame Type: Postseason\n
 Game Status: Complete\nHome Team: Decepticons\nAway Team: Direshock\nHome 
 Score: 37\nAway Score: 2
END:VEVENT
BEGIN:VEVENT
UID:11438550@ezleagues.ezfacility.com
DTSTAMP:20260426T033734Z
CREATED:20260426T033734Z
DTSTART:20180603T150000Z
DTEND:20180603T160000Z
LOCATION:Field 1- South
CONTACT:
SUMMARY:Kings VS. Decepticons
DESCRIPTION:League Name: Flag Football Spring 2018\nGame Type: Postseason\n
 Game Status: Complete\nHome Team: Kings\nAway Team: Decepticons\nHome Scor
 e: 0\nAway Score: 21
END:VEVENT
END:VCALENDAR
