BEGIN:VCALENDAR
VERSION:2.0
PRODID:-//EZFacility.com, Inc.//EZL 2.5.5.28621
BEGIN:VEVENT
UID:11297615@ezleagues.ezfacility.com
DTSTAMP:20260424T044059Z
CREATED:20260424T044059Z
DTSTART:20180323T230000Z
DTEND:20180324T000000Z
LOCATION:Jessup Premier Field #2
CONTACT:
SUMMARY:Lady Ballers- green  VS. Blue Moons - blue 
DESCRIPTION:League Name: Fri Moms D1\nGame Type: Regular\nGame Status: Comp
 lete\nHome Team: Lady Ballers- green \nAway Team: Blue Moons - blue \nHome
  Score: 1\nAway Score: 4
END:VEVENT
BEGIN:VEVENT
UID:11297629@ezleagues.ezfacility.com
DTSTAMP:20260424T044059Z
CREATED:20260424T044059Z
DTSTART:20180406T230000Z
DTEND:20180407T000000Z
LOCATION:Jessup Premier Field #2
CONTACT:
SUMMARY:Terminators- black  VS. Lady Ballers- green 
DESCRIPTION:League Name: Fri Moms D1\nGame Type: Regular\nGame Status: Comp
 lete\nHome Team: Terminators- black \nAway Team: Lady Ballers- green \nHom
 e Score: 1\nAway Score: 5
END:VEVENT
BEGIN:VEVENT
UID:11297637@ezleagues.ezfacility.com
DTSTAMP:20260424T044059Z
CREATED:20260424T044059Z
DTSTART:20180414T000000Z
DTEND:20180414T010000Z
LOCATION:Jessup Premier Field #1
CONTACT:
SUMMARY:Union Azteca- black  VS. Lady Ballers- green 
DESCRIPTION:League Name: Fri Moms D1\nGame Type: Regular\nGame Status: Comp
 lete\nHome Team: Union Azteca- black \nAway Team: Lady Ballers- green \nHo
 me Score: 8\nAway Score: 5
END:VEVENT
BEGIN:VEVENT
UID:11297644@ezleagues.ezfacility.com
DTSTAMP:20260424T044059Z
CREATED:20260424T044059Z
DTSTART:20180420T230000Z
DTEND:20180421T000000Z
LOCATION:Jessup Premier Field #2
CONTACT:
SUMMARY:Latin Union - white  VS. Lady Ballers- green 
DESCRIPTION:League Name: Fri Moms D1\nGame Type: Regular\nGame Status: Comp
 lete\nHome Team: Latin Union - white \nAway Team: Lady Ballers- green \nHo
 me Score: 6\nAway Score: 8
END:VEVENT
BEGIN:VEVENT
UID:11297650@ezleagues.ezfacility.com
DTSTAMP:20260424T044059Z
CREATED:20260424T044059Z
DTSTART:20180428T010000Z
DTEND:20180428T020000Z
LOCATION:Jessup Premier Field #1
CONTACT:
SUMMARY:Blue Moons - blue  VS. Lady Ballers- green 
DESCRIPTION:League Name: Fri Moms D1\nGame Type: Regular\nGame Status: Comp
 lete\nHome Team: Blue Moons - blue \nAway Team: Lady Ballers- green \nHome
  Score: 4\nAway Score: 1
END:VEVENT
BEGIN:VEVENT
UID:11297656@ezleagues.ezfacility.com
DTSTAMP:20260424T044059Z
CREATED:20260424T044059Z
DTSTART:20180505T010000Z
DTEND:20180505T020000Z
LOCATION:Jessup Premier Field #2
CONTACT:
SUMMARY:Lady Ballers- green  VS. Lightning- black 
DESCRIPTION:League Name: Fri Moms D1\nGame Type: Regular\nGame Status: Comp
 lete\nHome Team: Lady Ballers- green \nAway Team: Lightning- black \nHome 
 Score: 4\nAway Score: 8
END:VEVENT
BEGIN:VEVENT
UID:11297664@ezleagues.ezfacility.com
DTSTAMP:20260424T044059Z
CREATED:20260424T044059Z
DTSTART:20180511T230000Z
DTEND:20180512T000000Z
LOCATION:Jessup Premier Field #1
CONTACT:
SUMMARY:Lady Ballers- green  VS. Terminators- black 
DESCRIPTION:League Name: Fri Moms D1\nGame Type: Regular\nGame Status: Comp
 lete\nHome Team: Lady Ballers- green \nAway Team: Terminators- black \nHom
 e Score: 1\nAway Score: 6
END:VEVENT
BEGIN:VEVENT
UID:11297672@ezleagues.ezfacility.com
DTSTAMP:20260424T044059Z
CREATED:20260424T044059Z
DTSTART:20180519T000000Z
DTEND:20180519T010000Z
LOCATION:Jessup Premier Field #2
CONTACT:
SUMMARY:Lady Ballers- green  VS. Union Azteca- black 
DESCRIPTION:League Name: Fri Moms D1\nGame Type: Regular\nGame Status: Comp
 lete\nHome Team: Lady Ballers- green \nAway Team: Union Azteca- black \nHo
 me Score: 3\nAway Score: 6
END:VEVENT
BEGIN:VEVENT
UID:11297718@ezleagues.ezfacility.com
DTSTAMP:20260424T044059Z
CREATED:20260424T044059Z
DTSTART:20180602T000000Z
DTEND:20180602T004800Z
LOCATION:Jessup Premier Field #1
CONTACT:
SUMMARY:Lady Ballers- green  VS. Terminators- black 
DESCRIPTION:League Name: Fri Moms D1\nGame Type: Regular\nGame Status: Comp
 lete\nHome Team: Lady Ballers- green \nAway Team: Terminators- black \nHom
 e Score: 3\nAway Score: 1
END:VEVENT
END:VCALENDAR
