BEGIN:VCALENDAR
VERSION:2.0
PRODID:-//EZFacility.com, Inc.//EZL 2.5.5.28621
BEGIN:VEVENT
UID:11296281@ezleagues.ezfacility.com
DTSTAMP:20260426T033747Z
CREATED:20260426T033747Z
DTSTART:20180326T231200Z
DTEND:20180327T000400Z
LOCATION:Field   ID 2
CONTACT:
SUMMARY:Running With Scissors VS. Ducks
DESCRIPTION:League Name: Spring Indoor 2018 Women's 40+\nGame Type: Regular
 \nGame Status: Complete\nHome Team: Running With Scissors\nAway Team: Duck
 s\nHome Score: 2\nAway Score: 1
END:VEVENT
BEGIN:VEVENT
UID:11314787@ezleagues.ezfacility.com
DTSTAMP:20260426T033747Z
CREATED:20260426T033747Z
DTSTART:20180403T005600Z
DTEND:20180403T014800Z
LOCATION:Field   ID 1
CONTACT:
SUMMARY:Determinators VS. Ducks
DESCRIPTION:League Name: Spring Indoor 2018 Women's 40+\nGame Type: Regular
 \nGame Status: Complete\nHome Team: Determinators\nAway Team: Ducks\nHome 
 Score: 1\nAway Score: 5
END:VEVENT
BEGIN:VEVENT
UID:11314788@ezleagues.ezfacility.com
DTSTAMP:20260426T033747Z
CREATED:20260426T033747Z
DTSTART:20180409T231200Z
DTEND:20180410T000400Z
LOCATION:Field   ID 2
CONTACT:
SUMMARY:Ducks VS. Staying Alive
DESCRIPTION:League Name: Spring Indoor 2018 Women's 40+\nGame Type: Regular
 \nGame Status: Complete\nHome Team: Ducks\nAway Team: Staying Alive\nHome 
 Score: 3\nAway Score: 7
END:VEVENT
BEGIN:VEVENT
UID:11314795@ezleagues.ezfacility.com
DTSTAMP:20260426T033747Z
CREATED:20260426T033747Z
DTSTART:20180417T001400Z
DTEND:20180417T010600Z
LOCATION:Field   ID 2
CONTACT:
SUMMARY:Ducks VS. Farcelona
DESCRIPTION:League Name: Spring Indoor 2018 Women's 40+\nGame Type: Regular
 \nGame Status: Complete\nHome Team: Ducks\nAway Team: Farcelona\nHome Scor
 e: 9\nAway Score: 4
END:VEVENT
BEGIN:VEVENT
UID:11314809@ezleagues.ezfacility.com
DTSTAMP:20260426T033747Z
CREATED:20260426T033747Z
DTSTART:20180424T005600Z
DTEND:20180424T014800Z
LOCATION:Field   ID 2
CONTACT:
SUMMARY:Forever 39 VS. Ducks
DESCRIPTION:League Name: Spring Indoor 2018 Women's 40+\nGame Type: Regular
 \nGame Status: Complete\nHome Team: Forever 39\nAway Team: Ducks\nHome Sco
 re: 5\nAway Score: 0
END:VEVENT
BEGIN:VEVENT
UID:11315070@ezleagues.ezfacility.com
DTSTAMP:20260426T033747Z
CREATED:20260426T033747Z
DTSTART:20180501T000400Z
DTEND:20180501T005600Z
LOCATION:Field   ID 2
CONTACT:
SUMMARY:Ducks VS. The Leftovers
DESCRIPTION:League Name: Spring Indoor 2018 Women's 40+\nGame Type: Regular
 \nGame Status: Complete\nHome Team: Ducks\nAway Team: The Leftovers\nHome 
 Score: 3\nAway Score: 8
END:VEVENT
BEGIN:VEVENT
UID:11315072@ezleagues.ezfacility.com
DTSTAMP:20260426T033747Z
CREATED:20260426T033747Z
DTSTART:20180507T231200Z
DTEND:20180508T000400Z
LOCATION:Field   ID 2
CONTACT:
SUMMARY:Pick Up Girls VS. Ducks
DESCRIPTION:League Name: Spring Indoor 2018 Women's 40+\nGame Type: Regular
 \nGame Status: Complete\nHome Team: Pick Up Girls\nAway Team: Ducks\nHome 
 Score: 3\nAway Score: 0
END:VEVENT
END:VCALENDAR
