BEGIN:VCALENDAR
VERSION:2.0
PRODID:-//EZFacility.com, Inc.//EZL 2.5.5.28621
BEGIN:VEVENT
UID:11305288@ezleagues.ezfacility.com
DTSTAMP:20260426T033804Z
CREATED:20260426T033804Z
DTSTART:20180325T173000Z
DTEND:20180325T181000Z
LOCATION:LG Field 1
CONTACT:
SUMMARY:Nikko and the Unicorns VS. Beer Pressure
DESCRIPTION:League Name: Coed Rec Plus (Z) - Spring \nGame Type: Regular\nG
 ame Status: Complete\nHome Team: Nikko and the Unicorns\nAway Team: Beer P
 ressure\nHome Score: 5\nAway Score: 3
END:VEVENT
BEGIN:VEVENT
UID:11305299@ezleagues.ezfacility.com
DTSTAMP:20260426T033804Z
CREATED:20260426T033804Z
DTSTART:20180402T031500Z
DTEND:20180402T035500Z
LOCATION:LG Field 2
CONTACT:
SUMMARY:Kicker Instinct VS. Nikko and the Unicorns
DESCRIPTION:League Name: Coed Rec Plus (Z) - Spring \nGame Type: Regular\nG
 ame Status: Complete\nHome Team: Kicker Instinct\nAway Team: Nikko and the
  Unicorns\nHome Score: 2\nAway Score: 3
END:VEVENT
BEGIN:VEVENT
UID:11305309@ezleagues.ezfacility.com
DTSTAMP:20260426T033804Z
CREATED:20260426T033804Z
DTSTART:20180408T190000Z
DTEND:20180408T194000Z
LOCATION:LG Field 1
CONTACT:
SUMMARY:Silver Snakes  VS. Nikko and the Unicorns
DESCRIPTION:League Name: Coed Rec Plus (Z) - Spring \nGame Type: Regular\nG
 ame Status: Complete\nHome Team: Silver Snakes \nAway Team: Nikko and the 
 Unicorns\nHome Score: 4\nAway Score: 3
END:VEVENT
BEGIN:VEVENT
UID:11305319@ezleagues.ezfacility.com
DTSTAMP:20260426T033804Z
CREATED:20260426T033804Z
DTSTART:20180418T020000Z
DTEND:20180418T024000Z
LOCATION:LG Field 2
CONTACT:
SUMMARY:Hubcap Kingdom VS. Nikko and the Unicorns
DESCRIPTION:League Name: Coed Rec Plus (Z) - Spring \nGame Type: Regular\nG
 ame Status: Complete\nHome Team: Hubcap Kingdom\nAway Team: Nikko and the 
 Unicorns\nHome Score: 9\nAway Score: 5
END:VEVENT
BEGIN:VEVENT
UID:11305329@ezleagues.ezfacility.com
DTSTAMP:20260426T033804Z
CREATED:20260426T033804Z
DTSTART:20180425T011500Z
DTEND:20180425T015500Z
LOCATION:LG Field 1
CONTACT:
SUMMARY:The Mouth Breathers VS. Nikko and the Unicorns
DESCRIPTION:League Name: Coed Rec Plus (Z) - Spring \nGame Type: Regular\nG
 ame Status: Complete\nHome Team: The Mouth Breathers\nAway Team: Nikko and
  the Unicorns\nHome Score: 13\nAway Score: 7
END:VEVENT
BEGIN:VEVENT
UID:11305339@ezleagues.ezfacility.com
DTSTAMP:20260426T033804Z
CREATED:20260426T033804Z
DTSTART:20180429T190000Z
DTEND:20180429T194000Z
LOCATION:LG Field 2
CONTACT:
SUMMARY:Nikko and the Unicorns VS. Ain't Saints
DESCRIPTION:League Name: Coed Rec Plus (Z) - Spring \nGame Type: Regular\nG
 ame Status: Complete\nHome Team: Nikko and the Unicorns\nAway Team: Ain't 
 Saints\nHome Score: 0\nAway Score: 10
END:VEVENT
BEGIN:VEVENT
UID:11305351@ezleagues.ezfacility.com
DTSTAMP:20260426T033804Z
CREATED:20260426T033804Z
DTSTART:20180506T224500Z
DTEND:20180506T232500Z
LOCATION:LG Field 2
CONTACT:
SUMMARY:Nikko and the Unicorns VS. Galaxy Rangers
DESCRIPTION:League Name: Coed Rec Plus (Z) - Spring \nGame Type: Regular\nG
 ame Status: Complete\nHome Team: Nikko and the Unicorns\nAway Team: Galaxy
  Rangers\nHome Score: 6\nAway Score: 11
END:VEVENT
BEGIN:VEVENT
UID:11305363@ezleagues.ezfacility.com
DTSTAMP:20260426T033804Z
CREATED:20260426T033804Z
DTSTART:20180513T224500Z
DTEND:20180513T232500Z
LOCATION:LG Field 2
CONTACT:
SUMMARY:Nikko and the Unicorns VS. Bunny Killers
DESCRIPTION:League Name: Coed Rec Plus (Z) - Spring \nGame Type: Regular\nG
 ame Status: Complete\nHome Team: Nikko and the Unicorns\nAway Team: Bunny 
 Killers\nHome Score: 2\nAway Score: 12
END:VEVENT
END:VCALENDAR
