BEGIN:VCALENDAR
VERSION:2.0
PRODID:-//EZFacility.com, Inc.//EZL 2.5.5.28621
BEGIN:VEVENT
UID:11306357@ezleagues.ezfacility.com
DTSTAMP:20260424T044114Z
CREATED:20260424T044114Z
DTSTART:20180326T014500Z
DTEND:20180326T022500Z
LOCATION:LG Field 1
CONTACT:
SUMMARY:Kiss My Pass VS. Goalthraki
DESCRIPTION:League Name: Coed REC (Yellow) - Spring \nGame Type: Regular\nG
 ame Status: Complete\nHome Team: Kiss My Pass\nAway Team: Goalthraki\nHome
  Score: 2\nAway Score: 12
END:VEVENT
BEGIN:VEVENT
UID:11306373@ezleagues.ezfacility.com
DTSTAMP:20260424T044114Z
CREATED:20260424T044114Z
DTSTART:20180401T211500Z
DTEND:20180401T215500Z
LOCATION:LG Field 2
CONTACT:
SUMMARY:Goalthraki VS. Not Fast\, Just Furious
DESCRIPTION:League Name: Coed REC (Yellow) - Spring \nGame Type: Regular\nG
 ame Status: Complete\nHome Team: Goalthraki\nAway Team: Not Fast, Just Fur
 ious\nHome Score: 7\nAway Score: 1
END:VEVENT
BEGIN:VEVENT
UID:11306389@ezleagues.ezfacility.com
DTSTAMP:20260424T044114Z
CREATED:20260424T044114Z
DTSTART:20180409T023000Z
DTEND:20180409T031000Z
LOCATION:LG Field 1
CONTACT:
SUMMARY:The Comebacks VS. Goalthraki
DESCRIPTION:League Name: Coed REC (Yellow) - Spring \nGame Type: Regular\nG
 ame Status: Complete\nHome Team: The Comebacks\nAway Team: Goalthraki\nHom
 e Score: 2\nAway Score: 5
END:VEVENT
BEGIN:VEVENT
UID:11306405@ezleagues.ezfacility.com
DTSTAMP:20260424T044114Z
CREATED:20260424T044114Z
DTSTART:20180416T023000Z
DTEND:20180416T031000Z
LOCATION:LG Field 2
CONTACT:
SUMMARY:Goalthraki VS. La Napalera
DESCRIPTION:League Name: Coed REC (Yellow) - Spring \nGame Type: Regular\nG
 ame Status: Complete\nHome Team: Goalthraki\nAway Team: La Napalera\nHome 
 Score: 12\nAway Score: 2
END:VEVENT
BEGIN:VEVENT
UID:11306421@ezleagues.ezfacility.com
DTSTAMP:20260424T044114Z
CREATED:20260424T044114Z
DTSTART:20180422T233000Z
DTEND:20180423T001000Z
LOCATION:LG Field 1
CONTACT:
SUMMARY:Norfolk N' Clue VS. Goalthraki
DESCRIPTION:League Name: Coed REC (Yellow) - Spring \nGame Type: Regular\nG
 ame Status: Complete\nHome Team: Norfolk N' Clue\nAway Team: Goalthraki\nH
 ome Score: 0\nAway Score: 8
END:VEVENT
BEGIN:VEVENT
UID:11306437@ezleagues.ezfacility.com
DTSTAMP:20260424T044114Z
CREATED:20260424T044114Z
DTSTART:20180430T010000Z
DTEND:20180430T014000Z
LOCATION:LG Field 1
CONTACT:
SUMMARY:Parvo FC VS. Goalthraki
DESCRIPTION:League Name: Coed REC (Yellow) - Spring \nGame Type: Regular\nG
 ame Status: Complete\nHome Team: Parvo FC\nAway Team: Goalthraki\nHome Sco
 re: 1\nAway Score: 8
END:VEVENT
BEGIN:VEVENT
UID:11306453@ezleagues.ezfacility.com
DTSTAMP:20260424T044114Z
CREATED:20260424T044114Z
DTSTART:20180506T211500Z
DTEND:20180506T215500Z
LOCATION:LG Field 2
CONTACT:
SUMMARY:Goalthraki VS. Tune Squad
DESCRIPTION:League Name: Coed REC (Yellow) - Spring \nGame Type: Regular\nG
 ame Status: Complete\nHome Team: Goalthraki\nAway Team: Tune Squad\nHome S
 core: 10\nAway Score: 6
END:VEVENT
BEGIN:VEVENT
UID:11306469@ezleagues.ezfacility.com
DTSTAMP:20260424T044114Z
CREATED:20260424T044114Z
DTSTART:20180513T194500Z
DTEND:20180513T202500Z
LOCATION:LG Field 2
CONTACT:
SUMMARY:Goalthraki VS. No Idea
DESCRIPTION:League Name: Coed REC (Yellow) - Spring \nGame Type: Regular\nG
 ame Status: Complete\nHome Team: Goalthraki\nAway Team: No Idea\nHome Scor
 e: 10\nAway Score: 6
END:VEVENT
END:VCALENDAR
