BEGIN:VCALENDAR
VERSION:2.0
PRODID:-//EZFacility.com, Inc.//EZL 2.5.5.28621
BEGIN:VEVENT
UID:11406848@ezleagues.ezfacility.com
DTSTAMP:20260424T044259Z
CREATED:20260424T044259Z
DTSTART:20180515T223000Z
DTEND:20180516T000000Z
LOCATION:Field A
CONTACT:
SUMMARY:Regulators FC VS. Rescheduled
DESCRIPTION:League Name: 2018 Spring Outdoor Coed 0pen 7v7 - Tuesdays\nGame
  Type: Regular\nGame Status: Rescheduled\nHome Team: Regulators FC\nAway T
 eam: Rescheduled\n
END:VEVENT
BEGIN:VEVENT
UID:11426809@ezleagues.ezfacility.com
DTSTAMP:20260424T044259Z
CREATED:20260424T044259Z
DTSTART:20180522T223000Z
DTEND:20180523T000000Z
LOCATION:Field C
CONTACT:
SUMMARY:Regulators FC VS. Rescheduled
DESCRIPTION:League Name: 2018 Spring Outdoor Coed 0pen 7v7 - Tuesdays\nGame
  Type: Regular\nGame Status: Rescheduled\nHome Team: Regulators FC\nAway T
 eam: Rescheduled\n
END:VEVENT
BEGIN:VEVENT
UID:11436522@ezleagues.ezfacility.com
DTSTAMP:20260424T044259Z
CREATED:20260424T044259Z
DTSTART:20180529T223000Z
DTEND:20180530T000000Z
LOCATION:_
CONTACT:
SUMMARY:Tide VS. Rescheduled
DESCRIPTION:League Name: 2018 Spring Outdoor Coed 0pen 7v7 - Tuesdays\nGame
  Type: Regular\nGame Status: Complete\nHome Team: Tide\nAway Team: Resched
 uled\nHome Score: 3\nAway Score: 3
END:VEVENT
BEGIN:VEVENT
UID:11406856@ezleagues.ezfacility.com
DTSTAMP:20260424T044259Z
CREATED:20260424T044259Z
DTSTART:20180605T223000Z
DTEND:20180606T000000Z
LOCATION:_
CONTACT:
SUMMARY:Rescheduled VS. Resource FC
DESCRIPTION:League Name: 2018 Spring Outdoor Coed 0pen 7v7 - Tuesdays\nGame
  Type: Regular\nGame Status: Complete\nHome Team: Rescheduled\nAway Team: 
 Resource FC\nHome Score: 9\nAway Score: 10
END:VEVENT
BEGIN:VEVENT
UID:11406859@ezleagues.ezfacility.com
DTSTAMP:20260424T044259Z
CREATED:20260424T044259Z
DTSTART:20180612T223000Z
DTEND:20180613T000000Z
LOCATION:Field B
CONTACT:
SUMMARY:Rescheduled VS. Roger's Renegades
DESCRIPTION:League Name: 2018 Spring Outdoor Coed 0pen 7v7 - Tuesdays\nGame
  Type: Regular\nGame Status: Complete\nHome Team: Rescheduled\nAway Team: 
 Roger's Renegades\nHome Score: 14\nAway Score: 2
END:VEVENT
BEGIN:VEVENT
UID:11406861@ezleagues.ezfacility.com
DTSTAMP:20260424T044259Z
CREATED:20260424T044259Z
DTSTART:20180619T223000Z
DTEND:20180620T000000Z
LOCATION:Field B
CONTACT:
SUMMARY:Killer Wolves From Outer Space VS. Rescheduled
DESCRIPTION:League Name: 2018 Spring Outdoor Coed 0pen 7v7 - Tuesdays\nGame
  Type: Regular\nGame Status: Complete\nHome Team: Killer Wolves From Outer
  Space\nAway Team: Rescheduled\nHome Score: 7\nAway Score: 4
END:VEVENT
BEGIN:VEVENT
UID:11406864@ezleagues.ezfacility.com
DTSTAMP:20260424T044259Z
CREATED:20260424T044259Z
DTSTART:20180626T223000Z
DTEND:20180627T000000Z
LOCATION:Field_2A
CONTACT:
SUMMARY:Rescheduled VS. Wolfe's Gang
DESCRIPTION:League Name: 2018 Spring Outdoor Coed 0pen 7v7 - Tuesdays\nGame
  Type: Regular\nGame Status: Complete\nHome Team: Rescheduled\nAway Team: 
 Wolfe's Gang\nHome Score: 8\nAway Score: 3
END:VEVENT
BEGIN:VEVENT
UID:11406866@ezleagues.ezfacility.com
DTSTAMP:20260424T044259Z
CREATED:20260424T044259Z
DTSTART:20180710T223000Z
DTEND:20180711T000000Z
LOCATION:Field E
CONTACT:
SUMMARY:Roger's Renegades VS. Rescheduled
DESCRIPTION:League Name: 2018 Spring Outdoor Coed 0pen 7v7 - Tuesdays\nGame
  Type: Regular\nGame Status: Complete\nHome Team: Roger's Renegades\nAway 
 Team: Rescheduled\nHome Score: 4\nAway Score: 11
END:VEVENT
BEGIN:VEVENT
UID:11406868@ezleagues.ezfacility.com
DTSTAMP:20260424T044259Z
CREATED:20260424T044259Z
DTSTART:20180717T223000Z
DTEND:20180718T000000Z
LOCATION:Field_9B
CONTACT:
SUMMARY:Rescheduled VS. Killer Wolves From Outer Space
DESCRIPTION:League Name: 2018 Spring Outdoor Coed 0pen 7v7 - Tuesdays\nGame
  Type: Regular\nGame Status: Complete\nHome Team: Rescheduled\nAway Team: 
 Killer Wolves From Outer Space\nHome Score: 3\nAway Score: 0
END:VEVENT
BEGIN:VEVENT
UID:11470433@ezleagues.ezfacility.com
DTSTAMP:20260424T044259Z
CREATED:20260424T044259Z
DTSTART:20180724T223000Z
DTEND:20180725T000000Z
LOCATION:_
CONTACT:
SUMMARY:Wolfe's Gang VS. Rescheduled
DESCRIPTION:League Name: 2018 Spring Outdoor Coed 0pen 7v7 - Tuesdays\nGame
  Type: Regular\nGame Status: Complete\nHome Team: Wolfe's Gang\nAway Team:
  Rescheduled\nHome Score: 6\nAway Score: 7
END:VEVENT
BEGIN:VEVENT
UID:11568771@ezleagues.ezfacility.com
DTSTAMP:20260424T044259Z
CREATED:20260424T044259Z
DTSTART:20180731T223000Z
DTEND:20180801T000000Z
LOCATION:Field_2A
CONTACT:
SUMMARY:Resource FC VS. Rescheduled
DESCRIPTION:League Name: 2018 Spring Outdoor Coed 0pen 7v7 - Tuesdays\nGame
  Type: Postseason\nGame Status: Complete\nHome Team: Resource FC\nAway Tea
 m: Rescheduled\nHome Score: 9\nAway Score: 8
END:VEVENT
END:VCALENDAR
