BEGIN:VCALENDAR
VERSION:2.0
PRODID:-//EZFacility.com, Inc.//EZL 2.5.5.28621
BEGIN:VEVENT
UID:11414538@ezleagues.ezfacility.com
DTSTAMP:20260426T034101Z
CREATED:20260426T034101Z
DTSTART:20180516T223000Z
DTEND:20180517T000000Z
LOCATION:_
CONTACT:
SUMMARY:Spurs VS. WFC
DESCRIPTION:League Name: 2018 Spring Outdoor Men's 30+ 11v11 East\nGame Typ
 e: Regular\nGame Status: Complete\nHome Team: Spurs\nAway Team: WFC\nHome 
 Score: 3\nAway Score: 1
END:VEVENT
BEGIN:VEVENT
UID:11414541@ezleagues.ezfacility.com
DTSTAMP:20260426T034101Z
CREATED:20260426T034101Z
DTSTART:20180523T223000Z
DTEND:20180524T000000Z
LOCATION:Field 10
CONTACT:
SUMMARY:Cotterman FC VS. WFC
DESCRIPTION:League Name: 2018 Spring Outdoor Men's 30+ 11v11 East\nGame Typ
 e: Regular\nGame Status: Complete\nHome Team: Cotterman FC\nAway Team: WFC
 \nHome Score: 2\nAway Score: 1
END:VEVENT
BEGIN:VEVENT
UID:11418411@ezleagues.ezfacility.com
DTSTAMP:20260426T034101Z
CREATED:20260426T034101Z
DTSTART:20180606T223000Z
DTEND:20180607T000000Z
LOCATION:Field 10
CONTACT:
SUMMARY:WFC VS. FC Red Card
DESCRIPTION:League Name: 2018 Spring Outdoor Men's 30+ 11v11 East\nGame Typ
 e: Regular\nGame Status: Complete\nHome Team: WFC\nAway Team: FC Red Card\
 nHome Score: 7\nAway Score: 0
END:VEVENT
BEGIN:VEVENT
UID:11418415@ezleagues.ezfacility.com
DTSTAMP:20260426T034101Z
CREATED:20260426T034101Z
DTSTART:20180613T223000Z
DTEND:20180614T000000Z
LOCATION:Field 03
CONTACT:
SUMMARY:Arch City Hooligans VS. WFC
DESCRIPTION:League Name: 2018 Spring Outdoor Men's 30+ 11v11 East\nGame Typ
 e: Regular\nGame Status: Complete\nHome Team: Arch City Hooligans\nAway Te
 am: WFC\nHome Score: 5\nAway Score: 4
END:VEVENT
BEGIN:VEVENT
UID:11418417@ezleagues.ezfacility.com
DTSTAMP:20260426T034101Z
CREATED:20260426T034101Z
DTSTART:20180620T223000Z
DTEND:20180621T000000Z
LOCATION:Field 08
CONTACT:
SUMMARY:WFC VS. Spurs
DESCRIPTION:League Name: 2018 Spring Outdoor Men's 30+ 11v11 East\nGame Typ
 e: Regular\nGame Status: Complete\nHome Team: WFC\nAway Team: Spurs\nHome 
 Score: 3\nAway Score: 5
END:VEVENT
BEGIN:VEVENT
UID:11418423@ezleagues.ezfacility.com
DTSTAMP:20260426T034101Z
CREATED:20260426T034101Z
DTSTART:20180711T223000Z
DTEND:20180712T000000Z
LOCATION:Field 05
CONTACT:
SUMMARY:Cotterman FC VS. WFC
DESCRIPTION:League Name: 2018 Spring Outdoor Men's 30+ 11v11 East\nGame Typ
 e: Regular\nGame Status: Complete\nHome Team: Cotterman FC\nAway Team: WFC
 \nHome Score: 2\nAway Score: 4
END:VEVENT
BEGIN:VEVENT
UID:11418427@ezleagues.ezfacility.com
DTSTAMP:20260426T034101Z
CREATED:20260426T034101Z
DTSTART:20180718T223000Z
DTEND:20180719T000000Z
LOCATION:Field 09
CONTACT:
SUMMARY:WFC VS. Gunners
DESCRIPTION:League Name: 2018 Spring Outdoor Men's 30+ 11v11 East\nGame Typ
 e: Regular\nGame Status: Complete\nHome Team: WFC\nAway Team: Gunners\nHom
 e Score: 2\nAway Score: 2
END:VEVENT
BEGIN:VEVENT
UID:11418430@ezleagues.ezfacility.com
DTSTAMP:20260426T034101Z
CREATED:20260426T034101Z
DTSTART:20180725T223000Z
DTEND:20180726T000000Z
LOCATION:Field 06
CONTACT:
SUMMARY:WFC VS. Monkey Business
DESCRIPTION:League Name: 2018 Spring Outdoor Men's 30+ 11v11 East\nGame Typ
 e: Regular\nGame Status: Complete\nHome Team: WFC\nAway Team: Monkey Busin
 ess\nHome Score: 4\nAway Score: 2
END:VEVENT
END:VCALENDAR
