BEGIN:VCALENDAR
VERSION:2.0
PRODID:-//EZFacility.com, Inc.//EZL 2.5.5.28621
BEGIN:VEVENT
UID:11453315@ezleagues.ezfacility.com
DTSTAMP:20260425T225045Z
CREATED:20260425T225045Z
DTSTART:20180515T170000Z
DTEND:20180515T180000Z
LOCATION:Sand Court 4
CONTACT:
SUMMARY:2 Score VS. Siegenthaler/Mathis
DESCRIPTION:League Name: Tuesday Women's 2's (BB Division)-Summer (2018)\nG
 ame Type: Regular\nGame Status: Complete\nHome Team: 2 Score\nAway Team: S
 iegenthaler/Mathis\nHome Score: 1\nAway Score: 2
END:VEVENT
BEGIN:VEVENT
UID:11453362@ezleagues.ezfacility.com
DTSTAMP:20260425T225045Z
CREATED:20260425T225045Z
DTSTART:20180522T223000Z
DTEND:20180522T233000Z
LOCATION:Sand Court 4
CONTACT:
SUMMARY:Siegenthaler/Mathis VS. Lettuce Turnip the Beet
DESCRIPTION:League Name: Tuesday Women's 2's (BB Division)-Summer (2018)\nG
 ame Type: Regular\nGame Status: Complete\nHome Team: Siegenthaler/Mathis\n
 Away Team: Lettuce Turnip the Beet\nHome Score: 2\nAway Score: 1
END:VEVENT
BEGIN:VEVENT
UID:11453326@ezleagues.ezfacility.com
DTSTAMP:20260425T225045Z
CREATED:20260425T225045Z
DTSTART:20180530T003000Z
DTEND:20180530T013000Z
LOCATION:Sand Court 4
CONTACT:
SUMMARY:Siegenthaler/Mathis VS. Chait
DESCRIPTION:League Name: Tuesday Women's 2's (BB Division)-Summer (2018)\nG
 ame Type: Regular\nGame Status: Complete\nHome Team: Siegenthaler/Mathis\n
 Away Team: Chait\nHome Score: 1\nAway Score: 2
END:VEVENT
BEGIN:VEVENT
UID:11453348@ezleagues.ezfacility.com
DTSTAMP:20260425T225045Z
CREATED:20260425T225045Z
DTSTART:20180606T013000Z
DTEND:20180606T023000Z
LOCATION:Sand Court 4
CONTACT:
SUMMARY:Siegenthaler/Mathis VS. Em and M
DESCRIPTION:League Name: Tuesday Women's 2's (BB Division)-Summer (2018)\nG
 ame Type: Regular\nGame Status: Complete\nHome Team: Siegenthaler/Mathis\n
 Away Team: Em and M\nHome Score: 3\nAway Score: 0
END:VEVENT
BEGIN:VEVENT
UID:11458847@ezleagues.ezfacility.com
DTSTAMP:20260425T225045Z
CREATED:20260425T225045Z
DTSTART:20180613T013000Z
DTEND:20180613T023000Z
LOCATION:Sand Court 4
CONTACT:
SUMMARY:Siegenthaler/Mathis VS. Karlayna
DESCRIPTION:League Name: Tuesday Women's 2's (BB Division)-Summer (2018)\nG
 ame Type: Regular\nGame Status: Complete\nHome Team: Siegenthaler/Mathis\n
 Away Team: Karlayna\nHome Score: 0\nAway Score: 3
END:VEVENT
BEGIN:VEVENT
UID:11459346@ezleagues.ezfacility.com
DTSTAMP:20260425T225045Z
CREATED:20260425T225045Z
DTSTART:20180627T003000Z
DTEND:20180627T013000Z
LOCATION:Sand Court 4
CONTACT:
SUMMARY:Siegenthaler/Mathis VS. Garcia/Forbush
DESCRIPTION:League Name: Tuesday Women's 2's (BB Division)-Summer (2018)\nG
 ame Type: Regular\nGame Status: Complete\nHome Team: Siegenthaler/Mathis\n
 Away Team: Garcia/Forbush\nHome Score: 0\nAway Score: 3
END:VEVENT
BEGIN:VEVENT
UID:11466885@ezleagues.ezfacility.com
DTSTAMP:20260425T225045Z
CREATED:20260425T225045Z
DTSTART:20180703T223000Z
DTEND:20180703T233000Z
LOCATION:Sand Court 4
CONTACT:
SUMMARY:Siegenthaler/Mathis VS. Camille and Lauren
DESCRIPTION:League Name: Tuesday Women's 2's (BB Division)-Summer (2018)\nG
 ame Type: Regular\nGame Status: Complete\nHome Team: Siegenthaler/Mathis\n
 Away Team: Camille and Lauren\nHome Score: 3\nAway Score: 0
END:VEVENT
BEGIN:VEVENT
UID:11467166@ezleagues.ezfacility.com
DTSTAMP:20260425T225045Z
CREATED:20260425T225045Z
DTSTART:20180711T013000Z
DTEND:20180711T023000Z
LOCATION:Sand Court 4
CONTACT:
SUMMARY:Siegenthaler/Mathis VS. carciofi ripieni
DESCRIPTION:League Name: Tuesday Women's 2's (BB Division)-Summer (2018)\nG
 ame Type: Regular\nGame Status: Complete\nHome Team: Siegenthaler/Mathis\n
 Away Team: carciofi ripieni\nHome Score: 3\nAway Score: 0
END:VEVENT
BEGIN:VEVENT
UID:11472444@ezleagues.ezfacility.com
DTSTAMP:20260425T225045Z
CREATED:20260425T225045Z
DTSTART:20180718T003000Z
DTEND:20180718T013000Z
LOCATION:Sand Court 4
CONTACT:
SUMMARY:Siegenthaler/Mathis VS. Bert  Ernie
DESCRIPTION:League Name: Tuesday Women's 2's (BB Division)-Summer (2018)\nG
 ame Type: Regular\nGame Status: Complete\nHome Team: Siegenthaler/Mathis\n
 Away Team: Bert  Ernie\nHome Score: 2\nAway Score: 1
END:VEVENT
BEGIN:VEVENT
UID:11472688@ezleagues.ezfacility.com
DTSTAMP:20260425T225045Z
CREATED:20260425T225045Z
DTSTART:20180724T233000Z
DTEND:20180725T003000Z
LOCATION:Sand Court 4
CONTACT:
SUMMARY:Siegenthaler/Mathis VS. JB
DESCRIPTION:League Name: Tuesday Women's 2's (BB Division)-Summer (2018)\nG
 ame Type: Regular\nGame Status: Complete\nHome Team: Siegenthaler/Mathis\n
 Away Team: JB\nHome Score: 1\nAway Score: 2
END:VEVENT
BEGIN:VEVENT
UID:11572897@ezleagues.ezfacility.com
DTSTAMP:20260425T225045Z
CREATED:20260425T225045Z
DTSTART:20180731T233000Z
DTEND:20180801T003000Z
LOCATION:Sand Court 4
CONTACT:
SUMMARY:Beachy Keen VS. Siegenthaler/Mathis
DESCRIPTION:League Name: Tuesday Women's 2's (BB Division)-Summer (2018)\nG
 ame Type: Postseason\nGame Status: Complete\nHome Team: Beachy Keen\nAway 
 Team: Siegenthaler/Mathis\nHome Score: 2\nAway Score: 0
END:VEVENT
END:VCALENDAR
