BEGIN:VCALENDAR
VERSION:2.0
PRODID:-//EZFacility.com, Inc.//EZL 2.5.5.28621
BEGIN:VEVENT
UID:11425853@ezleagues.ezfacility.com
DTSTAMP:20260422T084506Z
CREATED:20260422T084506Z
DTSTART:20180519T003000Z
DTEND:20180519T013000Z
LOCATION:Sand Court 5
CONTACT:
SUMMARY:Practice Safe Sets VS. ChewBlocka
DESCRIPTION:League Name: Friday COED 6's (UB/B Division)-Summer (2018)\nGam
 e Type: Regular\nGame Status: Complete\nHome Team: Practice Safe Sets\nAwa
 y Team: ChewBlocka\nHome Score: 2\nAway Score: 1
END:VEVENT
BEGIN:VEVENT
UID:11425860@ezleagues.ezfacility.com
DTSTAMP:20260422T084506Z
CREATED:20260422T084506Z
DTSTART:20180525T223000Z
DTEND:20180525T233000Z
LOCATION:Sand Court 4
CONTACT:
SUMMARY:We dig casual sets VS. ChewBlocka
DESCRIPTION:League Name: Friday COED 6's (UB/B Division)-Summer (2018)\nGam
 e Type: Regular\nGame Status: Complete\nHome Team: We dig casual sets\nAwa
 y Team: ChewBlocka\nHome Score: 3\nAway Score: 0
END:VEVENT
BEGIN:VEVENT
UID:11425867@ezleagues.ezfacility.com
DTSTAMP:20260422T084506Z
CREATED:20260422T084506Z
DTSTART:20180601T223000Z
DTEND:20180601T233000Z
LOCATION:Sand Court 4
CONTACT:
SUMMARY:Yamane VS. ChewBlocka
DESCRIPTION:League Name: Friday COED 6's (UB/B Division)-Summer (2018)\nGam
 e Type: Regular\nGame Status: Complete\nHome Team: Yamane\nAway Team: Chew
 Blocka\nHome Score: 3\nAway Score: 0
END:VEVENT
BEGIN:VEVENT
UID:11425874@ezleagues.ezfacility.com
DTSTAMP:20260422T084506Z
CREATED:20260422T084506Z
DTSTART:20180609T003000Z
DTEND:20180609T013000Z
LOCATION:Sand Court 4
CONTACT:
SUMMARY:Super Smash Bros VS. ChewBlocka
DESCRIPTION:League Name: Friday COED 6's (UB/B Division)-Summer (2018)\nGam
 e Type: Regular\nGame Status: Complete\nHome Team: Super Smash Bros\nAway 
 Team: ChewBlocka\nHome Score: 2\nAway Score: 1
END:VEVENT
BEGIN:VEVENT
UID:11425881@ezleagues.ezfacility.com
DTSTAMP:20260422T084506Z
CREATED:20260422T084506Z
DTSTART:20180615T223000Z
DTEND:20180615T233000Z
LOCATION:Sand Court 5
CONTACT:
SUMMARY:Kiss My Ace VS. ChewBlocka
DESCRIPTION:League Name: Friday COED 6's (UB/B Division)-Summer (2018)\nGam
 e Type: Regular\nGame Status: Complete\nHome Team: Kiss My Ace\nAway Team:
  ChewBlocka\nHome Score: 2\nAway Score: 1
END:VEVENT
BEGIN:VEVENT
UID:11425887@ezleagues.ezfacility.com
DTSTAMP:20260422T084506Z
CREATED:20260422T084506Z
DTSTART:20180623T013000Z
DTEND:20180623T023000Z
LOCATION:Sand Court 4
CONTACT:
SUMMARY:Hit it from the back VS. ChewBlocka
DESCRIPTION:League Name: Friday COED 6's (UB/B Division)-Summer (2018)\nGam
 e Type: Regular\nGame Status: Complete\nHome Team: Hit it from the back\nA
 way Team: ChewBlocka\nHome Score: 3\nAway Score: 0
END:VEVENT
BEGIN:VEVENT
UID:11425892@ezleagues.ezfacility.com
DTSTAMP:20260422T084506Z
CREATED:20260422T084506Z
DTSTART:20180630T003000Z
DTEND:20180630T013000Z
LOCATION:Sand Court 5
CONTACT:
SUMMARY:Shotz VS. ChewBlocka
DESCRIPTION:League Name: Friday COED 6's (UB/B Division)-Summer (2018)\nGam
 e Type: Regular\nGame Status: Complete\nHome Team: Shotz\nAway Team: ChewB
 locka\nHome Score: 3\nAway Score: 0
END:VEVENT
BEGIN:VEVENT
UID:11425897@ezleagues.ezfacility.com
DTSTAMP:20260422T084506Z
CREATED:20260422T084506Z
DTSTART:20180707T013000Z
DTEND:20180707T023000Z
LOCATION:Sand Court 4
CONTACT:
SUMMARY:ChewBlocka VS. Warriors
DESCRIPTION:League Name: Friday COED 6's (UB/B Division)-Summer (2018)\nGam
 e Type: Regular\nGame Status: Complete\nHome Team: ChewBlocka\nAway Team: 
 Warriors\nHome Score: 1\nAway Score: 2
END:VEVENT
BEGIN:VEVENT
UID:11425902@ezleagues.ezfacility.com
DTSTAMP:20260422T084506Z
CREATED:20260422T084506Z
DTSTART:20180713T233000Z
DTEND:20180714T003000Z
LOCATION:Sand Court 4
CONTACT:
SUMMARY:ChewBlocka VS. The Spread Eagles
DESCRIPTION:League Name: Friday COED 6's (UB/B Division)-Summer (2018)\nGam
 e Type: Regular\nGame Status: Complete\nHome Team: ChewBlocka\nAway Team: 
 The Spread Eagles\nHome Score: 0\nAway Score: 3
END:VEVENT
BEGIN:VEVENT
UID:11425907@ezleagues.ezfacility.com
DTSTAMP:20260422T084506Z
CREATED:20260422T084506Z
DTSTART:20180721T003000Z
DTEND:20180721T013000Z
LOCATION:Sand Court 4
CONTACT:
SUMMARY:Rough Sets VS. ChewBlocka
DESCRIPTION:League Name: Friday COED 6's (UB/B Division)-Summer (2018)\nGam
 e Type: Regular\nGame Status: Complete\nHome Team: Rough Sets\nAway Team: 
 ChewBlocka\nHome Score: 2\nAway Score: 1
END:VEVENT
BEGIN:VEVENT
UID:11425912@ezleagues.ezfacility.com
DTSTAMP:20260422T084506Z
CREATED:20260422T084506Z
DTSTART:20180727T233000Z
DTEND:20180728T003000Z
LOCATION:Sand Court 5
CONTACT:
SUMMARY:ChewBlocka VS. Bumpin' Uglies
DESCRIPTION:League Name: Friday COED 6's (UB/B Division)-Summer (2018)\nGam
 e Type: Regular\nGame Status: Complete\nHome Team: ChewBlocka\nAway Team: 
 Bumpin' Uglies\nHome Score: 2\nAway Score: 1
END:VEVENT
BEGIN:VEVENT
UID:11425919@ezleagues.ezfacility.com
DTSTAMP:20260422T084506Z
CREATED:20260422T084506Z
DTSTART:20180803T233000Z
DTEND:20180804T003000Z
LOCATION:Sand Court 5
CONTACT:
SUMMARY:ChewBlocka VS. Practice Safe Sets
DESCRIPTION:League Name: Friday COED 6's (UB/B Division)-Summer (2018)\nGam
 e Type: Regular\nGame Status: Pending\nHome Team: ChewBlocka\nAway Team: P
 ractice Safe Sets\n
END:VEVENT
BEGIN:VEVENT
UID:11425926@ezleagues.ezfacility.com
DTSTAMP:20260422T084506Z
CREATED:20260422T084506Z
DTSTART:20180810T233000Z
DTEND:20180811T003000Z
LOCATION:Sand Court 4
CONTACT:
SUMMARY:ChewBlocka VS. We dig casual sets
DESCRIPTION:League Name: Friday COED 6's (UB/B Division)-Summer (2018)\nGam
 e Type: Regular\nGame Status: Complete\nHome Team: ChewBlocka\nAway Team: 
 We dig casual sets\nHome Score: 0\nAway Score: 3
END:VEVENT
BEGIN:VEVENT
UID:11425933@ezleagues.ezfacility.com
DTSTAMP:20260422T084506Z
CREATED:20260422T084506Z
DTSTART:20180824T223000Z
DTEND:20180824T233000Z
LOCATION:Sand Court 1
CONTACT:
SUMMARY:ChewBlocka VS. Yamane
DESCRIPTION:League Name: Friday COED 6's (UB/B Division)-Summer (2018)\nGam
 e Type: Regular\nGame Status: Complete\nHome Team: ChewBlocka\nAway Team: 
 Yamane\nHome Score: 1\nAway Score: 2
END:VEVENT
BEGIN:VEVENT
UID:11425940@ezleagues.ezfacility.com
DTSTAMP:20260422T084506Z
CREATED:20260422T084506Z
DTSTART:20180825T003000Z
DTEND:20180825T013000Z
LOCATION:Sand Court 5
CONTACT:
SUMMARY:ChewBlocka VS. Super Smash Bros
DESCRIPTION:League Name: Friday COED 6's (UB/B Division)-Summer (2018)\nGam
 e Type: Regular\nGame Status: Complete\nHome Team: ChewBlocka\nAway Team: 
 Super Smash Bros\nHome Score: 2\nAway Score: 1
END:VEVENT
BEGIN:VEVENT
UID:11425947@ezleagues.ezfacility.com
DTSTAMP:20260422T084506Z
CREATED:20260422T084506Z
DTSTART:20180901T013000Z
DTEND:20180901T023000Z
LOCATION:Sand Court 5
CONTACT:
SUMMARY:ChewBlocka VS. Kiss My Ace
DESCRIPTION:League Name: Friday COED 6's (UB/B Division)-Summer (2018)\nGam
 e Type: Regular\nGame Status: Pending\nHome Team: ChewBlocka\nAway Team: K
 iss My Ace\n
END:VEVENT
BEGIN:VEVENT
UID:11657246@ezleagues.ezfacility.com
DTSTAMP:20260422T084506Z
CREATED:20260422T084506Z
DTSTART:20180908T003000Z
DTEND:20180908T013000Z
LOCATION:Sand Court 5
CONTACT:
SUMMARY:Warriors VS. ChewBlocka
DESCRIPTION:League Name: Friday COED 6's (UB/B Division)-Summer (2018)\nGam
 e Type: Postseason\nGame Status: Pending\nHome Team: Warriors\nAway Team: 
 ChewBlocka\n
END:VEVENT
END:VCALENDAR
