BEGIN:VCALENDAR
VERSION:2.0
PRODID:-//EZFacility.com, Inc.//EZL 2.5.5.28621
BEGIN:VEVENT
UID:11471880@ezleagues.ezfacility.com
DTSTAMP:20260419T131606Z
CREATED:20260419T131606Z
DTSTART:20180530T235500Z
DTEND:20180531T005000Z
LOCATION:PFFC Field House - A
CONTACT:
SUMMARY:Sour Patch Kids VS.   Here For Beer
DESCRIPTION:League Name: MSL Soccer - W/T Men's Division #6 South\nGame Typ
 e: Regular\nGame Status: Complete\nHome Team: Sour Patch Kids\nAway Team: 
   Here For Beer\nHome Score: 1\nAway Score: 4
END:VEVENT
BEGIN:VEVENT
UID:11471903@ezleagues.ezfacility.com
DTSTAMP:20260419T131606Z
CREATED:20260419T131606Z
DTSTART:20180606T230000Z
DTEND:20180606T235500Z
LOCATION:PFFC Field House - C
CONTACT:
SUMMARY:Sour Patch Kids VS.   Last Div Regulars
DESCRIPTION:League Name: MSL Soccer - W/T Men's Division #6 South\nGame Typ
 e: Regular\nGame Status: Complete\nHome Team: Sour Patch Kids\nAway Team: 
   Last Div Regulars\nHome Score: 0\nAway Score: 2
END:VEVENT
BEGIN:VEVENT
UID:11471926@ezleagues.ezfacility.com
DTSTAMP:20260419T131606Z
CREATED:20260419T131606Z
DTSTART:20180615T005000Z
DTEND:20180615T014500Z
LOCATION:PFFC Field House - D
CONTACT:
SUMMARY:Sour Patch Kids VS.   New Fresh
DESCRIPTION:League Name: MSL Soccer - W/T Men's Division #6 South\nGame Typ
 e: Regular\nGame Status: Complete\nHome Team: Sour Patch Kids\nAway Team: 
   New Fresh\nHome Score: 1\nAway Score: 6
END:VEVENT
BEGIN:VEVENT
UID:11471949@ezleagues.ezfacility.com
DTSTAMP:20260419T131606Z
CREATED:20260419T131606Z
DTSTART:20180621T235500Z
DTEND:20180622T005000Z
LOCATION:PFFC Field House - B
CONTACT:
SUMMARY:Sour Patch Kids VS. Whiskey Shooters
DESCRIPTION:League Name: MSL Soccer - W/T Men's Division #6 South\nGame Typ
 e: Regular\nGame Status: Complete\nHome Team: Sour Patch Kids\nAway Team: 
 Whiskey Shooters\nHome Score: 3\nAway Score: 4
END:VEVENT
BEGIN:VEVENT
UID:11471972@ezleagues.ezfacility.com
DTSTAMP:20260419T131606Z
CREATED:20260419T131606Z
DTSTART:20180628T230000Z
DTEND:20180628T235500Z
LOCATION:PFFC Field House - C
CONTACT:
SUMMARY:  The Nice Guys VS. Sour Patch Kids
DESCRIPTION:League Name: MSL Soccer - W/T Men's Division #6 South\nGame Typ
 e: Regular\nGame Status: Complete\nHome Team:   The Nice Guys\nAway Team: 
 Sour Patch Kids\nHome Score: 6\nAway Score: 0
END:VEVENT
BEGIN:VEVENT
UID:11471995@ezleagues.ezfacility.com
DTSTAMP:20260419T131606Z
CREATED:20260419T131606Z
DTSTART:20180705T005000Z
DTEND:20180705T014500Z
LOCATION:PFFC Field House - A
CONTACT:
SUMMARY:Sour Patch Kids VS.   Samsung FC
DESCRIPTION:League Name: MSL Soccer - W/T Men's Division #6 South\nGame Typ
 e: Regular\nGame Status: Complete\nHome Team: Sour Patch Kids\nAway Team: 
   Samsung FC\nHome Score: 0\nAway Score: 2
END:VEVENT
BEGIN:VEVENT
UID:11472018@ezleagues.ezfacility.com
DTSTAMP:20260419T131606Z
CREATED:20260419T131606Z
DTSTART:20180711T235500Z
DTEND:20180712T005000Z
LOCATION:PFFC Field House - D
CONTACT:
SUMMARY:Royal Ballers FC  VS. Sour Patch Kids
DESCRIPTION:League Name: MSL Soccer - W/T Men's Division #6 South\nGame Typ
 e: Regular\nGame Status: Complete\nHome Team: Royal Ballers FC \nAway Team
 : Sour Patch Kids\nHome Score: 2\nAway Score: 1
END:VEVENT
BEGIN:VEVENT
UID:11472041@ezleagues.ezfacility.com
DTSTAMP:20260419T131606Z
CREATED:20260419T131606Z
DTSTART:20180718T230000Z
DTEND:20180718T235500Z
LOCATION:PFFC Field House - D
CONTACT:
SUMMARY:  Here For Beer VS. Sour Patch Kids
DESCRIPTION:League Name: MSL Soccer - W/T Men's Division #6 South\nGame Typ
 e: Regular\nGame Status: Complete\nHome Team:   Here For Beer\nAway Team: 
 Sour Patch Kids\nHome Score: 7\nAway Score: 2
END:VEVENT
BEGIN:VEVENT
UID:11472064@ezleagues.ezfacility.com
DTSTAMP:20260419T131606Z
CREATED:20260419T131606Z
DTSTART:20180727T005000Z
DTEND:20180727T014500Z
LOCATION:PFFC Field House - B
CONTACT:
SUMMARY:  Last Div Regulars VS. Sour Patch Kids
DESCRIPTION:League Name: MSL Soccer - W/T Men's Division #6 South\nGame Typ
 e: Regular\nGame Status: Complete\nHome Team:   Last Div Regulars\nAway Te
 am: Sour Patch Kids\nHome Score: 1\nAway Score: 1
END:VEVENT
BEGIN:VEVENT
UID:11472087@ezleagues.ezfacility.com
DTSTAMP:20260419T131606Z
CREATED:20260419T131606Z
DTSTART:20180802T235500Z
DTEND:20180803T005000Z
LOCATION:PFFC Field House - B
CONTACT:
SUMMARY:  New Fresh VS. Sour Patch Kids
DESCRIPTION:League Name: MSL Soccer - W/T Men's Division #6 South\nGame Typ
 e: Regular\nGame Status: Complete\nHome Team:   New Fresh\nAway Team: Sour
  Patch Kids\nHome Score: 8\nAway Score: 1
END:VEVENT
BEGIN:VEVENT
UID:11472110@ezleagues.ezfacility.com
DTSTAMP:20260419T131606Z
CREATED:20260419T131606Z
DTSTART:20180809T230000Z
DTEND:20180809T235500Z
LOCATION:PFFC Field House - C
CONTACT:
SUMMARY:Sour Patch Kids VS. Whiskey Shooters
DESCRIPTION:League Name: MSL Soccer - W/T Men's Division #6 South\nGame Typ
 e: Regular\nGame Status: Complete\nHome Team: Sour Patch Kids\nAway Team: 
 Whiskey Shooters\nHome Score: 0\nAway Score: 6
END:VEVENT
BEGIN:VEVENT
UID:11594476@ezleagues.ezfacility.com
DTSTAMP:20260419T131606Z
CREATED:20260419T131606Z
DTSTART:20180816T235500Z
DTEND:20180817T004500Z
LOCATION:PFFC Field House - A
CONTACT:
SUMMARY:  The Nice Guys VS. Sour Patch Kids
DESCRIPTION:League Name: MSL Soccer - W/T Men's Division #6 South\nGame Typ
 e: Postseason\nGame Status: Complete\nHome Team:   The Nice Guys\nAway Tea
 m: Sour Patch Kids\nHome Score: 4\nAway Score: 2
END:VEVENT
END:VCALENDAR
