BEGIN:VCALENDAR
VERSION:2.0
PRODID:-//EZFacility.com, Inc.//EZL 2.5.5.28621
BEGIN:VEVENT
UID:11436523@ezleagues.ezfacility.com
DTSTAMP:20260424T221626Z
CREATED:20260424T221626Z
DTSTART:20180605T223000Z
DTEND:20180606T000000Z
LOCATION:_
CONTACT:
SUMMARY:Wolfe's Gang VS. Tide
DESCRIPTION:League Name: 2018 Spring Outdoor Coed 0pen 7v7 - Tuesdays\nGame
  Type: Regular\nGame Status: Complete\nHome Team: Wolfe's Gang\nAway Team:
  Tide\nHome Score: 5\nAway Score: 7
END:VEVENT
BEGIN:VEVENT
UID:11406858@ezleagues.ezfacility.com
DTSTAMP:20260424T221626Z
CREATED:20260424T221626Z
DTSTART:20180612T223000Z
DTEND:20180613T000000Z
LOCATION:Field D
CONTACT:
SUMMARY:Resource FC VS. Wolfe's Gang
DESCRIPTION:League Name: 2018 Spring Outdoor Coed 0pen 7v7 - Tuesdays\nGame
  Type: Regular\nGame Status: Complete\nHome Team: Resource FC\nAway Team: 
 Wolfe's Gang\nHome Score: 9\nAway Score: 6
END:VEVENT
BEGIN:VEVENT
UID:11406863@ezleagues.ezfacility.com
DTSTAMP:20260424T221626Z
CREATED:20260424T221626Z
DTSTART:20180619T223000Z
DTEND:20180620T000000Z
LOCATION:Field A
CONTACT:
SUMMARY:Wolfe's Gang VS. Roger's Renegades
DESCRIPTION:League Name: 2018 Spring Outdoor Coed 0pen 7v7 - Tuesdays\nGame
  Type: Regular\nGame Status: Complete\nHome Team: Wolfe's Gang\nAway Team:
  Roger's Renegades\nHome Score: 12\nAway Score: 4
END:VEVENT
BEGIN:VEVENT
UID:11406864@ezleagues.ezfacility.com
DTSTAMP:20260424T221626Z
CREATED:20260424T221626Z
DTSTART:20180626T223000Z
DTEND:20180627T000000Z
LOCATION:Field_2A
CONTACT:
SUMMARY:Rescheduled VS. Wolfe's Gang
DESCRIPTION:League Name: 2018 Spring Outdoor Coed 0pen 7v7 - Tuesdays\nGame
  Type: Regular\nGame Status: Complete\nHome Team: Rescheduled\nAway Team: 
 Wolfe's Gang\nHome Score: 8\nAway Score: 3
END:VEVENT
BEGIN:VEVENT
UID:11406867@ezleagues.ezfacility.com
DTSTAMP:20260424T221626Z
CREATED:20260424T221626Z
DTSTART:20180710T223000Z
DTEND:20180711T000000Z
LOCATION:Field_2A
CONTACT:
SUMMARY:Wolfe's Gang VS. Resource FC
DESCRIPTION:League Name: 2018 Spring Outdoor Coed 0pen 7v7 - Tuesdays\nGame
  Type: Regular\nGame Status: Complete\nHome Team: Wolfe's Gang\nAway Team:
  Resource FC\nHome Score: 7\nAway Score: 4
END:VEVENT
BEGIN:VEVENT
UID:11406869@ezleagues.ezfacility.com
DTSTAMP:20260424T221626Z
CREATED:20260424T221626Z
DTSTART:20180717T223000Z
DTEND:20180718T000000Z
LOCATION:Field D
CONTACT:
SUMMARY:Roger's Renegades VS. Wolfe's Gang
DESCRIPTION:League Name: 2018 Spring Outdoor Coed 0pen 7v7 - Tuesdays\nGame
  Type: Regular\nGame Status: Complete\nHome Team: Roger's Renegades\nAway 
 Team: Wolfe's Gang\nHome Score: 6\nAway Score: 1
END:VEVENT
BEGIN:VEVENT
UID:11470433@ezleagues.ezfacility.com
DTSTAMP:20260424T221626Z
CREATED:20260424T221626Z
DTSTART:20180724T223000Z
DTEND:20180725T000000Z
LOCATION:_
CONTACT:
SUMMARY:Wolfe's Gang VS. Rescheduled
DESCRIPTION:League Name: 2018 Spring Outdoor Coed 0pen 7v7 - Tuesdays\nGame
  Type: Regular\nGame Status: Complete\nHome Team: Wolfe's Gang\nAway Team:
  Rescheduled\nHome Score: 6\nAway Score: 7
END:VEVENT
BEGIN:VEVENT
UID:11470434@ezleagues.ezfacility.com
DTSTAMP:20260424T221626Z
CREATED:20260424T221626Z
DTSTART:20180731T223000Z
DTEND:20180801T000000Z
LOCATION:Field_2B
CONTACT:
SUMMARY:Killer Wolves From Outer Space VS. Wolfe's Gang
DESCRIPTION:League Name: 2018 Spring Outdoor Coed 0pen 7v7 - Tuesdays\nGame
  Type: Regular\nGame Status: Complete\nHome Team: Killer Wolves From Outer
  Space\nAway Team: Wolfe's Gang\nHome Score: 12\nAway Score: 6
END:VEVENT
END:VCALENDAR
