BEGIN:VCALENDAR
VERSION:2.0
PRODID:-//EZFacility.com, Inc.//EZL 2.5.5.28621
BEGIN:VEVENT
UID:11479900@ezleagues.ezfacility.com
DTSTAMP:20260426T034959Z
CREATED:20260426T034959Z
DTSTART:20180612T150000Z
DTEND:20180612T160000Z
LOCATION:Sand Court 5
CONTACT:
SUMMARY:The Fierce Five VS. Dream Team
DESCRIPTION:League Name: Junior Sand Volleyball Leagues - Grades 7/8 (Summe
 r 2018)\nGame Type: Regular\nGame Status: Complete\nHome Team: The Fierce 
 Five\nAway Team: Dream Team\nHome Score: 0\nAway Score: 3
END:VEVENT
BEGIN:VEVENT
UID:11479870@ezleagues.ezfacility.com
DTSTAMP:20260426T034959Z
CREATED:20260426T034959Z
DTSTART:20180619T150000Z
DTEND:20180619T160000Z
LOCATION:Sand Court 6
CONTACT:
SUMMARY:Dream Team VS. Sand Frands
DESCRIPTION:League Name: Junior Sand Volleyball Leagues - Grades 7/8 (Summe
 r 2018)\nGame Type: Regular\nGame Status: Complete\nHome Team: Dream Team\
 nAway Team: Sand Frands\nHome Score: 3\nAway Score: 0
END:VEVENT
BEGIN:VEVENT
UID:11479876@ezleagues.ezfacility.com
DTSTAMP:20260426T034959Z
CREATED:20260426T034959Z
DTSTART:20180626T140000Z
DTEND:20180626T150000Z
LOCATION:Sand Court 3
CONTACT:
SUMMARY:Kirtland 7/8 VS. Dream Team
DESCRIPTION:League Name: Junior Sand Volleyball Leagues - Grades 7/8 (Summe
 r 2018)\nGame Type: Regular\nGame Status: Complete\nHome Team: Kirtland 7/
 8\nAway Team: Dream Team\nHome Score: 0\nAway Score: 3
END:VEVENT
BEGIN:VEVENT
UID:11479882@ezleagues.ezfacility.com
DTSTAMP:20260426T034959Z
CREATED:20260426T034959Z
DTSTART:20180703T150000Z
DTEND:20180703T160000Z
LOCATION:Sand Court 4
CONTACT:
SUMMARY:Dream Team VS. Forcinators
DESCRIPTION:League Name: Junior Sand Volleyball Leagues - Grades 7/8 (Summe
 r 2018)\nGame Type: Regular\nGame Status: Complete\nHome Team: Dream Team\
 nAway Team: Forcinators\nHome Score: 3\nAway Score: 0
END:VEVENT
BEGIN:VEVENT
UID:11479888@ezleagues.ezfacility.com
DTSTAMP:20260426T034959Z
CREATED:20260426T034959Z
DTSTART:20180710T140000Z
DTEND:20180710T150000Z
LOCATION:Sand Court 6
CONTACT:
SUMMARY:Hot Tamales VS. Dream Team
DESCRIPTION:League Name: Junior Sand Volleyball Leagues - Grades 7/8 (Summe
 r 2018)\nGame Type: Regular\nGame Status: Complete\nHome Team: Hot Tamales
 \nAway Team: Dream Team\nHome Score: 2\nAway Score: 1
END:VEVENT
BEGIN:VEVENT
UID:11479894@ezleagues.ezfacility.com
DTSTAMP:20260426T034959Z
CREATED:20260426T034959Z
DTSTART:20180717T150000Z
DTEND:20180717T160000Z
LOCATION:Sand Court 5
CONTACT:
SUMMARY:Dream Team VS. Sand Blasters
DESCRIPTION:League Name: Junior Sand Volleyball Leagues - Grades 7/8 (Summe
 r 2018)\nGame Type: Regular\nGame Status: Complete\nHome Team: Dream Team\
 nAway Team: Sand Blasters\nHome Score: 3\nAway Score: 0
END:VEVENT
BEGIN:VEVENT
UID:11559972@ezleagues.ezfacility.com
DTSTAMP:20260426T034959Z
CREATED:20260426T034959Z
DTSTART:20180724T140000Z
DTEND:20180724T150000Z
LOCATION:Sand Court 4
CONTACT:
SUMMARY:Dream Team VS. Aces
DESCRIPTION:League Name: Junior Sand Volleyball Leagues - Grades 7/8 (Summe
 r 2018)\nGame Type: Postseason\nGame Status: Pending\nHome Team: Dream Tea
 m\nAway Team: Aces\n
END:VEVENT
END:VCALENDAR
