BEGIN:VCALENDAR
VERSION:2.0
PRODID:-//EZFacility.com, Inc.//EZL 2.5.5.28621
BEGIN:VEVENT
UID:11511110@ezleagues.ezfacility.com
DTSTAMP:20260425T162616Z
CREATED:20260425T162616Z
DTSTART:20180710T223000Z
DTEND:20180710T233000Z
LOCATION:Court 3 Basketball
CONTACT:
SUMMARY:Team 02 Lamb VS. Team 06 WT Usilton
DESCRIPTION:League Name: Summer 2018 Middle School Skip Given\nGame Type: R
 egular\nGame Status: Complete\nHome Team: Team 02 Lamb\nAway Team: Team 06
  WT Usilton\nHome Score: 14\nAway Score: 57
END:VEVENT
BEGIN:VEVENT
UID:11513702@ezleagues.ezfacility.com
DTSTAMP:20260425T162616Z
CREATED:20260425T162616Z
DTSTART:20180720T000000Z
DTEND:20180720T010000Z
LOCATION:Court 3 Basketball
CONTACT:
SUMMARY:Team 02 Lamb VS. Team 05 Woodstown
DESCRIPTION:League Name: Summer 2018 Middle School Skip Given\nGame Type: R
 egular\nGame Status: Complete\nHome Team: Team 02 Lamb\nAway Team: Team 05
  Woodstown\nHome Score: 9\nAway Score: 34
END:VEVENT
BEGIN:VEVENT
UID:11511130@ezleagues.ezfacility.com
DTSTAMP:20260425T162616Z
CREATED:20260425T162616Z
DTSTART:20180720T010000Z
DTEND:20180720T020000Z
LOCATION:Court 3 Basketball
CONTACT:
SUMMARY:Team 01 Murphy VS. Team 02 Lamb
DESCRIPTION:League Name: Summer 2018 Middle School Skip Given\nGame Type: R
 egular\nGame Status: Complete\nHome Team: Team 01 Murphy\nAway Team: Team 
 02 Lamb\nHome Score: 41\nAway Score: 12
END:VEVENT
BEGIN:VEVENT
UID:11511135@ezleagues.ezfacility.com
DTSTAMP:20260425T162616Z
CREATED:20260425T162616Z
DTSTART:20180724T223000Z
DTEND:20180724T233000Z
LOCATION:Court 3 Basketball
CONTACT:
SUMMARY:Team 02 Lamb VS. Team 03 Glassboro
DESCRIPTION:League Name: Summer 2018 Middle School Skip Given\nGame Type: R
 egular\nGame Status: Complete\nHome Team: Team 02 Lamb\nAway Team: Team 03
  Glassboro\nHome Score: 13\nAway Score: 52
END:VEVENT
BEGIN:VEVENT
UID:11511136@ezleagues.ezfacility.com
DTSTAMP:20260425T162616Z
CREATED:20260425T162616Z
DTSTART:20180727T003000Z
DTEND:20180727T013000Z
LOCATION:Court 3 Basketball
CONTACT:
SUMMARY:Team 02 Lamb VS. Team 04 Callahan
DESCRIPTION:League Name: Summer 2018 Middle School Skip Given\nGame Type: R
 egular\nGame Status: Complete\nHome Team: Team 02 Lamb\nAway Team: Team 04
  Callahan\nHome Score: 13\nAway Score: 50
END:VEVENT
BEGIN:VEVENT
UID:11511145@ezleagues.ezfacility.com
DTSTAMP:20260425T162616Z
CREATED:20260425T162616Z
DTSTART:20180731T234500Z
DTEND:20180801T004500Z
LOCATION:Court 3 Basketball
CONTACT:
SUMMARY:Team 01 Murphy VS. Team 02 Lamb
DESCRIPTION:League Name: Summer 2018 Middle School Skip Given\nGame Type: R
 egular\nGame Status: Complete\nHome Team: Team 01 Murphy\nAway Team: Team 
 02 Lamb\nHome Score: 46\nAway Score: 15
END:VEVENT
BEGIN:VEVENT
UID:11511153@ezleagues.ezfacility.com
DTSTAMP:20260425T162616Z
CREATED:20260425T162616Z
DTSTART:20180802T223000Z
DTEND:20180802T233000Z
LOCATION:Court 3 Basketball
CONTACT:
SUMMARY:Team 02 Lamb VS. Team 03 Glassboro
DESCRIPTION:League Name: Summer 2018 Middle School Skip Given\nGame Type: R
 egular\nGame Status: Complete\nHome Team: Team 02 Lamb\nAway Team: Team 03
  Glassboro\nHome Score: 21\nAway Score: 52
END:VEVENT
BEGIN:VEVENT
UID:11527602@ezleagues.ezfacility.com
DTSTAMP:20260425T162616Z
CREATED:20260425T162616Z
DTSTART:20180807T230000Z
DTEND:20180808T000000Z
LOCATION:Court 3 Basketball
CONTACT:
SUMMARY:Team 01 Murphy VS. Team 02 Lamb
DESCRIPTION:League Name: Summer 2018 Middle School Skip Given\nGame Type: R
 egular\nGame Status: Complete\nHome Team: Team 01 Murphy\nAway Team: Team 
 02 Lamb\nHome Score: 51\nAway Score: 26
END:VEVENT
END:VCALENDAR
