BEGIN:VCALENDAR
VERSION:2.0
PRODID:-//EZFacility.com, Inc.//EZL 2.5.5.28621
BEGIN:VEVENT
UID:11511109@ezleagues.ezfacility.com
DTSTAMP:20260425T125836Z
CREATED:20260425T125836Z
DTSTART:20180629T000000Z
DTEND:20180629T010000Z
LOCATION:Court 3 Basketball
CONTACT:
SUMMARY:Team 03 Glassboro VS. Team 04 Callahan
DESCRIPTION:League Name: Summer 2018 Middle School Skip Given\nGame Type: R
 egular\nGame Status: Complete\nHome Team: Team 03 Glassboro\nAway Team: Te
 am 04 Callahan\nHome Score: 30\nAway Score: 68
END:VEVENT
BEGIN:VEVENT
UID:11511112@ezleagues.ezfacility.com
DTSTAMP:20260425T125836Z
CREATED:20260425T125836Z
DTSTART:20180710T233000Z
DTEND:20180711T003000Z
LOCATION:Court 3 Basketball
CONTACT:
SUMMARY:Team 04 Callahan VS. Team 05 Woodstown
DESCRIPTION:League Name: Summer 2018 Middle School Skip Given\nGame Type: R
 egular\nGame Status: Complete\nHome Team: Team 04 Callahan\nAway Team: Tea
 m 05 Woodstown\nHome Score: 57\nAway Score: 15
END:VEVENT
BEGIN:VEVENT
UID:11511124@ezleagues.ezfacility.com
DTSTAMP:20260425T125836Z
CREATED:20260425T125836Z
DTSTART:20180717T233000Z
DTEND:20180718T003000Z
LOCATION:Court 3 Basketball
CONTACT:
SUMMARY:Team 04 Callahan VS. Team 06 WT Usilton
DESCRIPTION:League Name: Summer 2018 Middle School Skip Given\nGame Type: R
 egular\nGame Status: Complete\nHome Team: Team 04 Callahan\nAway Team: Tea
 m 06 WT Usilton\nHome Score: 48\nAway Score: 38
END:VEVENT
BEGIN:VEVENT
UID:11511133@ezleagues.ezfacility.com
DTSTAMP:20260425T125836Z
CREATED:20260425T125836Z
DTSTART:20180724T233000Z
DTEND:20180725T003000Z
LOCATION:Court 3 Basketball
CONTACT:
SUMMARY:Team 01 Murphy VS. Team 04 Callahan
DESCRIPTION:League Name: Summer 2018 Middle School Skip Given\nGame Type: R
 egular\nGame Status: Complete\nHome Team: Team 01 Murphy\nAway Team: Team 
 04 Callahan\nHome Score: 22\nAway Score: 66
END:VEVENT
BEGIN:VEVENT
UID:11511136@ezleagues.ezfacility.com
DTSTAMP:20260425T125836Z
CREATED:20260425T125836Z
DTSTART:20180727T003000Z
DTEND:20180727T013000Z
LOCATION:Court 3 Basketball
CONTACT:
SUMMARY:Team 02 Lamb VS. Team 04 Callahan
DESCRIPTION:League Name: Summer 2018 Middle School Skip Given\nGame Type: R
 egular\nGame Status: Complete\nHome Team: Team 02 Lamb\nAway Team: Team 04
  Callahan\nHome Score: 13\nAway Score: 50
END:VEVENT
BEGIN:VEVENT
UID:11511143@ezleagues.ezfacility.com
DTSTAMP:20260425T125836Z
CREATED:20260425T125836Z
DTSTART:20180731T224500Z
DTEND:20180731T234500Z
LOCATION:Court 3 Basketball
CONTACT:
SUMMARY:Team 04 Callahan VS. Team 03 Glassboro
DESCRIPTION:League Name: Summer 2018 Middle School Skip Given\nGame Type: R
 egular\nGame Status: Complete\nHome Team: Team 04 Callahan\nAway Team: Tea
 m 03 Glassboro\nHome Score: 58\nAway Score: 50
END:VEVENT
BEGIN:VEVENT
UID:11527601@ezleagues.ezfacility.com
DTSTAMP:20260425T125836Z
CREATED:20260425T125836Z
DTSTART:20180807T220000Z
DTEND:20180807T230000Z
LOCATION:Court 3 Basketball
CONTACT:
SUMMARY:Team 06 WT Usilton VS. Team 04 Callahan
DESCRIPTION:League Name: Summer 2018 Middle School Skip Given\nGame Type: R
 egular\nGame Status: Complete\nHome Team: Team 06 WT Usilton\nAway Team: T
 eam 04 Callahan\nHome Score: 40\nAway Score: 46
END:VEVENT
BEGIN:VEVENT
UID:11527605@ezleagues.ezfacility.com
DTSTAMP:20260425T125836Z
CREATED:20260425T125836Z
DTSTART:20180809T230000Z
DTEND:20180810T000000Z
LOCATION:Court 2 Basketball
CONTACT:
SUMMARY:Team 04 Callahan VS. W of Lamb vs Murphy
DESCRIPTION:League Name: Summer 2018 Middle School Skip Given\nGame Type: R
 egular\nGame Status: Complete\nHome Team: Team 04 Callahan\nAway Team: W o
 f Lamb vs Murphy\nHome Score: 28\nAway Score: 24
END:VEVENT
END:VCALENDAR
