BEGIN:VCALENDAR
VERSION:2.0
PRODID:-//EZFacility.com, Inc.//EZL 2.5.5.28621
BEGIN:VEVENT
UID:11580975@ezleagues.ezfacility.com
DTSTAMP:20260419T194754Z
CREATED:20260419T194754Z
DTSTART:20180808T223000Z
DTEND:20180808T235000Z
LOCATION:_
CONTACT:
SUMMARY:YOGIS Boys FC VS. Flytown Magic
DESCRIPTION:League Name: Fall Outdoor Men's 30+ 11v11  North\nGame Type: Re
 gular\nGame Status: Complete\nHome Team: YOGIS Boys FC\nAway Team: Flytown
  Magic\nHome Score: 2\nAway Score: 2
END:VEVENT
BEGIN:VEVENT
UID:11580978@ezleagues.ezfacility.com
DTSTAMP:20260419T194754Z
CREATED:20260419T194754Z
DTSTART:20180815T223000Z
DTEND:20180815T235000Z
LOCATION:Field 04
CONTACT:
SUMMARY:Arsenal VS. Flytown Magic
DESCRIPTION:League Name: Fall Outdoor Men's 30+ 11v11  North\nGame Type: Re
 gular\nGame Status: Complete\nHome Team: Arsenal\nAway Team: Flytown Magic
 \nHome Score: 1\nAway Score: 1
END:VEVENT
BEGIN:VEVENT
UID:11580979@ezleagues.ezfacility.com
DTSTAMP:20260419T194754Z
CREATED:20260419T194754Z
DTSTART:20180822T223000Z
DTEND:20180822T235000Z
LOCATION:Field 01
CONTACT:
SUMMARY:Flytown Magic VS. Cobra Kai
DESCRIPTION:League Name: Fall Outdoor Men's 30+ 11v11  North\nGame Type: Re
 gular\nGame Status: Complete\nHome Team: Flytown Magic\nAway Team: Cobra K
 ai\nHome Score: 6\nAway Score: 0
END:VEVENT
BEGIN:VEVENT
UID:11580983@ezleagues.ezfacility.com
DTSTAMP:20260419T194754Z
CREATED:20260419T194754Z
DTSTART:20180829T223000Z
DTEND:20180830T000000Z
LOCATION:Field 02
CONTACT:
SUMMARY:Wubba Lubba Dub Dub VS. Flytown Magic
DESCRIPTION:League Name: Fall Outdoor Men's 30+ 11v11  North\nGame Type: Re
 gular\nGame Status: Complete\nHome Team: Wubba Lubba Dub Dub\nAway Team: F
 lytown Magic\nHome Score: 1\nAway Score: 1
END:VEVENT
BEGIN:VEVENT
UID:11580985@ezleagues.ezfacility.com
DTSTAMP:20260419T194754Z
CREATED:20260419T194754Z
DTSTART:20180905T223000Z
DTEND:20180905T235000Z
LOCATION:Field 05
CONTACT:
SUMMARY:Hammers VS. Flytown Magic
DESCRIPTION:League Name: Fall Outdoor Men's 30+ 11v11  North\nGame Type: Re
 gular\nGame Status: Complete\nHome Team: Hammers\nAway Team: Flytown Magic
 \nHome Score: 1\nAway Score: 4
END:VEVENT
BEGIN:VEVENT
UID:11580991@ezleagues.ezfacility.com
DTSTAMP:20260419T194754Z
CREATED:20260419T194754Z
DTSTART:20180912T223000Z
DTEND:20180912T235000Z
LOCATION:_
CONTACT:
SUMMARY:Flytown Magic VS. YOGIS Boys FC
DESCRIPTION:League Name: Fall Outdoor Men's 30+ 11v11  North\nGame Type: Re
 gular\nGame Status: Rescheduled\nHome Team: Flytown Magic\nAway Team: YOGI
 S Boys FC\n
END:VEVENT
BEGIN:VEVENT
UID:11580994@ezleagues.ezfacility.com
DTSTAMP:20260419T194754Z
CREATED:20260419T194754Z
DTSTART:20180919T223000Z
DTEND:20180919T235000Z
LOCATION:Field 07
CONTACT:
SUMMARY:Flytown Magic VS. Arsenal
DESCRIPTION:League Name: Fall Outdoor Men's 30+ 11v11  North\nGame Type: Re
 gular\nGame Status: Complete\nHome Team: Flytown Magic\nAway Team: Arsenal
 \nHome Score: 1\nAway Score: 4
END:VEVENT
BEGIN:VEVENT
UID:11580996@ezleagues.ezfacility.com
DTSTAMP:20260419T194754Z
CREATED:20260419T194754Z
DTSTART:20180926T223000Z
DTEND:20180926T235000Z
LOCATION:Field 08
CONTACT:
SUMMARY:Flytown Magic VS. Wubba Lubba Dub Dub
DESCRIPTION:League Name: Fall Outdoor Men's 30+ 11v11  North\nGame Type: Re
 gular\nGame Status: Complete\nHome Team: Flytown Magic\nAway Team: Wubba L
 ubba Dub Dub\nHome Score: 3\nAway Score: 1
END:VEVENT
BEGIN:VEVENT
UID:11676543@ezleagues.ezfacility.com
DTSTAMP:20260419T194754Z
CREATED:20260419T194754Z
DTSTART:20181003T220000Z
DTEND:20181003T233000Z
LOCATION:Field 06
CONTACT:
SUMMARY:Flytown Magic VS. YOGIS Boys FC
DESCRIPTION:League Name: Fall Outdoor Men's 30+ 11v11  North\nGame Type: Re
 gular\nGame Status: Complete\nHome Team: Flytown Magic\nAway Team: YOGIS B
 oys FC\nHome Score: 1\nAway Score: 2
END:VEVENT
END:VCALENDAR
