BEGIN:VCALENDAR
VERSION:2.0
PRODID:-//EZFacility.com, Inc.//EZL 2.5.5.28621
BEGIN:VEVENT
UID:11674231@ezleagues.ezfacility.com
DTSTAMP:20260421T121944Z
CREATED:20260421T121944Z
DTSTART:20180917T014500Z
DTEND:20180917T024500Z
LOCATION:zIceland Rink 4
CONTACT:
SUMMARY:Sunnyvale Oilers VS. Mighty Singhs
DESCRIPTION:League Name: MSL Adult Hockey League - Sunday\nGame Type: Regul
 ar\nGame Status: Complete\nHome Team: Sunnyvale Oilers\nAway Team: Mighty 
 Singhs\nHome Score: 2\nAway Score: 8
END:VEVENT
BEGIN:VEVENT
UID:11674241@ezleagues.ezfacility.com
DTSTAMP:20260421T121944Z
CREATED:20260421T121944Z
DTSTART:20180924T020000Z
DTEND:20180924T030000Z
LOCATION:zIceland Rink 1
CONTACT:
SUMMARY:Sunnyvale Oilers VS. CIP
DESCRIPTION:League Name: MSL Adult Hockey League - Sunday\nGame Type: Exhib
 ition\nGame Status: Complete\nHome Team: Sunnyvale Oilers\nAway Team: CIP\
 nHome Score: 5\nAway Score: 4
END:VEVENT
END:VCALENDAR
