BEGIN:VCALENDAR
VERSION:2.0
PRODID:-//EZFacility.com, Inc.//EZL 2.5.5.28621
BEGIN:VEVENT
UID:11683235@ezleagues.ezfacility.com
DTSTAMP:20260424T232112Z
CREATED:20260424T232112Z
DTSTART:20180918T230000Z
DTEND:20180918T235000Z
LOCATION:zMississauga Valley Gymnasium 
CONTACT:
SUMMARY:Final Boss VS. Bigs Ultimate Sports Grill
DESCRIPTION:League Name: MSL Adult Basketball League - Tuesday\nGame Type: 
 Exhibition\nGame Status: Complete\nHome Team: Final Boss\nAway Team: Bigs 
 Ultimate Sports Grill\nHome Score: 20\nAway Score: 0
END:VEVENT
BEGIN:VEVENT
UID:11683248@ezleagues.ezfacility.com
DTSTAMP:20260424T232112Z
CREATED:20260424T232112Z
DTSTART:20180926T013000Z
DTEND:20180926T022000Z
LOCATION:zMississauga Valley Gymnasium 
CONTACT:
SUMMARY:Bigs Ultimate Sports Grill VS. Wolverines
DESCRIPTION:League Name: MSL Adult Basketball League - Tuesday\nGame Type: 
 Exhibition\nGame Status: Complete\nHome Team: Bigs Ultimate Sports Grill\n
 Away Team: Wolverines\nHome Score: 58\nAway Score: 42
END:VEVENT
END:VCALENDAR
