BEGIN:VCALENDAR
VERSION:2.0
PRODID:-//EZFacility.com, Inc.//EZL 2.5.5.28621
BEGIN:VEVENT
UID:11683244@ezleagues.ezfacility.com
DTSTAMP:20260424T044003Z
CREATED:20260424T044003Z
DTSTART:20180919T022000Z
DTEND:20180919T031000Z
LOCATION:zMississauga Valley Gymnasium 
CONTACT:
SUMMARY:Dad Bodz VS. Brick Squad Monopoly
DESCRIPTION:League Name: MSL Adult Basketball League - Tuesday\nGame Type: 
 Exhibition\nGame Status: Complete\nHome Team: Dad Bodz\nAway Team: Brick S
 quad Monopoly\nHome Score: 34\nAway Score: 43
END:VEVENT
BEGIN:VEVENT
UID:11714827@ezleagues.ezfacility.com
DTSTAMP:20260424T044003Z
CREATED:20260424T044003Z
DTSTART:20180925T235500Z
DTEND:20180926T004500Z
LOCATION:zMississauga Valley Gymnasium 
CONTACT:
SUMMARY:Got Rice VS. Brick Squad Monopoly
DESCRIPTION:League Name: MSL Adult Basketball League - Tuesday\nGame Type: 
 Exhibition\nGame Status: Complete\nHome Team: Got Rice\nAway Team: Brick S
 quad Monopoly\nHome Score: 30\nAway Score: 37
END:VEVENT
END:VCALENDAR
