BEGIN:VCALENDAR
VERSION:2.0
PRODID:-//EZFacility.com, Inc.//EZL 2.5.5.28621
BEGIN:VEVENT
UID:11683243@ezleagues.ezfacility.com
DTSTAMP:20260426T034109Z
CREATED:20260426T034109Z
DTSTART:20180919T013000Z
DTEND:20180919T022000Z
LOCATION:zMississauga Valley Gymnasium 
CONTACT:
SUMMARY:Intuit  VS. Big Girls Don't Kawhi
DESCRIPTION:League Name: MSL Adult Basketball League - Tuesday\nGame Type: 
 Exhibition\nGame Status: Complete\nHome Team: Intuit \nAway Team: Big Girl
 s Don't Kawhi\nHome Score: 0\nAway Score: 20
END:VEVENT
BEGIN:VEVENT
UID:11683252@ezleagues.ezfacility.com
DTSTAMP:20260426T034109Z
CREATED:20260426T034109Z
DTSTART:20180926T022500Z
DTEND:20180926T031500Z
LOCATION:zMississauga Valley Gymnasium 
CONTACT:
SUMMARY:OGs VS. Intuit 
DESCRIPTION:League Name: MSL Adult Basketball League - Tuesday\nGame Type: 
 Exhibition\nGame Status: Complete\nHome Team: OGs\nAway Team: Intuit \nHom
 e Score: 44\nAway Score: 37
END:VEVENT
END:VCALENDAR
