BEGIN:VCALENDAR
VERSION:2.0
PRODID:-//EZFacility.com, Inc.//EZL 2.5.5.28621
BEGIN:VEVENT
UID:11734429@ezleagues.ezfacility.com
DTSTAMP:20260426T034835Z
CREATED:20260426T034835Z
DTSTART:20180919T020000Z
DTEND:20180919T025500Z
LOCATION:PFFC Field House - C
CONTACT:
SUMMARY:Royal Ballers FC  VS. PMS United
DESCRIPTION:League Name: MSL Soccer - Ladies Division #4\nGame Type: Regula
 r\nGame Status: Complete\nHome Team: Royal Ballers FC \nAway Team: PMS Uni
 ted\nHome Score: 2\nAway Score: 4
END:VEVENT
BEGIN:VEVENT
UID:11734444@ezleagues.ezfacility.com
DTSTAMP:20260426T034835Z
CREATED:20260426T034835Z
DTSTART:20180925T235500Z
DTEND:20180926T005000Z
LOCATION:PFFC Field House - D
CONTACT:
SUMMARY:Rockets VS. Royal Ballers FC 
DESCRIPTION:League Name: MSL Soccer - Ladies Division #4\nGame Type: Regula
 r\nGame Status: Complete\nHome Team: Rockets\nAway Team: Royal Ballers FC 
 \nHome Score: 3\nAway Score: 1
END:VEVENT
BEGIN:VEVENT
UID:11734461@ezleagues.ezfacility.com
DTSTAMP:20260426T034835Z
CREATED:20260426T034835Z
DTSTART:20181002T235500Z
DTEND:20181003T005000Z
LOCATION:PFFC Field House - C
CONTACT:
SUMMARY:Team Croatia VS. Royal Ballers FC 
DESCRIPTION:League Name: MSL Soccer - Ladies Division #4\nGame Type: Regula
 r\nGame Status: Complete\nHome Team: Team Croatia\nAway Team: Royal Baller
 s FC \nHome Score: 4\nAway Score: 1
END:VEVENT
BEGIN:VEVENT
UID:11734478@ezleagues.ezfacility.com
DTSTAMP:20260426T034835Z
CREATED:20260426T034835Z
DTSTART:20181009T220500Z
DTEND:20181009T230000Z
LOCATION:PFFC Field House - D
CONTACT:
SUMMARY:Views from the Pitch VS. Royal Ballers FC 
DESCRIPTION:League Name: MSL Soccer - Ladies Division #4\nGame Type: Regula
 r\nGame Status: Complete\nHome Team: Views from the Pitch\nAway Team: Roya
 l Ballers FC \nHome Score: 4\nAway Score: 0
END:VEVENT
BEGIN:VEVENT
UID:11734494@ezleagues.ezfacility.com
DTSTAMP:20260426T034835Z
CREATED:20260426T034835Z
DTSTART:20181016T235500Z
DTEND:20181017T005000Z
LOCATION:PFFC Field House - D
CONTACT:
SUMMARY:Royal Ballers FC  VS. Goal Diggers
DESCRIPTION:League Name: MSL Soccer - Ladies Division #4\nGame Type: Regula
 r\nGame Status: Complete\nHome Team: Royal Ballers FC \nAway Team: Goal Di
 ggers\nHome Score: 1\nAway Score: 6
END:VEVENT
BEGIN:VEVENT
UID:11734509@ezleagues.ezfacility.com
DTSTAMP:20260426T034835Z
CREATED:20260426T034835Z
DTSTART:20181024T005000Z
DTEND:20181024T014500Z
LOCATION:PFFC Field House - C
CONTACT:
SUMMARY:PMS United VS. Royal Ballers FC 
DESCRIPTION:League Name: MSL Soccer - Ladies Division #4\nGame Type: Regula
 r\nGame Status: Complete\nHome Team: PMS United\nAway Team: Royal Ballers 
 FC \nHome Score: 0\nAway Score: 1
END:VEVENT
BEGIN:VEVENT
UID:11830894@ezleagues.ezfacility.com
DTSTAMP:20260426T034835Z
CREATED:20260426T034835Z
DTSTART:20181030T235500Z
DTEND:20181031T005000Z
LOCATION:PFFC Field House - C
CONTACT:
SUMMARY:Pink Ladies VS. Royal Ballers FC 
DESCRIPTION:League Name: MSL Soccer - Ladies Division #4\nGame Type: Regula
 r\nGame Status: Complete\nHome Team: Pink Ladies\nAway Team: Royal Ballers
  FC \nHome Score: 5\nAway Score: 0
END:VEVENT
BEGIN:VEVENT
UID:11734541@ezleagues.ezfacility.com
DTSTAMP:20260426T034835Z
CREATED:20260426T034835Z
DTSTART:20181107T000000Z
DTEND:20181107T005500Z
LOCATION:PFFC Field House - C
CONTACT:
SUMMARY:Royal Ballers FC  VS. The Heat
DESCRIPTION:League Name: MSL Soccer - Ladies Division #4\nGame Type: Regula
 r\nGame Status: Complete\nHome Team: Royal Ballers FC \nAway Team: The Hea
 t\nHome Score: 0\nAway Score: 5
END:VEVENT
BEGIN:VEVENT
UID:11734558@ezleagues.ezfacility.com
DTSTAMP:20260426T034835Z
CREATED:20260426T034835Z
DTSTART:20181114T012500Z
DTEND:20181114T022000Z
LOCATION:PFFC Dome - 2
CONTACT:
SUMMARY:Royal Ballers FC  VS. Views from the Pitch
DESCRIPTION:League Name: MSL Soccer - Ladies Division #4\nGame Type: Regula
 r\nGame Status: Complete\nHome Team: Royal Ballers FC \nAway Team: Views f
 rom the Pitch\nHome Score: 0\nAway Score: 5
END:VEVENT
BEGIN:VEVENT
UID:11734574@ezleagues.ezfacility.com
DTSTAMP:20260426T034835Z
CREATED:20260426T034835Z
DTSTART:20181121T022000Z
DTEND:20181121T031500Z
LOCATION:PFFC Dome - 1
CONTACT:
SUMMARY:Goal Diggers VS. Royal Ballers FC 
DESCRIPTION:League Name: MSL Soccer - Ladies Division #4\nGame Type: Regula
 r\nGame Status: Complete\nHome Team: Goal Diggers\nAway Team: Royal Baller
 s FC \nHome Score: 4\nAway Score: 0
END:VEVENT
BEGIN:VEVENT
UID:11734589@ezleagues.ezfacility.com
DTSTAMP:20260426T034835Z
CREATED:20260426T034835Z
DTSTART:20181127T230500Z
DTEND:20181128T000000Z
LOCATION:PFFC Field House - D
CONTACT:
SUMMARY:PMS United VS. Royal Ballers FC 
DESCRIPTION:League Name: MSL Soccer - Ladies Division #4\nGame Type: Regula
 r\nGame Status: Complete\nHome Team: PMS United\nAway Team: Royal Ballers 
 FC \nHome Score: 0\nAway Score: 1
END:VEVENT
BEGIN:VEVENT
UID:11830899@ezleagues.ezfacility.com
DTSTAMP:20260426T034835Z
CREATED:20260426T034835Z
DTSTART:20181205T015000Z
DTEND:20181205T024500Z
LOCATION:PFFC Field House - C
CONTACT:
SUMMARY:Pink Ladies VS. Royal Ballers FC 
DESCRIPTION:League Name: MSL Soccer - Ladies Division #4\nGame Type: Regula
 r\nGame Status: Complete\nHome Team: Pink Ladies\nAway Team: Royal Ballers
  FC \nHome Score: 8\nAway Score: 0
END:VEVENT
BEGIN:VEVENT
UID:11734621@ezleagues.ezfacility.com
DTSTAMP:20260426T034835Z
CREATED:20260426T034835Z
DTSTART:20181212T012500Z
DTEND:20181212T022000Z
LOCATION:PFFC Dome - 2
CONTACT:
SUMMARY:Royal Ballers FC  VS. Team Croatia
DESCRIPTION:League Name: MSL Soccer - Ladies Division #4\nGame Type: Regula
 r\nGame Status: Complete\nHome Team: Royal Ballers FC \nAway Team: Team Cr
 oatia\nHome Score: 3\nAway Score: 1
END:VEVENT
BEGIN:VEVENT
UID:11734638@ezleagues.ezfacility.com
DTSTAMP:20260426T034835Z
CREATED:20260426T034835Z
DTSTART:20181219T005500Z
DTEND:20181219T015000Z
LOCATION:PFFC Field House - C
CONTACT:
SUMMARY:Royal Ballers FC  VS. Views from the Pitch
DESCRIPTION:League Name: MSL Soccer - Ladies Division #4\nGame Type: Regula
 r\nGame Status: Complete\nHome Team: Royal Ballers FC \nAway Team: Views f
 rom the Pitch\nHome Score: 0\nAway Score: 3
END:VEVENT
BEGIN:VEVENT
UID:12000294@ezleagues.ezfacility.com
DTSTAMP:20260426T034835Z
CREATED:20260426T034835Z
DTSTART:20190109T031000Z
DTEND:20190109T040000Z
LOCATION:PFFC Field House - C
CONTACT:
SUMMARY:Goal Diggers VS. Royal Ballers FC 
DESCRIPTION:League Name: MSL Soccer - Ladies Division #4\nGame Type: Postse
 ason\nGame Status: Complete\nHome Team: Goal Diggers\nAway Team: Royal Bal
 lers FC \nHome Score: 6\nAway Score: 0
END:VEVENT
END:VCALENDAR
