BEGIN:VCALENDAR
VERSION:2.0
PRODID:-//EZFacility.com, Inc.//EZL 2.5.5.28621
BEGIN:VEVENT
UID:11698283@ezleagues.ezfacility.com
DTSTAMP:20260419T121123Z
CREATED:20260419T121123Z
DTSTART:20181004T003000Z
DTEND:20181004T013000Z
LOCATION:Field 7B
CONTACT:
SUMMARY:Supreme Team VS. Febreeze
DESCRIPTION:League Name: 2018 - Fall - Coed Tier 1\nGame Type: Regular\nGam
 e Status: Complete\nHome Team: Supreme Team\nAway Team: Febreeze\nHome Sco
 re: 4\nAway Score: 6
END:VEVENT
BEGIN:VEVENT
UID:11698300@ezleagues.ezfacility.com
DTSTAMP:20260419T121123Z
CREATED:20260419T121123Z
DTSTART:20181018T003000Z
DTEND:20181018T013000Z
LOCATION:Field 7A
CONTACT:
SUMMARY:Febreeze VS. Columbus Crew
DESCRIPTION:League Name: 2018 - Fall - Coed Tier 1\nGame Type: Regular\nGam
 e Status: Complete\nHome Team: Febreeze\nAway Team: Columbus Crew\nHome Sc
 ore: 8\nAway Score: 5
END:VEVENT
BEGIN:VEVENT
UID:11698302@ezleagues.ezfacility.com
DTSTAMP:20260419T121123Z
CREATED:20260419T121123Z
DTSTART:20181025T003000Z
DTEND:20181025T013000Z
LOCATION:Field 7B
CONTACT:
SUMMARY:Febreeze VS. Ft. Benning
DESCRIPTION:League Name: 2018 - Fall - Coed Tier 1\nGame Type: Regular\nGam
 e Status: Complete\nHome Team: Febreeze\nAway Team: Ft. Benning\nHome Scor
 e: 5\nAway Score: 2
END:VEVENT
BEGIN:VEVENT
UID:11698308@ezleagues.ezfacility.com
DTSTAMP:20260419T121123Z
CREATED:20260419T121123Z
DTSTART:20181108T013000Z
DTEND:20181108T023000Z
LOCATION:Field 4D
CONTACT:
SUMMARY:Febreeze VS. Selecta FC
DESCRIPTION:League Name: 2018 - Fall - Coed Tier 1\nGame Type: Regular\nGam
 e Status: Rescheduled\nHome Team: Febreeze\nAway Team: Selecta FC\n
END:VEVENT
BEGIN:VEVENT
UID:11698224@ezleagues.ezfacility.com
DTSTAMP:20260419T121123Z
CREATED:20260419T121123Z
DTSTART:20181113T001500Z
DTEND:20181113T011500Z
LOCATION:Field 4D
CONTACT:
SUMMARY:Febreeze VS. Selecta FC
DESCRIPTION:League Name: 2018 - Fall - Coed Tier 1\nGame Type: Regular\nGam
 e Status: Rescheduled\nHome Team: Febreeze\nAway Team: Selecta FC\n
END:VEVENT
BEGIN:VEVENT
UID:11698310@ezleagues.ezfacility.com
DTSTAMP:20260419T121123Z
CREATED:20260419T121123Z
DTSTART:20181115T013000Z
DTEND:20181115T023000Z
LOCATION:Field 7B
CONTACT:
SUMMARY:Supreme Team VS. Febreeze
DESCRIPTION:League Name: 2018 - Fall - Coed Tier 1\nGame Type: Regular\nGam
 e Status: Rescheduled\nHome Team: Supreme Team\nAway Team: Febreeze\n
END:VEVENT
BEGIN:VEVENT
UID:11698288@ezleagues.ezfacility.com
DTSTAMP:20260419T121123Z
CREATED:20260419T121123Z
DTSTART:20181127T013000Z
DTEND:20181127T023000Z
LOCATION:Field 4D
CONTACT:
SUMMARY:Blackstar VS. Febreeze
DESCRIPTION:League Name: 2018 - Fall - Coed Tier 1\nGame Type: Regular\nGam
 e Status: Complete\nHome Team: Blackstar\nAway Team: Febreeze\nHome Score:
  4\nAway Score: 9
END:VEVENT
BEGIN:VEVENT
UID:11698313@ezleagues.ezfacility.com
DTSTAMP:20260419T121123Z
CREATED:20260419T121123Z
DTSTART:20181129T013000Z
DTEND:20181129T023000Z
LOCATION:Field 7A
CONTACT:
SUMMARY:Blackstar VS. Febreeze
DESCRIPTION:League Name: 2018 - Fall - Coed Tier 1\nGame Type: Regular\nGam
 e Status: Complete\nHome Team: Blackstar\nAway Team: Febreeze\nHome Score:
  4\nAway Score: 6
END:VEVENT
BEGIN:VEVENT
UID:11954700@ezleagues.ezfacility.com
DTSTAMP:20260419T121123Z
CREATED:20260419T121123Z
DTSTART:20181204T013000Z
DTEND:20181204T023000Z
LOCATION:Field 4D
CONTACT:
SUMMARY:Febreeze VS. Selecta FC
DESCRIPTION:League Name: 2018 - Fall - Coed Tier 1\nGame Type: Regular\nGam
 e Status: Complete\nHome Team: Febreeze\nAway Team: Selecta FC\nHome Score
 : 5\nAway Score: 3
END:VEVENT
BEGIN:VEVENT
UID:11698317@ezleagues.ezfacility.com
DTSTAMP:20260419T121123Z
CREATED:20260419T121123Z
DTSTART:20181206T013000Z
DTEND:20181206T023000Z
LOCATION:Field 7B
CONTACT:
SUMMARY:Febreeze VS. Columbus Crew
DESCRIPTION:League Name: 2018 - Fall - Coed Tier 1\nGame Type: Regular\nGam
 e Status: Complete\nHome Team: Febreeze\nAway Team: Columbus Crew\nHome Sc
 ore: 1\nAway Score: 0
END:VEVENT
BEGIN:VEVENT
UID:11954703@ezleagues.ezfacility.com
DTSTAMP:20260419T121123Z
CREATED:20260419T121123Z
DTSTART:20181211T001500Z
DTEND:20181211T011500Z
LOCATION:Field 4D
CONTACT:
SUMMARY:Febreeze VS. Selecta FC
DESCRIPTION:League Name: 2018 - Fall - Coed Tier 1\nGame Type: Regular\nGam
 e Status: Complete\nHome Team: Febreeze\nAway Team: Selecta FC\nHome Score
 : 1\nAway Score: 0
END:VEVENT
BEGIN:VEVENT
UID:11698320@ezleagues.ezfacility.com
DTSTAMP:20260419T121123Z
CREATED:20260419T121123Z
DTSTART:20181213T013000Z
DTEND:20181213T023000Z
LOCATION:Field 7B
CONTACT:
SUMMARY:Febreeze VS. Ft. Benning
DESCRIPTION:League Name: 2018 - Fall - Coed Tier 1\nGame Type: Regular\nGam
 e Status: Complete\nHome Team: Febreeze\nAway Team: Ft. Benning\nHome Scor
 e: 5\nAway Score: 6
END:VEVENT
BEGIN:VEVENT
UID:11954708@ezleagues.ezfacility.com
DTSTAMP:20260419T121123Z
CREATED:20260419T121123Z
DTSTART:20181218T013000Z
DTEND:20181218T023000Z
LOCATION:Field 7B
CONTACT:
SUMMARY:Supreme Team VS. Febreeze
DESCRIPTION:League Name: 2018 - Fall - Coed Tier 1\nGame Type: Regular\nGam
 e Status: Complete\nHome Team: Supreme Team\nAway Team: Febreeze\nHome Sco
 re: 1\nAway Score: 0
END:VEVENT
END:VCALENDAR
