BEGIN:VCALENDAR
VERSION:2.0
PRODID:-//EZFacility.com, Inc.//EZL 2.5.5.28621
BEGIN:VEVENT
UID:11703294@ezleagues.ezfacility.com
DTSTAMP:20260426T035122Z
CREATED:20260426T035122Z
DTSTART:20181021T224500Z
DTEND:20181021T235000Z
LOCATION:Rink
CONTACT:
SUMMARY:Zambeauties VS. Icecababes
DESCRIPTION:League Name: 2018-19 W League\nGame Type: Regular\nGame Status:
  Pending\nHome Team: Zambeauties\nAway Team: Icecababes\n
END:VEVENT
BEGIN:VEVENT
UID:11703296@ezleagues.ezfacility.com
DTSTAMP:20260426T035122Z
CREATED:20260426T035122Z
DTSTART:20181028T224500Z
DTEND:20181028T235000Z
LOCATION:Rink
CONTACT:
SUMMARY:Icecababes VS. Woodchicks
DESCRIPTION:League Name: 2018-19 W League\nGame Type: Regular\nGame Status:
  Pending\nHome Team: Icecababes\nAway Team: Woodchicks\n
END:VEVENT
BEGIN:VEVENT
UID:11703297@ezleagues.ezfacility.com
DTSTAMP:20260426T035122Z
CREATED:20260426T035122Z
DTSTART:20181104T223000Z
DTEND:20181104T233500Z
LOCATION:Rink
CONTACT:
SUMMARY:Crisis VS. Icecababes
DESCRIPTION:League Name: 2018-19 W League\nGame Type: Regular\nGame Status:
  Pending\nHome Team: Crisis\nAway Team: Icecababes\n
END:VEVENT
BEGIN:VEVENT
UID:11703300@ezleagues.ezfacility.com
DTSTAMP:20260426T035122Z
CREATED:20260426T035122Z
DTSTART:20181111T223000Z
DTEND:20181111T233500Z
LOCATION:Rink
CONTACT:
SUMMARY:Zambeauties VS. Icecababes
DESCRIPTION:League Name: 2018-19 W League\nGame Type: Regular\nGame Status:
  Pending\nHome Team: Zambeauties\nAway Team: Icecababes\n
END:VEVENT
BEGIN:VEVENT
UID:11703302@ezleagues.ezfacility.com
DTSTAMP:20260426T035122Z
CREATED:20260426T035122Z
DTSTART:20181118T223000Z
DTEND:20181118T233500Z
LOCATION:Rink
CONTACT:
SUMMARY:Icecababes VS. Woodchicks
DESCRIPTION:League Name: 2018-19 W League\nGame Type: Regular\nGame Status:
  Pending\nHome Team: Icecababes\nAway Team: Woodchicks\n
END:VEVENT
BEGIN:VEVENT
UID:11703303@ezleagues.ezfacility.com
DTSTAMP:20260426T035122Z
CREATED:20260426T035122Z
DTSTART:20181125T234500Z
DTEND:20181126T005000Z
LOCATION:Rink
CONTACT:
SUMMARY:Crisis VS. Icecababes
DESCRIPTION:League Name: 2018-19 W League\nGame Type: Regular\nGame Status:
  Pending\nHome Team: Crisis\nAway Team: Icecababes\n
END:VEVENT
BEGIN:VEVENT
UID:11703306@ezleagues.ezfacility.com
DTSTAMP:20260426T035122Z
CREATED:20260426T035122Z
DTSTART:20181202T234500Z
DTEND:20181203T005000Z
LOCATION:Rink
CONTACT:
SUMMARY:Zambeauties VS. Icecababes
DESCRIPTION:League Name: 2018-19 W League\nGame Type: Regular\nGame Status:
  Pending\nHome Team: Zambeauties\nAway Team: Icecababes\n
END:VEVENT
BEGIN:VEVENT
UID:11703308@ezleagues.ezfacility.com
DTSTAMP:20260426T035122Z
CREATED:20260426T035122Z
DTSTART:20181209T234500Z
DTEND:20181210T005000Z
LOCATION:Rink
CONTACT:
SUMMARY:Icecababes VS. Woodchicks
DESCRIPTION:League Name: 2018-19 W League\nGame Type: Regular\nGame Status:
  Pending\nHome Team: Icecababes\nAway Team: Woodchicks\n
END:VEVENT
BEGIN:VEVENT
UID:11703309@ezleagues.ezfacility.com
DTSTAMP:20260426T035122Z
CREATED:20260426T035122Z
DTSTART:20181216T223000Z
DTEND:20181216T233500Z
LOCATION:Rink
CONTACT:
SUMMARY:Crisis VS. Icecababes
DESCRIPTION:League Name: 2018-19 W League\nGame Type: Regular\nGame Status:
  Pending\nHome Team: Crisis\nAway Team: Icecababes\n
END:VEVENT
BEGIN:VEVENT
UID:11703314@ezleagues.ezfacility.com
DTSTAMP:20260426T035122Z
CREATED:20260426T035122Z
DTSTART:20181230T223000Z
DTEND:20181230T233500Z
LOCATION:Rink
CONTACT:
SUMMARY:Woodchicks VS. Icecababes
DESCRIPTION:League Name: 2018-19 W League\nGame Type: Regular\nGame Status:
  Pending\nHome Team: Woodchicks\nAway Team: Icecababes\n
END:VEVENT
BEGIN:VEVENT
UID:11703315@ezleagues.ezfacility.com
DTSTAMP:20260426T035122Z
CREATED:20260426T035122Z
DTSTART:20190106T234500Z
DTEND:20190107T005000Z
LOCATION:Rink
CONTACT:
SUMMARY:Icecababes VS. Crisis
DESCRIPTION:League Name: 2018-19 W League\nGame Type: Regular\nGame Status:
  Pending\nHome Team: Icecababes\nAway Team: Crisis\n
END:VEVENT
BEGIN:VEVENT
UID:11703318@ezleagues.ezfacility.com
DTSTAMP:20260426T035122Z
CREATED:20260426T035122Z
DTSTART:20190113T234500Z
DTEND:20190114T005000Z
LOCATION:Rink
CONTACT:
SUMMARY:Icecababes VS. Zambeauties
DESCRIPTION:League Name: 2018-19 W League\nGame Type: Regular\nGame Status:
  Pending\nHome Team: Icecababes\nAway Team: Zambeauties\n
END:VEVENT
BEGIN:VEVENT
UID:11703320@ezleagues.ezfacility.com
DTSTAMP:20260426T035122Z
CREATED:20260426T035122Z
DTSTART:20190120T234500Z
DTEND:20190121T005000Z
LOCATION:Rink
CONTACT:
SUMMARY:Woodchicks VS. Icecababes
DESCRIPTION:League Name: 2018-19 W League\nGame Type: Regular\nGame Status:
  Pending\nHome Team: Woodchicks\nAway Team: Icecababes\n
END:VEVENT
BEGIN:VEVENT
UID:11703321@ezleagues.ezfacility.com
DTSTAMP:20260426T035122Z
CREATED:20260426T035122Z
DTSTART:20190127T223000Z
DTEND:20190127T233500Z
LOCATION:Rink
CONTACT:
SUMMARY:Icecababes VS. Crisis
DESCRIPTION:League Name: 2018-19 W League\nGame Type: Regular\nGame Status:
  Pending\nHome Team: Icecababes\nAway Team: Crisis\n
END:VEVENT
BEGIN:VEVENT
UID:11703324@ezleagues.ezfacility.com
DTSTAMP:20260426T035122Z
CREATED:20260426T035122Z
DTSTART:20190203T223000Z
DTEND:20190203T233500Z
LOCATION:Rink
CONTACT:
SUMMARY:Icecababes VS. Zambeauties
DESCRIPTION:League Name: 2018-19 W League\nGame Type: Regular\nGame Status:
  Pending\nHome Team: Icecababes\nAway Team: Zambeauties\n
END:VEVENT
BEGIN:VEVENT
UID:11703326@ezleagues.ezfacility.com
DTSTAMP:20260426T035122Z
CREATED:20260426T035122Z
DTSTART:20190210T223000Z
DTEND:20190210T233500Z
LOCATION:Rink
CONTACT:
SUMMARY:Woodchicks VS. Icecababes
DESCRIPTION:League Name: 2018-19 W League\nGame Type: Regular\nGame Status:
  Pending\nHome Team: Woodchicks\nAway Team: Icecababes\n
END:VEVENT
BEGIN:VEVENT
UID:11703327@ezleagues.ezfacility.com
DTSTAMP:20260426T035122Z
CREATED:20260426T035122Z
DTSTART:20190217T234500Z
DTEND:20190218T005000Z
LOCATION:Rink
CONTACT:
SUMMARY:Icecababes VS. Crisis
DESCRIPTION:League Name: 2018-19 W League\nGame Type: Regular\nGame Status:
  Pending\nHome Team: Icecababes\nAway Team: Crisis\n
END:VEVENT
BEGIN:VEVENT
UID:11703330@ezleagues.ezfacility.com
DTSTAMP:20260426T035122Z
CREATED:20260426T035122Z
DTSTART:20190224T234500Z
DTEND:20190225T005000Z
LOCATION:Rink
CONTACT:
SUMMARY:Icecababes VS. Zambeauties
DESCRIPTION:League Name: 2018-19 W League\nGame Type: Regular\nGame Status:
  Pending\nHome Team: Icecababes\nAway Team: Zambeauties\n
END:VEVENT
BEGIN:VEVENT
UID:11703332@ezleagues.ezfacility.com
DTSTAMP:20260426T035122Z
CREATED:20260426T035122Z
DTSTART:20190303T234500Z
DTEND:20190304T005000Z
LOCATION:Rink
CONTACT:
SUMMARY:Woodchicks VS. Icecababes
DESCRIPTION:League Name: 2018-19 W League\nGame Type: Regular\nGame Status:
  Pending\nHome Team: Woodchicks\nAway Team: Icecababes\n
END:VEVENT
BEGIN:VEVENT
UID:11703312@ezleagues.ezfacility.com
DTSTAMP:20260426T035122Z
CREATED:20260426T035122Z
DTSTART:20190310T213000Z
DTEND:20190310T223500Z
LOCATION:Rink
CONTACT:
SUMMARY:Icecababes VS. Zambeauties
DESCRIPTION:League Name: 2018-19 W League\nGame Type: Regular\nGame Status:
  Pending\nHome Team: Icecababes\nAway Team: Zambeauties\n
END:VEVENT
END:VCALENDAR
