BEGIN:VCALENDAR
VERSION:2.0
PRODID:-//EZFacility.com, Inc.//EZL 2.5.5.28621
BEGIN:VEVENT
UID:11723368@ezleagues.ezfacility.com
DTSTAMP:20260424T133609Z
CREATED:20260424T133609Z
DTSTART:20180926T103000Z
DTEND:20180926T111000Z
LOCATION:004 La Bombonera
CONTACT:
SUMMARY:Legally Bronze VS. Sky Strikers
DESCRIPTION:League Name: Power League Wed Womens 5s\nGame Type: Regular\nGa
 me Status: Complete\nHome Team: Legally Bronze\nAway Team: Sky Strikers\nH
 ome Score: 3\nAway Score: 2
END:VEVENT
BEGIN:VEVENT
UID:11723369@ezleagues.ezfacility.com
DTSTAMP:20260424T133609Z
CREATED:20260424T133609Z
DTSTART:20181003T090000Z
DTEND:20181003T094000Z
LOCATION:009 Anfield
CONTACT:
SUMMARY:Legally Bronze VS. Stacey's Doing It For Dean
DESCRIPTION:League Name: Power League Wed Womens 5s\nGame Type: Regular\nGa
 me Status: Complete\nHome Team: Legally Bronze\nAway Team: Stacey's Doing 
 It For Dean\nHome Score: 2\nAway Score: 7
END:VEVENT
BEGIN:VEVENT
UID:11723371@ezleagues.ezfacility.com
DTSTAMP:20260424T133609Z
CREATED:20260424T133609Z
DTSTART:20181010T071500Z
DTEND:20181010T075500Z
LOCATION:009 Anfield
CONTACT:
SUMMARY:Team Orange VS. Legally Bronze
DESCRIPTION:League Name: Power League Wed Womens 5s\nGame Type: Regular\nGa
 me Status: Complete\nHome Team: Team Orange\nAway Team: Legally Bronze\nHo
 me Score: 25\nAway Score: 3
END:VEVENT
BEGIN:VEVENT
UID:11723373@ezleagues.ezfacility.com
DTSTAMP:20260424T133609Z
CREATED:20260424T133609Z
DTSTART:20181017T084500Z
DTEND:20181017T092500Z
LOCATION:009 Anfield
CONTACT:
SUMMARY:Legally Bronze VS. YTGORLS
DESCRIPTION:League Name: Power League Wed Womens 5s\nGame Type: Regular\nGa
 me Status: Complete\nHome Team: Legally Bronze\nAway Team: YTGORLS\nHome S
 core: 10\nAway Score: 10
END:VEVENT
END:VCALENDAR
