BEGIN:VCALENDAR
VERSION:2.0
PRODID:-//EZFacility.com, Inc.//EZL 2.5.5.28621
BEGIN:VEVENT
UID:11801411@ezleagues.ezfacility.com
DTSTAMP:20260421T142818Z
CREATED:20260421T142818Z
DTSTART:20181028T172500Z
DTEND:20181028T182000Z
LOCATION:PFFC Field House Half Field CD
CONTACT:
SUMMARY:FC Milton United 04 VS. Mississauga Croatia
DESCRIPTION:League Name: GU12 - Development\nGame Type: Regular\nGame Statu
 s: Pending\nHome Team: FC Milton United 04\nAway Team: Mississauga Croatia
 \n
END:VEVENT
BEGIN:VEVENT
UID:11801416@ezleagues.ezfacility.com
DTSTAMP:20260421T142818Z
CREATED:20260421T142818Z
DTSTART:20181104T125500Z
DTEND:20181104T135000Z
LOCATION:PFFC Dome - Half Field #1
CONTACT:
SUMMARY:FC Milton United 04 VS. Oakville White
DESCRIPTION:League Name: GU12 - Development\nGame Type: Regular\nGame Statu
 s: Pending\nHome Team: FC Milton United 04\nAway Team: Oakville White\n
END:VEVENT
BEGIN:VEVENT
UID:11801423@ezleagues.ezfacility.com
DTSTAMP:20260421T142818Z
CREATED:20260421T142818Z
DTSTART:20181118T144500Z
DTEND:20181118T154000Z
LOCATION:PFFC Dome - Half Field #2
CONTACT:
SUMMARY:Georgetown Black VS. FC Milton United 04
DESCRIPTION:League Name: GU12 - Development\nGame Type: Regular\nGame Statu
 s: Pending\nHome Team: Georgetown Black\nAway Team: FC Milton United 04\n
END:VEVENT
BEGIN:VEVENT
UID:11894339@ezleagues.ezfacility.com
DTSTAMP:20260421T142818Z
CREATED:20260421T142818Z
DTSTART:20181125T181500Z
DTEND:20181125T191000Z
LOCATION:Milton Dome - Half Field
CONTACT:
SUMMARY:Milton Black VS. FC Milton United 04
DESCRIPTION:League Name: GU12 - Development\nGame Type: Regular\nGame Statu
 s: Rescheduled\nHome Team: Milton Black\nAway Team: FC Milton United 04\n
END:VEVENT
BEGIN:VEVENT
UID:11903048@ezleagues.ezfacility.com
DTSTAMP:20260421T142818Z
CREATED:20260421T142818Z
DTSTART:20181202T125500Z
DTEND:20181202T135000Z
LOCATION:PFFC Field House Half Field CD
CONTACT:
SUMMARY:FC Milton United 04 VS. Erin Mills White
DESCRIPTION:League Name: GU12 - Development\nGame Type: Regular\nGame Statu
 s: Pending\nHome Team: FC Milton United 04\nAway Team: Erin Mills White\n
END:VEVENT
BEGIN:VEVENT
UID:11903061@ezleagues.ezfacility.com
DTSTAMP:20260421T142818Z
CREATED:20260421T142818Z
DTSTART:20181209T181500Z
DTEND:20181209T191000Z
LOCATION:Milton Dome - Half Field
CONTACT:
SUMMARY:Mississauga Croatia VS. FC Milton United 04
DESCRIPTION:League Name: GU12 - Development\nGame Type: Regular\nGame Statu
 s: Rescheduled\nHome Team: Mississauga Croatia\nAway Team: FC Milton Unite
 d 04\n
END:VEVENT
BEGIN:VEVENT
UID:11903056@ezleagues.ezfacility.com
DTSTAMP:20260421T142818Z
CREATED:20260421T142818Z
DTSTART:20181216T181500Z
DTEND:20181216T191000Z
LOCATION:Milton Dome - Half Field
CONTACT:
SUMMARY:Burlington Bayhawks White VS. FC Milton United 04
DESCRIPTION:League Name: GU12 - Development\nGame Type: Regular\nGame Statu
 s: Pending\nHome Team: Burlington Bayhawks White\nAway Team: FC Milton Uni
 ted 04\n
END:VEVENT
BEGIN:VEVENT
UID:11987363@ezleagues.ezfacility.com
DTSTAMP:20260421T142818Z
CREATED:20260421T142818Z
DTSTART:20181223T181000Z
DTEND:20181223T190500Z
LOCATION:Milton Dome - Half Field
CONTACT:
SUMMARY:Mississauga Croatia VS. FC Milton United 04
DESCRIPTION:League Name: GU12 - Development\nGame Type: Regular\nGame Statu
 s: Pending\nHome Team: Mississauga Croatia\nAway Team: FC Milton United 04
 \n
END:VEVENT
BEGIN:VEVENT
UID:11903070@ezleagues.ezfacility.com
DTSTAMP:20260421T142818Z
CREATED:20260421T142818Z
DTSTART:20190106T120000Z
DTEND:20190106T125500Z
LOCATION:PFFC Field House Half Field CD
CONTACT:
SUMMARY:FC Milton United 04 VS. Milton Black
DESCRIPTION:League Name: GU12 - Development\nGame Type: Regular\nGame Statu
 s: Pending\nHome Team: FC Milton United 04\nAway Team: Milton Black\n
END:VEVENT
BEGIN:VEVENT
UID:11903076@ezleagues.ezfacility.com
DTSTAMP:20260421T142818Z
CREATED:20260421T142818Z
DTSTART:20190113T210000Z
DTEND:20190113T215500Z
LOCATION:Milton Dome - Half Field
CONTACT:
SUMMARY:Erin Mills White VS. FC Milton United 04
DESCRIPTION:League Name: GU12 - Development\nGame Type: Regular\nGame Statu
 s: Pending\nHome Team: Erin Mills White\nAway Team: FC Milton United 04\n
END:VEVENT
BEGIN:VEVENT
UID:11975696@ezleagues.ezfacility.com
DTSTAMP:20260421T142818Z
CREATED:20260421T142818Z
DTSTART:20190120T181000Z
DTEND:20190120T190500Z
LOCATION:Milton Dome - Half Field
CONTACT:
SUMMARY:Milton Black VS. FC Milton United 04
DESCRIPTION:League Name: GU12 - Development\nGame Type: Regular\nGame Statu
 s: Pending\nHome Team: Milton Black\nAway Team: FC Milton United 04\n
END:VEVENT
BEGIN:VEVENT
UID:11903079@ezleagues.ezfacility.com
DTSTAMP:20260421T142818Z
CREATED:20260421T142818Z
DTSTART:20190127T202500Z
DTEND:20190127T212000Z
LOCATION:PFFC Field House Half Field CD
CONTACT:
SUMMARY:FC Milton United 04 VS. Brams United Bandits 
DESCRIPTION:League Name: GU12 - Development\nGame Type: Regular\nGame Statu
 s: Pending\nHome Team: FC Milton United 04\nAway Team: Brams United Bandit
 s \n
END:VEVENT
BEGIN:VEVENT
UID:11903084@ezleagues.ezfacility.com
DTSTAMP:20260421T142818Z
CREATED:20260421T142818Z
DTSTART:20190203T200500Z
DTEND:20190203T210000Z
LOCATION:Milton Dome - Half Field
CONTACT:
SUMMARY:FC Milton United 04 VS. Burlington Bayhawks White
DESCRIPTION:League Name: GU12 - Development\nGame Type: Regular\nGame Statu
 s: Pending\nHome Team: FC Milton United 04\nAway Team: Burlington Bayhawks
  White\n
END:VEVENT
BEGIN:VEVENT
UID:11903094@ezleagues.ezfacility.com
DTSTAMP:20260421T142818Z
CREATED:20260421T142818Z
DTSTART:20190217T190500Z
DTEND:20190217T200000Z
LOCATION:Milton Dome - Half Field
CONTACT:
SUMMARY:FC Milton United 04 VS. Oakville White
DESCRIPTION:League Name: GU12 - Development\nGame Type: Regular\nGame Statu
 s: Pending\nHome Team: FC Milton United 04\nAway Team: Oakville White\n
END:VEVENT
BEGIN:VEVENT
UID:11903098@ezleagues.ezfacility.com
DTSTAMP:20260421T142818Z
CREATED:20260421T142818Z
DTSTART:20190224T210000Z
DTEND:20190224T215500Z
LOCATION:Milton Dome - Half Field
CONTACT:
SUMMARY:Milton Black VS. FC Milton United 04
DESCRIPTION:League Name: GU12 - Development\nGame Type: Regular\nGame Statu
 s: Rescheduled\nHome Team: Milton Black\nAway Team: FC Milton United 04\n
END:VEVENT
BEGIN:VEVENT
UID:11903101@ezleagues.ezfacility.com
DTSTAMP:20260421T142818Z
CREATED:20260421T142818Z
DTSTART:20190303T193000Z
DTEND:20190303T202500Z
LOCATION:PFFC Field House Half Field CD
CONTACT:
SUMMARY:Georgetown Black VS. FC Milton United 04
DESCRIPTION:League Name: GU12 - Development\nGame Type: Regular\nGame Statu
 s: Pending\nHome Team: Georgetown Black\nAway Team: FC Milton United 04\n
END:VEVENT
BEGIN:VEVENT
UID:11903051@ezleagues.ezfacility.com
DTSTAMP:20260421T142818Z
CREATED:20260421T142818Z
DTSTART:20190317T125000Z
DTEND:20190317T134500Z
LOCATION:PFFC Dome - Half Field #1
CONTACT:
SUMMARY:Brams United Bandits  VS. FC Milton United 04
DESCRIPTION:League Name: GU12 - Development\nGame Type: Regular\nGame Statu
 s: Pending\nHome Team: Brams United Bandits \nAway Team: FC Milton United 
 04\n
END:VEVENT
BEGIN:VEVENT
UID:11903066@ezleagues.ezfacility.com
DTSTAMP:20260421T142818Z
CREATED:20260421T142818Z
DTSTART:20190324T190500Z
DTEND:20190324T200000Z
LOCATION:Milton Dome - Half Field
CONTACT:
SUMMARY:Oakville White VS. FC Milton United 04
DESCRIPTION:League Name: GU12 - Development\nGame Type: Regular\nGame Statu
 s: Pending\nHome Team: Oakville White\nAway Team: FC Milton United 04\n
END:VEVENT
BEGIN:VEVENT
UID:11903073@ezleagues.ezfacility.com
DTSTAMP:20260421T142818Z
CREATED:20260421T142818Z
DTSTART:20190331T181000Z
DTEND:20190331T190500Z
LOCATION:Milton Dome - Half Field
CONTACT:
SUMMARY:FC Milton United 04 VS. Georgetown Black
DESCRIPTION:League Name: GU12 - Development\nGame Type: Regular\nGame Statu
 s: Pending\nHome Team: FC Milton United 04\nAway Team: Georgetown Black\n
END:VEVENT
BEGIN:VEVENT
UID:11903089@ezleagues.ezfacility.com
DTSTAMP:20260421T142818Z
CREATED:20260421T142818Z
DTSTART:20190407T200000Z
DTEND:20190407T205500Z
LOCATION:Milton Dome - Half Field
CONTACT:
SUMMARY:FC Milton United 04 VS. Mississauga Croatia
DESCRIPTION:League Name: GU12 - Development\nGame Type: Regular\nGame Statu
 s: Pending\nHome Team: FC Milton United 04\nAway Team: Mississauga Croatia
 \n
END:VEVENT
BEGIN:VEVENT
UID:12231473@ezleagues.ezfacility.com
DTSTAMP:20260421T142818Z
CREATED:20260421T142818Z
DTSTART:20190428T110000Z
DTEND:20190428T115500Z
LOCATION:PFFC Dome - Half Field #2
CONTACT:
SUMMARY:Milton Black VS. FC Milton United 04
DESCRIPTION:League Name: GU12 - Development\nGame Type: Regular\nGame Statu
 s: Pending\nHome Team: Milton Black\nAway Team: FC Milton United 04\n
END:VEVENT
END:VCALENDAR
