BEGIN:VCALENDAR
VERSION:2.0
PRODID:-//EZFacility.com, Inc.//EZL 2.5.5.28621
BEGIN:VEVENT
UID:11942318@ezleagues.ezfacility.com
DTSTAMP:20260420T002430Z
CREATED:20260420T002430Z
DTSTART:20181201T182500Z
DTEND:20181201T192000Z
LOCATION:Jessup Premier Field #2
CONTACT:
SUMMARY: ASA Shock VS. LFYAA Aviators
DESCRIPTION:League Name: Youth (WINTER 1) SD1 SAT/SUN 2008 Boys SILVER\nGam
 e Type: Regular\nGame Status: Complete\nHome Team:  ASA Shock\nAway Team: 
 LFYAA Aviators\nHome Score: 3\nAway Score: 6
END:VEVENT
BEGIN:VEVENT
UID:11942349@ezleagues.ezfacility.com
DTSTAMP:20260420T002430Z
CREATED:20260420T002430Z
DTSTART:20181208T182500Z
DTEND:20181208T192000Z
LOCATION:Jessup Premier Field #2
CONTACT:
SUMMARY: Capelli Blues  VS. LFYAA Aviators
DESCRIPTION:League Name: Youth (WINTER 1) SD1 SAT/SUN 2008 Boys SILVER\nGam
 e Type: Regular\nGame Status: Complete\nHome Team:  Capelli Blues \nAway T
 eam: LFYAA Aviators\nHome Score: 4\nAway Score: 6
END:VEVENT
BEGIN:VEVENT
UID:11942379@ezleagues.ezfacility.com
DTSTAMP:20260420T002430Z
CREATED:20260420T002430Z
DTSTART:20181215T120000Z
DTEND:20181215T125500Z
LOCATION:Jessup Premier Field #1
CONTACT:
SUMMARY:LFYAA Aviators VS. PSC-Chaos
DESCRIPTION:League Name: Youth (WINTER 1) SD1 SAT/SUN 2008 Boys SILVER\nGam
 e Type: Regular\nGame Status: Complete\nHome Team: LFYAA Aviators\nAway Te
 am: PSC-Chaos\nHome Score: 9\nAway Score: 1
END:VEVENT
BEGIN:VEVENT
UID:11942408@ezleagues.ezfacility.com
DTSTAMP:20260420T002430Z
CREATED:20260420T002430Z
DTSTART:20181222T125500Z
DTEND:20181222T135000Z
LOCATION:Jessup Premier Field #2
CONTACT:
SUMMARY:HES Vipers VS. LFYAA Aviators
DESCRIPTION:League Name: Youth (WINTER 1) SD1 SAT/SUN 2008 Boys SILVER\nGam
 e Type: Regular\nGame Status: Complete\nHome Team: HES Vipers\nAway Team: 
 LFYAA Aviators\nHome Score: 4\nAway Score: 0
END:VEVENT
BEGIN:VEVENT
UID:11942468@ezleagues.ezfacility.com
DTSTAMP:20260420T002430Z
CREATED:20260420T002430Z
DTSTART:20190105T201500Z
DTEND:20190105T211000Z
LOCATION:Jessup Premier Field #2
CONTACT:
SUMMARY:LFYAA Aviators VS.  ASA Shock
DESCRIPTION:League Name: Youth (WINTER 1) SD1 SAT/SUN 2008 Boys SILVER\nGam
 e Type: Regular\nGame Status: Complete\nHome Team: LFYAA Aviators\nAway Te
 am:  ASA Shock\nHome Score: 5\nAway Score: 0
END:VEVENT
BEGIN:VEVENT
UID:11942499@ezleagues.ezfacility.com
DTSTAMP:20260420T002430Z
CREATED:20260420T002430Z
DTSTART:20190112T135000Z
DTEND:20190112T144500Z
LOCATION:Jessup Premier Field #1
CONTACT:
SUMMARY:LFYAA Aviators VS.  Capelli Blues 
DESCRIPTION:League Name: Youth (WINTER 1) SD1 SAT/SUN 2008 Boys SILVER\nGam
 e Type: Regular\nGame Status: Complete\nHome Team: LFYAA Aviators\nAway Te
 am:  Capelli Blues \nHome Score: 1\nAway Score: 4
END:VEVENT
BEGIN:VEVENT
UID:11942529@ezleagues.ezfacility.com
DTSTAMP:20260420T002430Z
CREATED:20260420T002430Z
DTSTART:20190119T125500Z
DTEND:20190119T135000Z
LOCATION:Jessup Premier Field #1
CONTACT:
SUMMARY:PSC-Chaos VS. LFYAA Aviators
DESCRIPTION:League Name: Youth (WINTER 1) SD1 SAT/SUN 2008 Boys SILVER\nGam
 e Type: Regular\nGame Status: Complete\nHome Team: PSC-Chaos\nAway Team: L
 FYAA Aviators\nHome Score: 2\nAway Score: 5
END:VEVENT
BEGIN:VEVENT
UID:11942437@ezleagues.ezfacility.com
DTSTAMP:20260420T002430Z
CREATED:20260420T002430Z
DTSTART:20190126T201500Z
DTEND:20190126T211000Z
LOCATION:Jessup Premier Field #1
CONTACT:
SUMMARY:LFYAA Aviators VS. A3 Leicester City White
DESCRIPTION:League Name: Youth (WINTER 1) SD1 SAT/SUN 2008 Boys SILVER\nGam
 e Type: Regular\nGame Status: Complete\nHome Team: LFYAA Aviators\nAway Te
 am: A3 Leicester City White\nHome Score: 2\nAway Score: 4
END:VEVENT
END:VCALENDAR
