BEGIN:VCALENDAR
VERSION:2.0
PRODID:-//EZFacility.com, Inc.//EZL 2.5.5.28621
BEGIN:VEVENT
UID:12151673@ezleagues.ezfacility.com
DTSTAMP:20260426T033801Z
CREATED:20260426T033801Z
DTSTART:20190204T230000Z
DTEND:20190205T000000Z
LOCATION:Jessup Premier Field #2
CONTACT:
SUMMARY:Boca Jrs VS. SAC Select Zhang
DESCRIPTION:League Name: Youth (WINTER 2) (SD1) 05/04 U14/15 Boys SILVER\nG
 ame Type: Regular\nGame Status: Complete\nHome Team: Boca Jrs\nAway Team: 
 SAC Select Zhang\nHome Score: 8\nAway Score: 4
END:VEVENT
BEGIN:VEVENT
UID:12151688@ezleagues.ezfacility.com
DTSTAMP:20260426T033801Z
CREATED:20260426T033801Z
DTSTART:20190215T220000Z
DTEND:20190215T230000Z
LOCATION:Jessup Premier Field #1
CONTACT:
SUMMARY:Boca Jrs VS. Severn Red Bulls
DESCRIPTION:League Name: Youth (WINTER 2) (SD1) 05/04 U14/15 Boys SILVER\nG
 ame Type: Regular\nGame Status: Complete\nHome Team: Boca Jrs\nAway Team: 
 Severn Red Bulls\nHome Score: 2\nAway Score: 1
END:VEVENT
BEGIN:VEVENT
UID:12151718@ezleagues.ezfacility.com
DTSTAMP:20260426T033801Z
CREATED:20260426T033801Z
DTSTART:20190227T220000Z
DTEND:20190227T230000Z
LOCATION:Jessup Premier Field #2
CONTACT:
SUMMARY:Boca Jrs VS. ASA Rampage 
DESCRIPTION:League Name: Youth (WINTER 2) (SD1) 05/04 U14/15 Boys SILVER\nG
 ame Type: Regular\nGame Status: Complete\nHome Team: Boca Jrs\nAway Team: 
 ASA Rampage \nHome Score: 1\nAway Score: 3
END:VEVENT
BEGIN:VEVENT
UID:12151732@ezleagues.ezfacility.com
DTSTAMP:20260426T033801Z
CREATED:20260426T033801Z
DTSTART:20190304T230000Z
DTEND:20190305T000000Z
LOCATION:Jessup Premier Field #1
CONTACT:
SUMMARY:ASA Alliance White VS. Boca Jrs
DESCRIPTION:League Name: Youth (WINTER 2) (SD1) 05/04 U14/15 Boys SILVER\nG
 ame Type: Regular\nGame Status: Complete\nHome Team: ASA Alliance White\nA
 way Team: Boca Jrs\nHome Score: 8\nAway Score: 1
END:VEVENT
BEGIN:VEVENT
UID:12151745@ezleagues.ezfacility.com
DTSTAMP:20260426T033801Z
CREATED:20260426T033801Z
DTSTART:20190312T210000Z
DTEND:20190312T220000Z
LOCATION:Jessup Premier Field #1
CONTACT:
SUMMARY:Siempre United VS. Boca Jrs
DESCRIPTION:League Name: Youth (WINTER 2) (SD1) 05/04 U14/15 Boys SILVER\nG
 ame Type: Regular\nGame Status: Complete\nHome Team: Siempre United\nAway 
 Team: Boca Jrs\nHome Score: 2\nAway Score: 5
END:VEVENT
BEGIN:VEVENT
UID:12151758@ezleagues.ezfacility.com
DTSTAMP:20260426T033801Z
CREATED:20260426T033801Z
DTSTART:20190322T220000Z
DTEND:20190322T230000Z
LOCATION:Jessup Premier Field #1
CONTACT:
SUMMARY:SAC Charger VS. Boca Jrs
DESCRIPTION:League Name: Youth (WINTER 2) (SD1) 05/04 U14/15 Boys SILVER\nG
 ame Type: Regular\nGame Status: Complete\nHome Team: SAC Charger\nAway Tea
 m: Boca Jrs\nHome Score: 1\nAway Score: 4
END:VEVENT
BEGIN:VEVENT
UID:12151771@ezleagues.ezfacility.com
DTSTAMP:20260426T033801Z
CREATED:20260426T033801Z
DTSTART:20190325T210000Z
DTEND:20190325T220000Z
LOCATION:Jessup Premier Field #2
CONTACT:
SUMMARY:SAC Select Akinlolu VS. Boca Jrs
DESCRIPTION:League Name: Youth (WINTER 2) (SD1) 05/04 U14/15 Boys SILVER\nG
 ame Type: Regular\nGame Status: Complete\nHome Team: SAC Select Akinlolu\n
 Away Team: Boca Jrs\nHome Score: 5\nAway Score: 4
END:VEVENT
BEGIN:VEVENT
UID:12151703@ezleagues.ezfacility.com
DTSTAMP:20260426T033801Z
CREATED:20260426T033801Z
DTSTART:20190401T210000Z
DTEND:20190401T220000Z
LOCATION:Jessup Premier Field #1
CONTACT:
SUMMARY:Boca Jrs VS. ECSC 04 Boys Yellow
DESCRIPTION:League Name: Youth (WINTER 2) (SD1) 05/04 U14/15 Boys SILVER\nG
 ame Type: Regular\nGame Status: Complete\nHome Team: Boca Jrs\nAway Team: 
 ECSC 04 Boys Yellow\nHome Score: 7\nAway Score: 2
END:VEVENT
END:VCALENDAR
