BEGIN:VCALENDAR
VERSION:2.0
PRODID:-//EZFacility.com, Inc.//EZL 2.5.5.28621
BEGIN:VEVENT
UID:11731736@ezleagues.ezfacility.com
DTSTAMP:20260426T035039Z
CREATED:20260426T035039Z
DTSTART:20181004T013000Z
DTEND:20181004T022000Z
LOCATION:zIceland Rink 2
CONTACT:
SUMMARY:YYZ Hogs VS. Buds
DESCRIPTION:League Name: MSL Hockey League - Wednesday - Holtby\nGame Type:
  Regular\nGame Status: Complete\nHome Team: YYZ Hogs\nAway Team: Buds\nHom
 e Score: 1\nAway Score: 0
END:VEVENT
BEGIN:VEVENT
UID:11731748@ezleagues.ezfacility.com
DTSTAMP:20260426T035039Z
CREATED:20260426T035039Z
DTSTART:20181011T013000Z
DTEND:20181011T022000Z
LOCATION:zMeadowvale 4 Rinks #2
CONTACT:
SUMMARY:Buds VS. Quack Heads
DESCRIPTION:League Name: MSL Hockey League - Wednesday - Holtby\nGame Type:
  Regular\nGame Status: Complete\nHome Team: Buds\nAway Team: Quack Heads\n
 Home Score: 6\nAway Score: 3
END:VEVENT
BEGIN:VEVENT
UID:11731756@ezleagues.ezfacility.com
DTSTAMP:20260426T035039Z
CREATED:20260426T035039Z
DTSTART:20181018T003000Z
DTEND:20181018T012000Z
LOCATION:zIceland Rink 4
CONTACT:
SUMMARY:Buds VS. Garbage Goals
DESCRIPTION:League Name: MSL Hockey League - Wednesday - Holtby\nGame Type:
  Regular\nGame Status: Complete\nHome Team: Buds\nAway Team: Garbage Goals
 \nHome Score: 6\nAway Score: 0
END:VEVENT
BEGIN:VEVENT
UID:11731764@ezleagues.ezfacility.com
DTSTAMP:20260426T035039Z
CREATED:20260426T035039Z
DTSTART:20181024T233000Z
DTEND:20181025T002000Z
LOCATION:zIceland Rink 2
CONTACT:
SUMMARY:Buds VS. The Drifters
DESCRIPTION:League Name: MSL Hockey League - Wednesday - Holtby\nGame Type:
  Regular\nGame Status: Complete\nHome Team: Buds\nAway Team: The Drifters\
 nHome Score: 5\nAway Score: 4
END:VEVENT
BEGIN:VEVENT
UID:11731783@ezleagues.ezfacility.com
DTSTAMP:20260426T035039Z
CREATED:20260426T035039Z
DTSTART:20181108T013000Z
DTEND:20181108T022000Z
LOCATION:zIceland Rink 4
CONTACT:
SUMMARY:Mighty Drunks VS. Buds
DESCRIPTION:League Name: MSL Hockey League - Wednesday - Holtby\nGame Type:
  Regular\nGame Status: Complete\nHome Team: Mighty Drunks\nAway Team: Buds
 \nHome Score: 0\nAway Score: 3
END:VEVENT
BEGIN:VEVENT
UID:11731793@ezleagues.ezfacility.com
DTSTAMP:20260426T035039Z
CREATED:20260426T035039Z
DTSTART:20181115T013000Z
DTEND:20181115T022000Z
LOCATION:zIceland Rink 2
CONTACT:
SUMMARY:Muffin Men VS. Buds
DESCRIPTION:League Name: MSL Hockey League - Wednesday - Holtby\nGame Type:
  Regular\nGame Status: Complete\nHome Team: Muffin Men\nAway Team: Buds\nH
 ome Score: 2\nAway Score: 0
END:VEVENT
BEGIN:VEVENT
UID:11731799@ezleagues.ezfacility.com
DTSTAMP:20260426T035039Z
CREATED:20260426T035039Z
DTSTART:20181122T033000Z
DTEND:20181122T042000Z
LOCATION:zMeadowvale 4 Rinks #2
CONTACT:
SUMMARY:Buds VS. YYZ Hogs
DESCRIPTION:League Name: MSL Hockey League - Wednesday - Holtby\nGame Type:
  Regular\nGame Status: Complete\nHome Team: Buds\nAway Team: YYZ Hogs\nHom
 e Score: 5\nAway Score: 0
END:VEVENT
BEGIN:VEVENT
UID:11731811@ezleagues.ezfacility.com
DTSTAMP:20260426T035039Z
CREATED:20260426T035039Z
DTSTART:20181129T033000Z
DTEND:20181129T042000Z
LOCATION:zIceland Rink 4
CONTACT:
SUMMARY:Quack Heads VS. Buds
DESCRIPTION:League Name: MSL Hockey League - Wednesday - Holtby\nGame Type:
  Regular\nGame Status: Complete\nHome Team: Quack Heads\nAway Team: Buds\n
 Home Score: 1\nAway Score: 4
END:VEVENT
BEGIN:VEVENT
UID:11731819@ezleagues.ezfacility.com
DTSTAMP:20260426T035039Z
CREATED:20260426T035039Z
DTSTART:20181206T033000Z
DTEND:20181206T042000Z
LOCATION:zIceland Rink 2
CONTACT:
SUMMARY:Northstars VS. Buds
DESCRIPTION:League Name: MSL Hockey League - Wednesday - Holtby\nGame Type:
  Regular\nGame Status: Complete\nHome Team: Northstars\nAway Team: Buds\nH
 ome Score: 3\nAway Score: 4
END:VEVENT
BEGIN:VEVENT
UID:11731827@ezleagues.ezfacility.com
DTSTAMP:20260426T035039Z
CREATED:20260426T035039Z
DTSTART:20181213T023000Z
DTEND:20181213T032000Z
LOCATION:zIceland Rink 4
CONTACT:
SUMMARY:The Drifters VS. Buds
DESCRIPTION:League Name: MSL Hockey League - Wednesday - Holtby\nGame Type:
  Regular\nGame Status: Complete\nHome Team: The Drifters\nAway Team: Buds\
 nHome Score: 4\nAway Score: 7
END:VEVENT
BEGIN:VEVENT
UID:11731836@ezleagues.ezfacility.com
DTSTAMP:20260426T035039Z
CREATED:20260426T035039Z
DTSTART:20181220T033000Z
DTEND:20181220T042000Z
LOCATION:zIceland Rink 4
CONTACT:
SUMMARY:Buds VS. Reality Kings
DESCRIPTION:League Name: MSL Hockey League - Wednesday - Holtby\nGame Type:
  Regular\nGame Status: Complete\nHome Team: Buds\nAway Team: Reality Kings
 \nHome Score: 7\nAway Score: 0
END:VEVENT
BEGIN:VEVENT
UID:11731856@ezleagues.ezfacility.com
DTSTAMP:20260426T035039Z
CREATED:20260426T035039Z
DTSTART:20190103T023000Z
DTEND:20190103T032000Z
LOCATION:zMeadowvale 4 Rinks #2
CONTACT:
SUMMARY:Buds VS. Muffin Men
DESCRIPTION:League Name: MSL Hockey League - Wednesday - Holtby\nGame Type:
  Regular\nGame Status: Complete\nHome Team: Buds\nAway Team: Muffin Men\nH
 ome Score: 1\nAway Score: 2
END:VEVENT
BEGIN:VEVENT
UID:11731862@ezleagues.ezfacility.com
DTSTAMP:20260426T035039Z
CREATED:20260426T035039Z
DTSTART:20190110T023000Z
DTEND:20190110T032000Z
LOCATION:zMeadowvale 4 Rinks #2
CONTACT:
SUMMARY:Buds VS. YYZ Hogs
DESCRIPTION:League Name: MSL Hockey League - Wednesday - Holtby\nGame Type:
  Regular\nGame Status: Complete\nHome Team: Buds\nAway Team: YYZ Hogs\nHom
 e Score: 4\nAway Score: 1
END:VEVENT
BEGIN:VEVENT
UID:11731874@ezleagues.ezfacility.com
DTSTAMP:20260426T035039Z
CREATED:20260426T035039Z
DTSTART:20190117T033000Z
DTEND:20190117T042000Z
LOCATION:zIceland Rink 2
CONTACT:
SUMMARY:Quack Heads VS. Buds
DESCRIPTION:League Name: MSL Hockey League - Wednesday - Holtby\nGame Type:
  Regular\nGame Status: Complete\nHome Team: Quack Heads\nAway Team: Buds\n
 Home Score: 0\nAway Score: 4
END:VEVENT
BEGIN:VEVENT
UID:11731882@ezleagues.ezfacility.com
DTSTAMP:20260426T035039Z
CREATED:20260426T035039Z
DTSTART:20190124T033000Z
DTEND:20190124T042000Z
LOCATION:zMeadowvale 4 Rinks #2
CONTACT:
SUMMARY:Northstars VS. Buds
DESCRIPTION:League Name: MSL Hockey League - Wednesday - Holtby\nGame Type:
  Regular\nGame Status: Complete\nHome Team: Northstars\nAway Team: Buds\nH
 ome Score: 5\nAway Score: 1
END:VEVENT
BEGIN:VEVENT
UID:11731890@ezleagues.ezfacility.com
DTSTAMP:20260426T035039Z
CREATED:20260426T035039Z
DTSTART:20190131T013000Z
DTEND:20190131T022000Z
LOCATION:zIceland Rink 2
CONTACT:
SUMMARY:The Drifters VS. Buds
DESCRIPTION:League Name: MSL Hockey League - Wednesday - Holtby\nGame Type:
  Regular\nGame Status: Complete\nHome Team: The Drifters\nAway Team: Buds\
 nHome Score: 2\nAway Score: 6
END:VEVENT
BEGIN:VEVENT
UID:11731899@ezleagues.ezfacility.com
DTSTAMP:20260426T035039Z
CREATED:20260426T035039Z
DTSTART:20190207T003000Z
DTEND:20190207T012000Z
LOCATION:zIceland Rink 2
CONTACT:
SUMMARY:Buds VS. Reality Kings
DESCRIPTION:League Name: MSL Hockey League - Wednesday - Holtby\nGame Type:
  Regular\nGame Status: Complete\nHome Team: Buds\nAway Team: Reality Kings
 \nHome Score: 3\nAway Score: 0
END:VEVENT
BEGIN:VEVENT
UID:11731846@ezleagues.ezfacility.com
DTSTAMP:20260426T035039Z
CREATED:20260426T035039Z
DTSTART:20190214T023000Z
DTEND:20190214T032000Z
LOCATION:zIceland Rink 2
CONTACT:
SUMMARY:Buds VS. Mighty Drunks
DESCRIPTION:League Name: MSL Hockey League - Wednesday - Holtby\nGame Type:
  Regular\nGame Status: Complete\nHome Team: Buds\nAway Team: Mighty Drunks
 \nHome Score: 3\nAway Score: 0
END:VEVENT
BEGIN:VEVENT
UID:12146052@ezleagues.ezfacility.com
DTSTAMP:20260426T035039Z
CREATED:20260426T035039Z
DTSTART:20190221T033000Z
DTEND:20190221T043000Z
LOCATION:zMeadowvale 4 Rinks #2
CONTACT:
SUMMARY:Buds VS. YYZ Hogs
DESCRIPTION:League Name: MSL Hockey League - Wednesday - Holtby\nGame Type:
  Regular\nGame Status: Complete\nHome Team: Buds\nAway Team: YYZ Hogs\nHom
 e Score: 6\nAway Score: 4
END:VEVENT
BEGIN:VEVENT
UID:12146106@ezleagues.ezfacility.com
DTSTAMP:20260426T035039Z
CREATED:20260426T035039Z
DTSTART:20190225T010000Z
DTEND:20190225T020000Z
LOCATION:zIceland Rink 1
CONTACT:
SUMMARY:The Drifters VS. Buds
DESCRIPTION:League Name: MSL Hockey League - Wednesday - Holtby\nGame Type:
  Regular\nGame Status: Complete\nHome Team: The Drifters\nAway Team: Buds\
 nHome Score: 4\nAway Score: 2
END:VEVENT
BEGIN:VEVENT
UID:12189343@ezleagues.ezfacility.com
DTSTAMP:20260426T035039Z
CREATED:20260426T035039Z
DTSTART:20190228T003000Z
DTEND:20190228T012000Z
LOCATION:zIceland Rink 2
CONTACT:
SUMMARY:Northstars VS. Buds
DESCRIPTION:League Name: MSL Hockey League - Wednesday - Holtby\nGame Type:
  Regular\nGame Status: Complete\nHome Team: Northstars\nAway Team: Buds\nH
 ome Score: 4\nAway Score: 3
END:VEVENT
BEGIN:VEVENT
UID:12189366@ezleagues.ezfacility.com
DTSTAMP:20260426T035039Z
CREATED:20260426T035039Z
DTSTART:20190307T023000Z
DTEND:20190307T032000Z
LOCATION:zIceland Rink 4
CONTACT:
SUMMARY:Buds VS. The Drifters
DESCRIPTION:League Name: MSL Hockey League - Wednesday - Holtby\nGame Type:
  Postseason\nGame Status: Complete\nHome Team: Buds\nAway Team: The Drifte
 rs\nHome Score: 2\nAway Score: 0
END:VEVENT
BEGIN:VEVENT
UID:12189370@ezleagues.ezfacility.com
DTSTAMP:20260426T035039Z
CREATED:20260426T035039Z
DTSTART:20190320T233000Z
DTEND:20190321T002000Z
LOCATION:zIceland Rink 2
CONTACT:
SUMMARY:Muffin Men VS. Buds
DESCRIPTION:League Name: MSL Hockey League - Wednesday - Holtby\nGame Type:
  Postseason\nGame Status: Complete\nHome Team: Muffin Men\nAway Team: Buds
 \nHome Score: 7\nAway Score: 2
END:VEVENT
END:VCALENDAR
