BEGIN:VCALENDAR
VERSION:2.0
PRODID:-//EZFacility.com, Inc.//EZL 2.5.5.28621
BEGIN:VEVENT
UID:11816863@ezleagues.ezfacility.com
DTSTAMP:20260426T034046Z
CREATED:20260426T034046Z
DTSTART:20181105T010000Z
DTEND:20181105T020000Z
LOCATION:Field 2
CONTACT:Bouazza 
SUMMARY:Old Farts\, FC VS. Second Place
DESCRIPTION:League Name: Winter 1-Adult-Coed - Europa\nGame Type: Regular\n
 Game Status: Complete\nHome Team: Old Farts, FC\nAway Team: Second Place\n
 Home Score: 3\nAway Score: 10
END:VEVENT
BEGIN:VEVENT
UID:11816868@ezleagues.ezfacility.com
DTSTAMP:20260426T034046Z
CREATED:20260426T034046Z
DTSTART:20181112T011500Z
DTEND:20181112T021500Z
LOCATION:Field 2
CONTACT:Bouazza 
SUMMARY:Old Farts\, FC VS. GT United
DESCRIPTION:League Name: Winter 1-Adult-Coed - Europa\nGame Type: Regular\n
 Game Status: Complete\nHome Team: Old Farts, FC\nAway Team: GT United\nHom
 e Score: 3\nAway Score: 2
END:VEVENT
BEGIN:VEVENT
UID:11816873@ezleagues.ezfacility.com
DTSTAMP:20260426T034046Z
CREATED:20260426T034046Z
DTSTART:20181117T020000Z
DTEND:20181117T030000Z
LOCATION:Field 2
CONTACT:
SUMMARY:Old Farts\, FC VS. Soccer McSoccerface
DESCRIPTION:League Name: Winter 1-Adult-Coed - Europa\nGame Type: Regular\n
 Game Status: Complete\nHome Team: Old Farts, FC\nAway Team: Soccer McSocce
 rface\nHome Score: 5\nAway Score: 3
END:VEVENT
BEGIN:VEVENT
UID:11816877@ezleagues.ezfacility.com
DTSTAMP:20260426T034046Z
CREATED:20260426T034046Z
DTSTART:20181125T231500Z
DTEND:20181126T001500Z
LOCATION:Field 2
CONTACT:Goyzueta 
SUMMARY:Dumpster Fire FC VS. Old Farts\, FC
DESCRIPTION:League Name: Winter 1-Adult-Coed - Europa\nGame Type: Regular\n
 Game Status: Complete\nHome Team: Dumpster Fire FC\nAway Team: Old Farts, 
 FC\nHome Score: 6\nAway Score: 4
END:VEVENT
BEGIN:VEVENT
UID:11816880@ezleagues.ezfacility.com
DTSTAMP:20260426T034046Z
CREATED:20260426T034046Z
DTSTART:20181201T010000Z
DTEND:20181201T020000Z
LOCATION:Field 2
CONTACT:Goyzueta 
SUMMARY:Multiple Scores VS. Old Farts\, FC
DESCRIPTION:League Name: Winter 1-Adult-Coed - Europa\nGame Type: Regular\n
 Game Status: Complete\nHome Team: Multiple Scores\nAway Team: Old Farts, F
 C\nHome Score: 9\nAway Score: 2
END:VEVENT
BEGIN:VEVENT
UID:11816883@ezleagues.ezfacility.com
DTSTAMP:20260426T034046Z
CREATED:20260426T034046Z
DTSTART:20181210T011500Z
DTEND:20181210T021500Z
LOCATION:Field 2
CONTACT:Bouazza 
SUMMARY:Beazley FC VS. Old Farts\, FC
DESCRIPTION:League Name: Winter 1-Adult-Coed - Europa\nGame Type: Regular\n
 Game Status: Complete\nHome Team: Beazley FC\nAway Team: Old Farts, FC\nHo
 me Score: 2\nAway Score: 2
END:VEVENT
BEGIN:VEVENT
UID:11816886@ezleagues.ezfacility.com
DTSTAMP:20260426T034046Z
CREATED:20260426T034046Z
DTSTART:20181215T020000Z
DTEND:20181215T030000Z
LOCATION:Field 2
CONTACT:Goyzueta 
SUMMARY:Harwinton Strikers VS. Old Farts\, FC
DESCRIPTION:League Name: Winter 1-Adult-Coed - Europa\nGame Type: Regular\n
 Game Status: Complete\nHome Team: Harwinton Strikers\nAway Team: Old Farts
 , FC\nHome Score: 3\nAway Score: 10
END:VEVENT
END:VCALENDAR
