BEGIN:VCALENDAR
VERSION:2.0
PRODID:-//EZFacility.com, Inc.//EZL 2.5.5.28621
BEGIN:VEVENT
UID:11848132@ezleagues.ezfacility.com
DTSTAMP:20260426T033808Z
CREATED:20260426T033808Z
DTSTART:20181101T223000Z
DTEND:20181101T231500Z
LOCATION:Field 2C (Rec)
CONTACT:
SUMMARY:1st/2nd Silver VS. 1st/2nd Neon Green
DESCRIPTION:League Name: Winter Soccer-Winter I-5v5 League-1st/2nd Grade\nG
 ame Type: Regular\nGame Status: Complete\nHome Team: 1st/2nd Silver\nAway 
 Team: 1st/2nd Neon Green\nHome Score: 5\nAway Score: 6
END:VEVENT
BEGIN:VEVENT
UID:11848140@ezleagues.ezfacility.com
DTSTAMP:20260426T033808Z
CREATED:20260426T033808Z
DTSTART:20181108T233000Z
DTEND:20181109T001500Z
LOCATION:Field 2A (Rec)
CONTACT:
SUMMARY:1st/2nd Neon Green VS. 1st/2nd Maroon
DESCRIPTION:League Name: Winter Soccer-Winter I-5v5 League-1st/2nd Grade\nG
 ame Type: Regular\nGame Status: Complete\nHome Team: 1st/2nd Neon Green\nA
 way Team: 1st/2nd Maroon\nHome Score: 9\nAway Score: 6
END:VEVENT
BEGIN:VEVENT
UID:11848147@ezleagues.ezfacility.com
DTSTAMP:20260426T033808Z
CREATED:20260426T033808Z
DTSTART:20181115T233000Z
DTEND:20181116T001500Z
LOCATION:Field 2B (Rec)
CONTACT:
SUMMARY:1st/2nd Neon Green VS. 1st/2nd Blue
DESCRIPTION:League Name: Winter Soccer-Winter I-5v5 League-1st/2nd Grade\nG
 ame Type: Regular\nGame Status: Complete\nHome Team: 1st/2nd Neon Green\nA
 way Team: 1st/2nd Blue\nHome Score: 3\nAway Score: 0
END:VEVENT
BEGIN:VEVENT
UID:11848154@ezleagues.ezfacility.com
DTSTAMP:20260426T033808Z
CREATED:20260426T033808Z
DTSTART:20181120T233000Z
DTEND:20181121T001500Z
LOCATION:Field 2B (Rec)
CONTACT:
SUMMARY:1st/2nd Green VS. 1st/2nd Neon Green
DESCRIPTION:League Name: Winter Soccer-Winter I-5v5 League-1st/2nd Grade\nG
 ame Type: Regular\nGame Status: Complete\nHome Team: 1st/2nd Green\nAway T
 eam: 1st/2nd Neon Green\nHome Score: 5\nAway Score: 4
END:VEVENT
BEGIN:VEVENT
UID:11848163@ezleagues.ezfacility.com
DTSTAMP:20260426T033808Z
CREATED:20260426T033808Z
DTSTART:20181129T233000Z
DTEND:20181130T001500Z
LOCATION:Field 2A (Rec)
CONTACT:
SUMMARY:1st/2nd Neon Green VS. 1st/2nd Orange
DESCRIPTION:League Name: Winter Soccer-Winter I-5v5 League-1st/2nd Grade\nG
 ame Type: Regular\nGame Status: Complete\nHome Team: 1st/2nd Neon Green\nA
 way Team: 1st/2nd Orange\nHome Score: 8\nAway Score: 5
END:VEVENT
BEGIN:VEVENT
UID:11848172@ezleagues.ezfacility.com
DTSTAMP:20260426T033808Z
CREATED:20260426T033808Z
DTSTART:20181206T233000Z
DTEND:20181207T001500Z
LOCATION:Field 2C (Rec)
CONTACT:
SUMMARY:1st/2nd Neon Green VS. 1st/2nd Silver
DESCRIPTION:League Name: Winter Soccer-Winter I-5v5 League-1st/2nd Grade\nG
 ame Type: Regular\nGame Status: Complete\nHome Team: 1st/2nd Neon Green\nA
 way Team: 1st/2nd Silver\nHome Score: 4\nAway Score: 3
END:VEVENT
BEGIN:VEVENT
UID:11848180@ezleagues.ezfacility.com
DTSTAMP:20260426T033808Z
CREATED:20260426T033808Z
DTSTART:20181213T233000Z
DTEND:20181214T001500Z
LOCATION:Field 2C (Rec)
CONTACT:
SUMMARY:1st/2nd Maroon VS. 1st/2nd Neon Green
DESCRIPTION:League Name: Winter Soccer-Winter I-5v5 League-1st/2nd Grade\nG
 ame Type: Regular\nGame Status: Complete\nHome Team: 1st/2nd Maroon\nAway 
 Team: 1st/2nd Neon Green\nHome Score: 6\nAway Score: 7
END:VEVENT
BEGIN:VEVENT
UID:11848187@ezleagues.ezfacility.com
DTSTAMP:20260426T033808Z
CREATED:20260426T033808Z
DTSTART:20181220T233000Z
DTEND:20181221T001500Z
LOCATION:Field 2A (Rec)
CONTACT:
SUMMARY:1st/2nd Green VS. 1st/2nd Neon Green
DESCRIPTION:League Name: Winter Soccer-Winter I-5v5 League-1st/2nd Grade\nG
 ame Type: Postseason\nGame Status: Pending\nHome Team: 1st/2nd Green\nAway
  Team: 1st/2nd Neon Green\n
END:VEVENT
END:VCALENDAR
