BEGIN:VCALENDAR
VERSION:2.0
PRODID:-//EZFacility.com, Inc.//EZL 2.5.5.28621
BEGIN:VEVENT
UID:11853537@ezleagues.ezfacility.com
DTSTAMP:20260426T033628Z
CREATED:20260426T033628Z
DTSTART:20181111T180000Z
DTEND:20181111T190000Z
LOCATION:Field 1
CONTACT:
SUMMARY:West Hartford U11 B (West) VS. Farmington U11 B  (West)
DESCRIPTION:League Name: Winter 1-Youth Competitive-Boys-U11 (2008)\nGame T
 ype: Regular\nGame Status: Complete\nHome Team: West Hartford U11 B (West)
 \nAway Team: Farmington U11 B  (West)\nHome Score: 2\nAway Score: 3
END:VEVENT
BEGIN:VEVENT
UID:11853546@ezleagues.ezfacility.com
DTSTAMP:20260426T033628Z
CREATED:20260426T033628Z
DTSTART:20181117T000000Z
DTEND:20181117T010000Z
LOCATION:Field 3 
CONTACT:Mucka D
SUMMARY:Farmington U11 B  (West) VS. Middletown Magic U08 (West)
DESCRIPTION:League Name: Winter 1-Youth Competitive-Boys-U11 (2008)\nGame T
 ype: Regular\nGame Status: Complete\nHome Team: Farmington U11 B  (West)\n
 Away Team: Middletown Magic U08 (West)\nHome Score: 3\nAway Score: 1
END:VEVENT
BEGIN:VEVENT
UID:11853551@ezleagues.ezfacility.com
DTSTAMP:20260426T033628Z
CREATED:20260426T033628Z
DTSTART:20181125T150000Z
DTEND:20181125T160000Z
LOCATION:Field 1
CONTACT:Behmke
SUMMARY:Canton Galaxy (West) VS. Farmington U11 B  (West)
DESCRIPTION:League Name: Winter 1-Youth Competitive-Boys-U11 (2008)\nGame T
 ype: Regular\nGame Status: Complete\nHome Team: Canton Galaxy (West)\nAway
  Team: Farmington U11 B  (West)\nHome Score: 7\nAway Score: 0
END:VEVENT
BEGIN:VEVENT
UID:11853558@ezleagues.ezfacility.com
DTSTAMP:20260426T033628Z
CREATED:20260426T033628Z
DTSTART:20181202T150000Z
DTEND:20181202T160000Z
LOCATION:Field 1
CONTACT:
SUMMARY:Victory SC '08/09  (West) VS. Farmington U11 B  (West)
DESCRIPTION:League Name: Winter 1-Youth Competitive-Boys-U11 (2008)\nGame T
 ype: Regular\nGame Status: Complete\nHome Team: Victory SC '08/09  (West)\
 nAway Team: Farmington U11 B  (West)\nHome Score: 1\nAway Score: 4
END:VEVENT
BEGIN:VEVENT
UID:11853566@ezleagues.ezfacility.com
DTSTAMP:20260426T033628Z
CREATED:20260426T033628Z
DTSTART:20181207T220000Z
DTEND:20181207T230000Z
LOCATION:Field 3 
CONTACT:Bach
SUMMARY:FSA FC '08 CT (West)  VS. Farmington U11 B  (West)
DESCRIPTION:League Name: Winter 1-Youth Competitive-Boys-U11 (2008)\nGame T
 ype: Regular\nGame Status: Complete\nHome Team: FSA FC '08 CT (West) \nAwa
 y Team: Farmington U11 B  (West)\nHome Score: 1\nAway Score: 7
END:VEVENT
BEGIN:VEVENT
UID:11853582@ezleagues.ezfacility.com
DTSTAMP:20260426T033628Z
CREATED:20260426T033628Z
DTSTART:20181208T151500Z
DTEND:20181208T161500Z
LOCATION:Field 3 
CONTACT:
SUMMARY:FSA FC '08 White  (East) VS. Farmington U11 B  (West)
DESCRIPTION:League Name: Winter 1-Youth Competitive-Boys-U11 (2008)\nGame T
 ype: Regular\nGame Status: Complete\nHome Team: FSA FC '08 White  (East)\n
 Away Team: Farmington U11 B  (West)\nHome Score: 8\nAway Score: 1
END:VEVENT
BEGIN:VEVENT
UID:11853574@ezleagues.ezfacility.com
DTSTAMP:20260426T033628Z
CREATED:20260426T033628Z
DTSTART:20181214T220000Z
DTEND:20181214T230000Z
LOCATION:Field 3 
CONTACT:Kochin 
SUMMARY:Farmington U11 B  (West) VS. Bristol Buldogs U11 (West)
DESCRIPTION:League Name: Winter 1-Youth Competitive-Boys-U11 (2008)\nGame T
 ype: Regular\nGame Status: Complete\nHome Team: Farmington U11 B  (West)\n
 Away Team: Bristol Buldogs U11 (West)\nHome Score: 3\nAway Score: 0
END:VEVENT
END:VCALENDAR
