BEGIN:VCALENDAR
VERSION:2.0
PRODID:-//EZFacility.com, Inc.//EZL 2.5.5.28621
BEGIN:VEVENT
UID:12146652@ezleagues.ezfacility.com
DTSTAMP:20260424T043208Z
CREATED:20260424T043208Z
DTSTART:20190126T170000Z
DTEND:20190126T180000Z
LOCATION:Jessup 5v5 Field #3
CONTACT:
SUMMARY:A3 Norwich VS. PSC Dragons
DESCRIPTION:League Name: SDI Sat. (U7/8 Boys) 5v5-League (2012/2011) \nGame
  Type: Regular\nGame Status: Complete\nHome Team: A3 Norwich\nAway Team: P
 SC Dragons\nHome Score: 8\nAway Score: 2
END:VEVENT
BEGIN:VEVENT
UID:12146657@ezleagues.ezfacility.com
DTSTAMP:20260424T043208Z
CREATED:20260424T043208Z
DTSTART:20190202T160000Z
DTEND:20190202T170000Z
LOCATION:Jessup 5v5 Field #3
CONTACT:
SUMMARY:PSC Dragons VS. Academia Glen Burnie 
DESCRIPTION:League Name: SDI Sat. (U7/8 Boys) 5v5-League (2012/2011) \nGame
  Type: Regular\nGame Status: Complete\nHome Team: PSC Dragons\nAway Team: 
 Academia Glen Burnie \nHome Score: 3\nAway Score: 8
END:VEVENT
BEGIN:VEVENT
UID:12146662@ezleagues.ezfacility.com
DTSTAMP:20260424T043208Z
CREATED:20260424T043208Z
DTSTART:20190209T170000Z
DTEND:20190209T180000Z
LOCATION:Jessup 5v5 Field #3
CONTACT:
SUMMARY:PSC Dragons VS. Flash
DESCRIPTION:League Name: SDI Sat. (U7/8 Boys) 5v5-League (2012/2011) \nGame
  Type: Regular\nGame Status: Complete\nHome Team: PSC Dragons\nAway Team: 
 Flash\nHome Score: 0\nAway Score: 8
END:VEVENT
BEGIN:VEVENT
UID:12146666@ezleagues.ezfacility.com
DTSTAMP:20260424T043208Z
CREATED:20260424T043208Z
DTSTART:20190216T180000Z
DTEND:20190216T190000Z
LOCATION:Jessup 5v5 Field #3
CONTACT:
SUMMARY:PSC Dynamo Dena VS. PSC Dragons
DESCRIPTION:League Name: SDI Sat. (U7/8 Boys) 5v5-League (2012/2011) \nGame
  Type: Regular\nGame Status: Complete\nHome Team: PSC Dynamo Dena\nAway Te
 am: PSC Dragons\nHome Score: 8\nAway Score: 0
END:VEVENT
BEGIN:VEVENT
UID:12146669@ezleagues.ezfacility.com
DTSTAMP:20260424T043208Z
CREATED:20260424T043208Z
DTSTART:20190223T190000Z
DTEND:20190223T200000Z
LOCATION:Jessup 5v5 Field #3
CONTACT:
SUMMARY:YCSA II VS. PSC Dragons
DESCRIPTION:League Name: SDI Sat. (U7/8 Boys) 5v5-League (2012/2011) \nGame
  Type: Regular\nGame Status: Complete\nHome Team: YCSA II\nAway Team: PSC 
 Dragons\nHome Score: 3\nAway Score: 1
END:VEVENT
BEGIN:VEVENT
UID:12146672@ezleagues.ezfacility.com
DTSTAMP:20260424T043208Z
CREATED:20260424T043208Z
DTSTART:20190302T180000Z
DTEND:20190302T190000Z
LOCATION:Jessup 5v5 Field #3
CONTACT:
SUMMARY:YCSA VS. PSC Dragons
DESCRIPTION:League Name: SDI Sat. (U7/8 Boys) 5v5-League (2012/2011) \nGame
  Type: Regular\nGame Status: Complete\nHome Team: YCSA\nAway Team: PSC Dra
 gons\nHome Score: 8\nAway Score: 0
END:VEVENT
BEGIN:VEVENT
UID:12146675@ezleagues.ezfacility.com
DTSTAMP:20260424T043208Z
CREATED:20260424T043208Z
DTSTART:20190309T190000Z
DTEND:20190309T200000Z
LOCATION:Jessup 5v5 Field #3
CONTACT:
SUMMARY:PSC Dragons VS. SDFC 2011
DESCRIPTION:League Name: SDI Sat. (U7/8 Boys) 5v5-League (2012/2011) \nGame
  Type: Regular\nGame Status: Complete\nHome Team: PSC Dragons\nAway Team: 
 SDFC 2011\nHome Score: 0\nAway Score: 8
END:VEVENT
BEGIN:VEVENT
UID:12193149@ezleagues.ezfacility.com
DTSTAMP:20260424T043208Z
CREATED:20260424T043208Z
DTSTART:20190323T160000Z
DTEND:20190323T170000Z
LOCATION:Jessup 5v5 Field #3
CONTACT:
SUMMARY:PSC Dragons VS. YCSA
DESCRIPTION:League Name: SDI Sat. (U7/8 Boys) 5v5-League (2012/2011) \nGame
  Type: Regular\nGame Status: Complete\nHome Team: PSC Dragons\nAway Team: 
 YCSA\nHome Score: 3\nAway Score: 8
END:VEVENT
END:VCALENDAR
