BEGIN:VCALENDAR
VERSION:2.0
PRODID:-//EZFacility.com, Inc.//EZL 2.5.5.28621
BEGIN:VEVENT
UID:12146656@ezleagues.ezfacility.com
DTSTAMP:20260424T043224Z
CREATED:20260424T043224Z
DTSTART:20190202T170000Z
DTEND:20190202T180000Z
LOCATION:Jessup 5v5 Field #3
CONTACT:
SUMMARY:PSC Dynamo Dena VS. YCSA II
DESCRIPTION:League Name: SDI Sat. (U7/8 Boys) 5v5-League (2012/2011) \nGame
  Type: Regular\nGame Status: Complete\nHome Team: PSC Dynamo Dena\nAway Te
 am: YCSA II\nHome Score: 8\nAway Score: 3
END:VEVENT
BEGIN:VEVENT
UID:12146661@ezleagues.ezfacility.com
DTSTAMP:20260424T043224Z
CREATED:20260424T043224Z
DTSTART:20190209T180000Z
DTEND:20190209T190000Z
LOCATION:Jessup 5v5 Field #3
CONTACT:
SUMMARY:PSC Dynamo Dena VS. YCSA
DESCRIPTION:League Name: SDI Sat. (U7/8 Boys) 5v5-League (2012/2011) \nGame
  Type: Regular\nGame Status: Complete\nHome Team: PSC Dynamo Dena\nAway Te
 am: YCSA\nHome Score: 4\nAway Score: 5
END:VEVENT
BEGIN:VEVENT
UID:12146666@ezleagues.ezfacility.com
DTSTAMP:20260424T043224Z
CREATED:20260424T043224Z
DTSTART:20190216T180000Z
DTEND:20190216T190000Z
LOCATION:Jessup 5v5 Field #3
CONTACT:
SUMMARY:PSC Dynamo Dena VS. PSC Dragons
DESCRIPTION:League Name: SDI Sat. (U7/8 Boys) 5v5-League (2012/2011) \nGame
  Type: Regular\nGame Status: Complete\nHome Team: PSC Dynamo Dena\nAway Te
 am: PSC Dragons\nHome Score: 8\nAway Score: 0
END:VEVENT
BEGIN:VEVENT
UID:12146670@ezleagues.ezfacility.com
DTSTAMP:20260424T043224Z
CREATED:20260424T043224Z
DTSTART:20190223T160000Z
DTEND:20190223T170000Z
LOCATION:Jessup 5v5 Field #3
CONTACT:
SUMMARY:A3 Norwich VS. PSC Dynamo Dena
DESCRIPTION:League Name: SDI Sat. (U7/8 Boys) 5v5-League (2012/2011) \nGame
  Type: Regular\nGame Status: Complete\nHome Team: A3 Norwich\nAway Team: P
 SC Dynamo Dena\nHome Score: 8\nAway Score: 0
END:VEVENT
BEGIN:VEVENT
UID:12146673@ezleagues.ezfacility.com
DTSTAMP:20260424T043224Z
CREATED:20260424T043224Z
DTSTART:20190302T190000Z
DTEND:20190302T200000Z
LOCATION:Jessup 5v5 Field #3
CONTACT:
SUMMARY:Academia Glen Burnie  VS. PSC Dynamo Dena
DESCRIPTION:League Name: SDI Sat. (U7/8 Boys) 5v5-League (2012/2011) \nGame
  Type: Regular\nGame Status: Complete\nHome Team: Academia Glen Burnie \nA
 way Team: PSC Dynamo Dena\nHome Score: 6\nAway Score: 3
END:VEVENT
BEGIN:VEVENT
UID:12146676@ezleagues.ezfacility.com
DTSTAMP:20260424T043224Z
CREATED:20260424T043224Z
DTSTART:20190309T170000Z
DTEND:20190309T180000Z
LOCATION:Jessup 5v5 Field #3
CONTACT:
SUMMARY:YCSA VS. PSC Dynamo Dena
DESCRIPTION:League Name: SDI Sat. (U7/8 Boys) 5v5-League (2012/2011) \nGame
  Type: Regular\nGame Status: Complete\nHome Team: YCSA\nAway Team: PSC Dyn
 amo Dena\nHome Score: 1\nAway Score: 3
END:VEVENT
BEGIN:VEVENT
UID:12146681@ezleagues.ezfacility.com
DTSTAMP:20260424T043224Z
CREATED:20260424T043224Z
DTSTART:20190316T150000Z
DTEND:20190316T160000Z
LOCATION:Jessup 5v5 Field #3
CONTACT:
SUMMARY:PSC Dynamo Dena VS. YCSA II
DESCRIPTION:League Name: SDI Sat. (U7/8 Boys) 5v5-League (2012/2011) \nGame
  Type: Regular\nGame Status: Complete\nHome Team: PSC Dynamo Dena\nAway Te
 am: YCSA II\nHome Score: 8\nAway Score: 3
END:VEVENT
BEGIN:VEVENT
UID:12146651@ezleagues.ezfacility.com
DTSTAMP:20260424T043224Z
CREATED:20260424T043224Z
DTSTART:20190323T150000Z
DTEND:20190323T160000Z
LOCATION:Jessup 5v5 Field #3
CONTACT:
SUMMARY:SDFC 2011 VS. PSC Dynamo Dena
DESCRIPTION:League Name: SDI Sat. (U7/8 Boys) 5v5-League (2012/2011) \nGame
  Type: Regular\nGame Status: Complete\nHome Team: SDFC 2011\nAway Team: PS
 C Dynamo Dena\nHome Score: 4\nAway Score: 2
END:VEVENT
END:VCALENDAR
