BEGIN:VCALENDAR
VERSION:2.0
PRODID:-//EZFacility.com, Inc.//EZL 2.5.5.28621
BEGIN:VEVENT
UID:11858643@ezleagues.ezfacility.com
DTSTAMP:20260421T210109Z
CREATED:20260421T210109Z
DTSTART:20181104T023000Z
DTEND:20181104T032000Z
LOCATION:Large Field 1
CONTACT:
SUMMARY:Junior VS. Migos Loyalty
DESCRIPTION:League Name: TSA Sat Men`s Open D (11-03-2018)\nGame Type: Regu
 lar\nGame Status: Complete\nHome Team: Junior\nAway Team: Migos Loyalty\nH
 ome Score: 5\nAway Score: 3
END:VEVENT
BEGIN:VEVENT
UID:11858660@ezleagues.ezfacility.com
DTSTAMP:20260421T210109Z
CREATED:20260421T210109Z
DTSTART:20181111T042000Z
DTEND:20181111T051000Z
LOCATION:TSA Field 2
CONTACT:
SUMMARY:Junior VS. Las Chinchinas
DESCRIPTION:League Name: TSA Sat Men`s Open D (11-03-2018)\nGame Type: Regu
 lar\nGame Status: Complete\nHome Team: Junior\nAway Team: Las Chinchinas\n
 Home Score: 3\nAway Score: 5
END:VEVENT
BEGIN:VEVENT
UID:11858676@ezleagues.ezfacility.com
DTSTAMP:20260421T210109Z
CREATED:20260421T210109Z
DTSTART:20181117T232000Z
DTEND:20181118T001000Z
LOCATION:Large Field 1
CONTACT:
SUMMARY:El Roble VS. Junior
DESCRIPTION:League Name: TSA Sat Men`s Open D (11-03-2018)\nGame Type: Regu
 lar\nGame Status: Complete\nHome Team: El Roble\nAway Team: Junior\nHome S
 core: 0\nAway Score: 3
END:VEVENT
BEGIN:VEVENT
UID:11858691@ezleagues.ezfacility.com
DTSTAMP:20260421T210109Z
CREATED:20260421T210109Z
DTSTART:20181124T232000Z
DTEND:20181125T001000Z
LOCATION:TSA Field 2
CONTACT:
SUMMARY:San Martin  VS. Junior
DESCRIPTION:League Name: TSA Sat Men`s Open D (11-03-2018)\nGame Type: Regu
 lar\nGame Status: Complete\nHome Team: San Martin \nAway Team: Junior\nHom
 e Score: 6\nAway Score: 9
END:VEVENT
BEGIN:VEVENT
UID:11858706@ezleagues.ezfacility.com
DTSTAMP:20260421T210109Z
CREATED:20260421T210109Z
DTSTART:20181202T024000Z
DTEND:20181202T033000Z
LOCATION:Large Field 1
CONTACT:
SUMMARY:El Palmarcito FC VS. Junior
DESCRIPTION:League Name: TSA Sat Men`s Open D (11-03-2018)\nGame Type: Regu
 lar\nGame Status: Complete\nHome Team: El Palmarcito FC\nAway Team: Junior
 \nHome Score: 1\nAway Score: 5
END:VEVENT
BEGIN:VEVENT
UID:11858721@ezleagues.ezfacility.com
DTSTAMP:20260421T210109Z
CREATED:20260421T210109Z
DTSTART:20181209T010000Z
DTEND:20181209T015000Z
LOCATION:TSA Field 2
CONTACT:
SUMMARY:Latinos de Barcelona VS. Junior
DESCRIPTION:League Name: TSA Sat Men`s Open D (11-03-2018)\nGame Type: Regu
 lar\nGame Status: Complete\nHome Team: Latinos de Barcelona\nAway Team: Ju
 nior\nHome Score: 3\nAway Score: 3
END:VEVENT
BEGIN:VEVENT
UID:11858738@ezleagues.ezfacility.com
DTSTAMP:20260421T210109Z
CREATED:20260421T210109Z
DTSTART:20181216T010000Z
DTEND:20181216T015000Z
LOCATION:Large Field 1
CONTACT:
SUMMARY:Junior VS. Tepus FC
DESCRIPTION:League Name: TSA Sat Men`s Open D (11-03-2018)\nGame Type: Regu
 lar\nGame Status: Complete\nHome Team: Junior\nAway Team: Tepus FC\nHome S
 core: 5\nAway Score: 4
END:VEVENT
BEGIN:VEVENT
UID:12016187@ezleagues.ezfacility.com
DTSTAMP:20260421T210109Z
CREATED:20260421T210109Z
DTSTART:20181223T033000Z
DTEND:20181223T041800Z
LOCATION:Large Field 1
CONTACT:
SUMMARY:Junior VS. Migos Loyalty
DESCRIPTION:League Name: TSA Sat Men`s Open D (11-03-2018)\nGame Type: Regu
 lar\nGame Status: Complete\nHome Team: Junior\nAway Team: Migos Loyalty\nH
 ome Score: 4\nAway Score: 1
END:VEVENT
BEGIN:VEVENT
UID:12033456@ezleagues.ezfacility.com
DTSTAMP:20260421T210109Z
CREATED:20260421T210109Z
DTSTART:20181230T024000Z
DTEND:20181230T032800Z
LOCATION:Large Field 1
CONTACT:
SUMMARY:Junior VS. San Martin 
DESCRIPTION:League Name: TSA Sat Men`s Open D (11-03-2018)\nGame Type: Regu
 lar\nGame Status: Complete\nHome Team: Junior\nAway Team: San Martin \nHom
 e Score: 2\nAway Score: 1
END:VEVENT
END:VCALENDAR
